Shooting information for this photo
Camera: | PENTAX K-5 |
Exposure: | 0.005 sec. (1/200) |
Aperture: | f/11.0 |
Focal Length: | 18.0 mm (35 mm equivalent: 27.0 mm) |
Flash: | Off, Did not fire |
Exposure mode: | Aperture-priority AE |
Resolution: | 240 x 240 dpi |
Original Date: | 2011:06:14 11:24:27 |
Created on: | 2011:06:14 11:24:27 |
Modified on: | 2017:07:18 23:31:20 |
Software: | Adobe Photoshop Lightroom 6.10.1 (Windows) |
Copyright: | LeoW |
Already Applied | True |
Approximate Focus Distance | 8 |
Artist | LeoW |
Auto Lateral CA | 1 |
Auto White Version | 134348800 |
Blacks 2012 | +6 |
Blue Hue | 0 |
Blue Saturation | 0 |
Camera Profile | Adobe Standard |
Circle Of Confusion | 0.020 mm |
City | Prag |
Clarity 2012 | +84 |
Color Noise Reduction | 25 |
Color Noise Reduction Detail | 50 |
Color Noise Reduction Smoothness | 50 |
Color Space | sRGB |
Color Temperature | 5550 |
Contrast | High |
Contrast 2012 | 0 |
Convert To Grayscale | False |
Country | Tschechien |
Country Code | CZ |
Creator | LeoW |
Crop Angle | 0 |
Crop Bottom | 0.909427 |
Crop Constrain To Warp | 1 |
Crop Left | 0.058703 |
Crop Right | 0.96813 |
Crop Top | 0 |
Custom Rendered | Normal |
Date Created | 2011:06:14 11:24:27 |
Defringe Green Amount | 0 |
Defringe Green Hue Hi | 60 |
Defringe Green Hue Lo | 40 |
Defringe Purple Amount | 0 |
Defringe Purple Hue Hi | 70 |
Defringe Purple Hue Lo | 30 |
Dehaze | 0 |
Exposure 2012 | +0.33 |
Exposure Compensation | 0 |
Exposure Mode | Auto |
Field Of View | 67.4 deg |
Focal Length In 35mm Format | 27 mm |
Format | image/jpeg |
Gradient Based Corr Active | true |
Gradient Based Corr Amount | 1.000000 |
Gradient Based Corr Brightness | 0.000000 |
Gradient Based Corr Clarity 2012 | 0.000000 |
Gradient Based Corr Contrast 2012 | 0.564810 |
Gradient Based Corr Defringe | 0.000000 |
Gradient Based Corr Exposure 2012 | -0.148250 |
Gradient Based Corr Highlights 2012 | 0.000000 |
Gradient Based Corr Hue | 240.000000 |
Gradient Based Corr Local Blacks 2012 | 0.000000 |
Gradient Based Corr Local Dehaze | 0.000000 |
Gradient Based Corr Local Whites 2012 | 0.000000 |
Gradient Based Corr Luminance Noise | 0.000000 |
Gradient Based Corr Mask Full X | 0.828650 |
Gradient Based Corr Mask Full Y | 0.163512 |
Gradient Based Corr Mask Value | 1.000000 |
Gradient Based Corr Mask What | Mask/Gradient |
Gradient Based Corr Mask Zero X | 0.662464 |
Gradient Based Corr Mask Zero Y | 0.806136 |
Gradient Based Corr Moire | 0.000000 |
Gradient Based Corr Saturation | 0.000000 |
Gradient Based Corr Shadows 2012 | 1.000000 |
Gradient Based Corr Sharpness | 0.000000 |
Gradient Based Corr Temperature | 0.000000 |
Gradient Based Corr Tint | 0.000000 |
Gradient Based Corr What | Correction |
Grain Amount | 0 |
Green Hue | 0 |
Green Saturation | 0 |
Has Crop | True |
Has Settings | True |
Highlights 2012 | -42 |
Hue Adjustment Aqua | 0 |
Hue Adjustment Blue | 0 |
Hue Adjustment Green | 0 |
Hue Adjustment Magenta | 0 |
Hue Adjustment Orange | 0 |
Hue Adjustment Purple | 0 |
Hue Adjustment Red | 0 |
Hue Adjustment Yellow | 0 |
Hyperfocal Distance | 1.47 m |
ISO | 100 |
Image Size | 4482x2969 |
Lateral Chromatic Aberration Correction Already Applied | True |
Lens | smc PENTAX-DA 18-55mm F3.5-5.6 AL WR |
Lens ID | smc PENTAX-DA 18-55mm F3.5-5.6 AL WR |
Lens Info | 18-55mm f/3.5-5.6 |
Lens Manual Distortion Amount | 0 |
Lens Model | smc PENTAX-DA 18-55mm F3.5-5.6 AL WR |
Lens Profile Enable | 0 |
Lens Profile Setup | LensDefaults |
Light Value | 14.6 |
Luminance Adjustment Aqua | 0 |
Luminance Adjustment Blue | +28 |
Luminance Adjustment Green | +56 |
Luminance Adjustment Magenta | 0 |
Luminance Adjustment Orange | +3 |
Luminance Adjustment Purple | 0 |
Luminance Adjustment Red | 0 |
Luminance Adjustment Yellow | -31 |
Luminance Smoothing | 0 |
Metering Mode | Multi-segment |
Paint Correction Active | true |
Paint Correction Amount | 1.000000 |
Paint Correction Brightness | 0.000000 |
Paint Correction Clarity 2012 | 0.000000 |
Paint Correction Contrast 2012 | 0.000000 |
Paint Correction Defringe | 0.000000 |
Paint Correction Exposure 2012 | 0.036250 |
Paint Correction Highlights 2012 | 0.000000 |
Paint Correction Hue | 240.000000 |
Paint Correction Local Blacks 2012 | 0.000000 |
Paint Correction Local Dehaze | 0.000000 |
Paint Correction Local Whites 2012 | 0.000000 |
Paint Correction Luminance Noise | 0.000000 |
Paint Correction Mask Center Weight | 0.000000 |
Paint Correction Mask Flow | 1.000000 |
Paint Correction Mask Radius | 0.022153 |
Paint Correction Mask Value | 0.636000 |
Paint Correction Mask What | Mask/Paint |
Paint Correction Moire | 0.000000 |
Paint Correction Saturation | 0.000000 |
Paint Correction Shadows 2012 | 1.000000 |
Paint Correction Sharpness | 0.000000 |
Paint Correction Temperature | 0.000000 |
Paint Correction Tint | 0.000000 |
Paint Correction What | Correction |
Parametric Darks | -5 |
Parametric Highlight Split | 75 |
Parametric Highlights | -1 |
Parametric Lights | -25 |
Parametric Midtone Split | 50 |
Parametric Shadow Split | 17 |
Parametric Shadows | -1 |
Perspective Aspect | 0 |
Perspective Horizontal | +20 |
Perspective Rotate | +2.0 |
Perspective Scale | 100 |
Perspective Upright | 0 |
Perspective Vertical | -18 |
Perspective X | 0.00 |
Perspective Y | 0.00 |
Post Crop Vignette Amount | 0 |
Process Version | 6.7 |
Red Hue | 0 |
Red Saturation | 0 |
Rights | LeoW |
Saturation | Normal |
Saturation Adjustment Aqua | 0 |
Saturation Adjustment Blue | 0 |
Saturation Adjustment Green | 0 |
Saturation Adjustment Magenta | 0 |
Saturation Adjustment Orange | 0 |
Saturation Adjustment Purple | 0 |
Saturation Adjustment Red | 0 |
Saturation Adjustment Yellow | 0 |
Scale Factor To 35 mm Equivalent | 1.5 |
Scene Capture Type | Standard |
Sensing Method | One-chip color area |
Shadow Tint | 0 |
Shadows 2012 | +69 |
Sharpen Detail | 21 |
Sharpen Edge Masking | 0 |
Sharpen Radius | +1.0 |
Sharpness | Hard |
Split Toning Balance | 0 |
Split Toning Highlight Hue | 0 |
Split Toning Highlight Saturation | 0 |
Split Toning Shadow Hue | 0 |
Split Toning Shadow Saturation | 0 |
State | Prag |
Subject Distance Range | Distant |
Tint | +11 |
Title | Erzbischöfliches Palais ++.Arcibiskupský palác. |
Tone Curve | 0, 0, 255, 255 |
Tone Curve Blue | 0, 0, 255, 255 |
Tone Curve Green | 0, 0, 255, 255 |
Tone Curve Name | Linear |
Tone Curve Name 2012 | Linear |
Tone Curve PV2012 | 0, 0, 255, 255 |
Tone Curve PV2012 Blue | 0, 0, 255, 255 |
Tone Curve PV2012 Green | 0, 0, 255, 255 |
Tone Curve PV2012 Red | 0, 0, 255, 255 |
Tone Curve Red | 0, 0, 255, 255 |
Tone Map Strength | 0 |
Version | 9.10.1 |
Vibrance | +36 |
Vignette Amount | 0 |
White Balance | Auto |
Whites 2012 | -47 |
GPS Information |
GPS Altitude | 266.4426 m |
GPS Latitude | 50 deg 5' 20.04" N |
GPS Latitude Ref | North |
GPS Longitude | 14 deg 23' 40.56" E |
GPS Longitude Ref | East |
GPS Position | 50 deg 5' 20.04" N, 14 deg 23' 40.56" E |
GPS Version ID | 2.2.0.0 |