Shooting information for this photo
Camera: | NIKON CORPORATION NIKON D300 |
Resolution: | 240 x 240 dpi |
Dimension: | 1200 x 255 pixels |
Original Date: | 2008:08:04 21:05:59 |
Digitized Date: | 2008:08:04 21:05:59+02:00 |
Created on: | 2008:08:04 21:05:59 |
Modified on: | 2008:08:07 21:18:07 |
Already Applied | True |
Blue Hue | 0 |
Blue Saturation | 0 |
Brightness | 0 |
Camera Profile | Embedded |
Chromatic Aberration B | 0 |
Chromatic Aberration R | 0 |
Clarity | 0 |
Color Noise Reduction | 0 |
Contrast | 0 |
Convert To Grayscale | False |
Crop Angle | 0 |
Crop Bottom | 0.804772 |
Crop Height | 255 |
Crop Left | 0 |
Crop Right | 1 |
Crop Top | 0.063255 |
Crop Unit | pixels |
Crop Width | 1200 |
Defringe | 0 |
Exposure | +0.40 |
Fill Light | 30 |
Green Hue | 0 |
Green Saturation | 0 |
Has Crop | True |
Has Settings | True |
Highlight Recovery | 0 |
Hue Adjustment Aqua | 0 |
Hue Adjustment Blue | 0 |
Hue Adjustment Green | 0 |
Hue Adjustment Magenta | 0 |
Hue Adjustment Orange | 0 |
Hue Adjustment Purple | 0 |
Hue Adjustment Red | 0 |
Hue Adjustment Yellow | 0 |
Image Size | 1200x255 |
Incremental Temperature | +19 |
Incremental Tint | 0 |
Luminance Adjustment Aqua | 0 |
Luminance Adjustment Blue | -5 |
Luminance Adjustment Green | 0 |
Luminance Adjustment Magenta | 0 |
Luminance Adjustment Orange | 0 |
Luminance Adjustment Purple | 0 |
Luminance Adjustment Red | 0 |
Luminance Adjustment Yellow | 0 |
Luminance Smoothing | 0 |
Parametric Darks | +10 |
Parametric Highlight Split | 75 |
Parametric Highlights | -27 |
Parametric Lights | -41 |
Parametric Midtone Split | 50 |
Parametric Shadow Split | 25 |
Parametric Shadows | -21 |
Post Crop Vignette Amount | 0 |
Red Hue | 0 |
Red Saturation | 0 |
Saturation | +8 |
Saturation Adjustment Aqua | 0 |
Saturation Adjustment Blue | +18 |
Saturation Adjustment Green | -31 |
Saturation Adjustment Magenta | 0 |
Saturation Adjustment Orange | 0 |
Saturation Adjustment Purple | 0 |
Saturation Adjustment Red | +30 |
Saturation Adjustment Yellow | 0 |
Shadow Tint | 0 |
Shadows | 2 |
Sharpen Detail | 25 |
Sharpen Edge Masking | 0 |
Sharpen Radius | +1.0 |
Sharpness | 0 |
Split Toning Balance | 0 |
Split Toning Highlight Hue | 0 |
Split Toning Highlight Saturation | 0 |
Split Toning Shadow Hue | 0 |
Split Toning Shadow Saturation | 0 |
Title | Panorama Moor |
Tone Curve | 0, 0, 255, 255 |
Tone Curve Name | Linear |
User Comment | by LGW, lgw@dark-reality.de |
Version | 4.5 |
Vibrance | 0 |
Vignette Amount | 0 |
White Balance | Custom |