Shooting information for this photo
Camera: | NIKON CORPORATION NIKON D300 |
Exposure: | 0.0005 sec. (1/2000) |
Aperture: | f/3.8 |
Focal Length: | 22.0 mm (35 mm equivalent: 33.0 mm) |
Flash: | No Flash |
Exposure mode: | Aperture-priority AE |
Max Aperture: | 3.7 |
Resolution: | 240 x 240 dpi |
Dimension: | 1600 x 1063 pixels |
Original Date: | 2012:07:29 15:35:25.39 |
Digitized Date: | 2012:07:29 15:35:25.39+02:00 |
Created on: | 2012:07:29 15:35:25.39 |
Modified on: | 2012:07:30 02:15:53 |
Software: | Ver.1.00 |
Already Applied | True |
Blue Hue | 0 |
Blue Saturation | 0 |
Brightness | +50 |
CFA Pattern | [Red,Green][Green,Blue] |
Camera Profile | Camera Neutral |
Chromatic Aberration B | 0 |
Chromatic Aberration R | 0 |
Circle Of Confusion | 0.020 mm |
Clarity | 0 |
Color Noise Reduction | 25 |
Color Temperature | 5000 |
Contrast | +25 |
Convert To Grayscale | False |
Crop Angle | 0 |
Crop Bottom | 0.883118 |
Crop Height | 1063 |
Crop Left | 0.116882 |
Crop Right | 1 |
Crop Top | 0 |
Crop Unit | pixels |
Crop Width | 1600 |
Custom Rendered | Normal |
Defringe | 0 |
Depth Of Field | inf (6.36 m - inf) |
Digital Zoom Ratio | 1 |
Exposure | 0.00 |
Exposure Compensation | 0 |
Exposure Mode | Auto |
Field Of View | 57.2 deg |
Fill Light | 0 |
Flash Fired | False |
Flash Function | False |
Flash Mode | Unknown |
Flash Red Eye Mode | False |
Flash Return | No return detection |
Focal Length In 35mm Format | 33 mm |
Gain Control | None |
Green Hue | 0 |
Green Saturation | 0 |
Has Crop | True |
Has Settings | True |
Highlight Recovery | 0 |
Hue Adjustment Aqua | 0 |
Hue Adjustment Blue | 0 |
Hue Adjustment Green | 0 |
Hue Adjustment Magenta | 0 |
Hue Adjustment Orange | 0 |
Hue Adjustment Purple | 0 |
Hue Adjustment Red | 0 |
Hue Adjustment Yellow | 0 |
Hyperfocal Distance | 6.36 m |
ISO | 200 |
Image Number | 25219 |
Image Size | 1600x1063 |
Lens | 18.0-135.0 mm f/3.5-5.6 |
Lens ID | AF-S DX Zoom-Nikkor 18-135mm f/3.5-5.6G IF-ED |
Lens Info | 18-135mm f/3.5-5.6 |
Light Source | Fine Weather |
Light Value | 13.8 |
Luminance Adjustment Aqua | 0 |
Luminance Adjustment Blue | -18 |
Luminance Adjustment Green | 0 |
Luminance Adjustment Magenta | 0 |
Luminance Adjustment Orange | 0 |
Luminance Adjustment Purple | 0 |
Luminance Adjustment Red | 0 |
Luminance Adjustment Yellow | 0 |
Luminance Smoothing | 0 |
Metering Mode | Multi-segment |
Parametric Darks | +13 |
Parametric Highlight Split | 75 |
Parametric Highlights | +8 |
Parametric Lights | -23 |
Parametric Midtone Split | 50 |
Parametric Shadow Split | 29 |
Parametric Shadows | -54 |
Post Crop Vignette Amount | 0 |
Red Hue | 0 |
Red Saturation | 0 |
Saturation | 0 |
Saturation Adjustment Aqua | 0 |
Saturation Adjustment Blue | +27 |
Saturation Adjustment Green | 0 |
Saturation Adjustment Magenta | 0 |
Saturation Adjustment Orange | 0 |
Saturation Adjustment Purple | 0 |
Saturation Adjustment Red | 0 |
Saturation Adjustment Yellow | 0 |
Scale Factor To 35 mm Equivalent | 1.5 |
Scene Capture Type | Standard |
Scene Type | Directly photographed |
Sensing Method | One-chip color area |
Shadow Tint | 0 |
Shadows | 5 |
Sharpen Detail | 25 |
Sharpen Edge Masking | 0 |
Sharpen Radius | +1.0 |
Sharpness | 25 |
Split Toning Balance | 0 |
Split Toning Highlight Hue | 0 |
Split Toning Highlight Saturation | 0 |
Split Toning Shadow Hue | 0 |
Split Toning Shadow Saturation | 0 |
Subject | Bergisches, Tour |
Subject Distance | 4294967295 m |
Subject Distance Range | Unknown |
Tint | +1 |
Title | Mopeds vor die Landschaft bitte - Steht alles noch nicht ordentlich genug! |
Tone Curve | 0, 0, 32, 22, 64, 56, 128, 128, 192, 196, 255, 255 |
Tone Curve Name | Medium Contrast |
User Comment | by LGW, lgw@dark-reality.de |
Version | 5.7 |
Vibrance | 0 |
Vignette Amount | +60 |
Vignette Midpoint | 50 |
White Balance | As Shot |