Shooting information for this photo
Camera: | Canon EOS 5D Mark II |
Exposure: | 0.01 sec. (1/100) |
Aperture: | f/6.3 |
Focal Length: | 35.0 mm (35 mm equivalent: 257.3 mm) |
Flash: | Off, Did not fire |
Exposure mode: | Program AE |
Max Aperture: | 4.0 |
Resolution: | 300 x 300 dpi |
Dimension: | 500 x 750 pixels |
Original Date: | 2009:04:13 16:14:39.14 |
Digitized Date: | 2009:04:13 16:14:39.14+02:00 |
Created on: | 2009:04:13 16:14:39.14 |
Modified on: | 2009:04:26 11:19:13.14 |
Software: | Adobe Photoshop CS4 Windows |
Copyright: | Firas El-Saleh 2009 |
Already Applied | True |
Artist | Firas El-Saleh |
Blue Hue | 0 |
Blue Saturation | 0 |
Brightness | +16 |
Camera Profile | Adobe Standard |
Chromatic Aberration B | 0 |
Chromatic Aberration R | 0 |
Circle Of Confusion | 0.004 mm |
Clarity | 0 |
Color Mode | RGB |
Color Noise Reduction | 25 |
Color Space | Uncalibrated |
Color Temperature | 5200 |
Contrast | +48 |
Convert To Grayscale | False |
Creator | Firas El-Saleh |
Custom Rendered | Normal |
Defringe | 0 |
Exposure | +0.15 |
Exposure Compensation | 0 |
Exposure Mode | Auto |
Field Of View | 8.0 deg |
Fill Light | 0 |
Firmware | 1.0.6 |
Flash Compensation | 0 |
Flash Fired | False |
Flash Function | False |
Flash Mode | Off |
Flash Red Eye Mode | False |
Flash Return | No return detection |
Format | image/jpeg |
Gradient Based Corr Active | true |
Gradient Based Corr Amount | 1.000000 |
Gradient Based Corr Brightness | -0.065000 |
Gradient Based Corr Clarity | 0.000000 |
Gradient Based Corr Contrast | 0.280000 |
Gradient Based Corr Exposure | -0.825000 |
Gradient Based Corr Hue | 50.000000 |
Gradient Based Corr Mask Full X | 1.008518 |
Gradient Based Corr Mask Full Y | -0.025575 |
Gradient Based Corr Mask Value | 1.000000 |
Gradient Based Corr Mask What | Mask/Gradient |
Gradient Based Corr Mask Zero X | 0.872232 |
Gradient Based Corr Mask Zero Y | 0.350384 |
Gradient Based Corr Saturation | 0.590000 |
Gradient Based Corr Sharpness | 0.100000 |
Gradient Based Corr What | Correction |
Green Hue | 0 |
Green Saturation | 0 |
Has Crop | False |
Has Settings | True |
Hierarchical Subject | Places|Syria, Places|Syria|Damascus, Places|Syria|Damascus|Qaymaria h |
Highlight Recovery | 60 |
Hue Adjustment Aqua | 0 |
Hue Adjustment Blue | 0 |
Hue Adjustment Green | 0 |
Hue Adjustment Magenta | 0 |
Hue Adjustment Orange | 0 |
Hue Adjustment Purple | 0 |
Hue Adjustment Red | 0 |
Hue Adjustment Yellow | 0 |
Hyperfocal Distance | 47.57 m |
ICC Profile Name | Adobe RGB (1998) |
ISO | 400 |
Image Number | 0 |
Image Size | 500x750 |
Lens | EF24-105mm f/4L IS USM |
Lens Info | 24-105mm f/? |
Light Value | 10.0 |
Luminance Adjustment Aqua | 0 |
Luminance Adjustment Blue | 0 |
Luminance Adjustment Green | 0 |
Luminance Adjustment Magenta | 0 |
Luminance Adjustment Orange | 0 |
Luminance Adjustment Purple | 0 |
Luminance Adjustment Red | 0 |
Luminance Adjustment Yellow | 0 |
Luminance Smoothing | 0 |
Marked | True |
Metering Mode | Multi-segment |
Owner Name | Firas El-Saleh |
Parametric Darks | 0 |
Parametric Highlight Split | 75 |
Parametric Highlights | 0 |
Parametric Lights | 0 |
Parametric Midtone Split | 50 |
Parametric Shadow Split | 25 |
Parametric Shadows | 0 |
Post Crop Vignette Amount | 0 |
Rating | 0 |
Raw File Name | Syrien_2009_04_13_186.CR2 |
Red Hue | 0 |
Red Saturation | 0 |
Rights | Firas El-Saleh 2009 |
Saturation | 0 |
Saturation Adjustment Aqua | 0 |
Saturation Adjustment Blue | 0 |
Saturation Adjustment Green | 0 |
Saturation Adjustment Magenta | 0 |
Saturation Adjustment Orange | 0 |
Saturation Adjustment Purple | 0 |
Saturation Adjustment Red | 0 |
Saturation Adjustment Yellow | 0 |
Scale Factor To 35 mm Equivalent | 7.4 |
Scene Capture Type | Standard |
Shadow Tint | 0 |
Shadows | 2 |
Sharpen Detail | 25 |
Sharpen Edge Masking | 0 |
Sharpen Radius | +1.0 |
Sharpness | 25 |
Split Toning Balance | 0 |
Split Toning Highlight Hue | 0 |
Split Toning Highlight Saturation | 0 |
Split Toning Shadow Hue | 0 |
Split Toning Shadow Saturation | 0 |
Subject | Damascus, Qaymariah, Syria |
Tint | 0 |
Tone Curve | 0, 0, 32, 22, 64, 56, 128, 128, 192, 196, 255, 255 |
Tone Curve Name | Medium Contrast |
Version | 5.2 |
Vibrance | 0 |
Vignette Amount | 0 |
White Balance | Custom |