Shooting information for this photo
Camera: | Canon EOS 30D |
Exposure: | 0.01667 sec. (1/60) |
Aperture: | f/2.0 |
Focal Length: | 50.0 mm (35 mm equivalent: 80.1 mm) |
Flash: | Off, Did not fire |
Exposure mode: | Manual |
Max Aperture: | 2.0 |
Resolution: | 72 x 72 dpi |
Original Date: | 2014:09:07 12:24:14 |
Created on: | 2014:09:07 12:24:14 |
Modified on: | 2014:09:08 22:27:02 |
Software: | Adobe Photoshop Lightroom 4.0 (Macintosh) |
Copyright: | Graham Hughes 2014 |
Already Applied | True |
Artist | Graham Hughes |
Authors Position | Creative |
Auto Lateral CA | 0 |
Blacks 2012 | 0 |
Blue Hue | 0 |
Blue Saturation | 0 |
Body Serial Number | 930601640 |
Brightness | 0 |
Camera Owner Name | unknown |
Camera Profile | Adobe Standard |
Circle Of Confusion | 0.019 mm |
Clarity | 0 |
Clarity 2012 | 0 |
Color Noise Reduction | 25 |
Color Noise Reduction Detail | 50 |
Contrast | 0 |
Contrast 2012 | +9 |
Convert To Grayscale | False |
Creator | Graham Hughes |
Date Created | 2014:09:07 12:24:14 |
Defringe | 0 |
Description | Canon EOS 30 D. CZ 58mm F2 Biotar M42. Vintage 1952 - 55 |
Exposure | 0.00 |
Exposure 2012 | +0.30 |
Exposure Compensation | 0 |
Exposure Mode | Manual |
Field Of View | 25.3 deg |
Fill Light | 0 |
Firmware | 1.0.6 |
Flash Compensation | 0 |
Format | image/jpeg |
Gradient Based Corr Active | true |
Gradient Based Corr Amount | 1.000000 |
Gradient Based Corr Brightness | 0.000000 |
Gradient Based Corr Clarity 2012 | 0.000000 |
Gradient Based Corr Contrast 2012 | 0.000000 |
Gradient Based Corr Exposure 2012 | 0.000000 |
Gradient Based Corr Highlights 2012 | 0.000000 |
Gradient Based Corr Hue | 240.000000 |
Gradient Based Corr Luminance Noise | 0.000000 |
Gradient Based Corr Mask Full X | 1.003910 |
Gradient Based Corr Mask Full Y | 0.435881 |
Gradient Based Corr Mask Value | 1.000000 |
Gradient Based Corr Mask What | Mask/Gradient |
Gradient Based Corr Mask Zero X | 1.125950 |
Gradient Based Corr Mask Zero Y | 0.432016 |
Gradient Based Corr Moire | 0.000000 |
Gradient Based Corr Saturation | 0.000000 |
Gradient Based Corr Shadows 2012 | 0.000000 |
Gradient Based Corr Sharpness | 0.000000 |
Gradient Based Corr Temperature | 0.000000 |
Gradient Based Corr Tint | 0.000000 |
Gradient Based Corr What | Correction |
Grain Amount | 0 |
Green Hue | 0 |
Green Saturation | 0 |
Has Crop | False |
Has Settings | True |
Highlight Recovery | 0 |
Highlights 2012 | -12 |
Hue Adjustment Aqua | 0 |
Hue Adjustment Blue | 0 |
Hue Adjustment Green | 0 |
Hue Adjustment Magenta | 0 |
Hue Adjustment Orange | 0 |
Hue Adjustment Purple | 0 |
Hue Adjustment Red | 0 |
Hue Adjustment Yellow | 0 |
Hyperfocal Distance | 66.63 m |
ISO | 100 |
Image Description | Canon EOS 30 D. CZ 58mm F2 Biotar M42. Vintage 1952 - 55 |
Image Number | 208 |
Image Size | 533x800 |
Incremental Temperature | +4 |
Incremental Tint | +1 |
Lens | 50.0 mm |
Lens ID | Canon EF 35-80mm f/4-5.6 |
Lens Info | 50mm f/? |
Lens Manual Distortion Amount | 0 |
Lens Model | 50.0 mm |
Lens Profile Enable | 0 |
Lens Profile Setup | LensDefaults |
Lens Specification | 50, 50, undef, undef |
Light Value | 7.9 |
Luminance Adjustment Aqua | 0 |
Luminance Adjustment Blue | 0 |
Luminance Adjustment Green | 0 |
Luminance Adjustment Magenta | 0 |
Luminance Adjustment Orange | +46 |
Luminance Adjustment Purple | 0 |
Luminance Adjustment Red | +18 |
Luminance Adjustment Yellow | +10 |
Luminance Smoothing | 0 |
Marked | True |
Metering Mode | Multi-segment |
Owner Name | unknown |
Parametric Darks | +46 |
Parametric Highlight Split | 75 |
Parametric Highlights | +18 |
Parametric Lights | +18 |
Parametric Midtone Split | 50 |
Parametric Shadow Split | 25 |
Parametric Shadows | -3 |
Perspective Horizontal | 0 |
Perspective Rotate | 0.0 |
Perspective Scale | 100 |
Perspective Vertical | 0 |
Photographic Sensitivity | 100 |
Post Crop Vignette Amount | 0 |
Process Version | 6.7 |
Rating | 5 |
Red Hue | 0 |
Red Saturation | 0 |
Rights | Graham Hughes 2014 |
Saturation | -10 |
Saturation Adjustment Aqua | 0 |
Saturation Adjustment Blue | 0 |
Saturation Adjustment Green | 0 |
Saturation Adjustment Magenta | 0 |
Saturation Adjustment Orange | 0 |
Saturation Adjustment Purple | 0 |
Saturation Adjustment Red | 0 |
Saturation Adjustment Yellow | 0 |
Scale Factor To 35 mm Equivalent | 1.6 |
Scene Capture Type | Standard |
Shadow Tint | 0 |
Shadows | 0 |
Shadows 2012 | -100 |
Sharpen Detail | 25 |
Sharpen Edge Masking | 0 |
Sharpen Radius | +1.0 |
Sharpness | 25 |
Split Toning Balance | +29 |
Split Toning Highlight Hue | 50 |
Split Toning Highlight Saturation | 35 |
Split Toning Shadow Hue | 307 |
Split Toning Shadow Saturation | 19 |
Title | Still Life |
Tone Curve | 0, 0, 255, 255 |
Tone Curve Blue | 0, 0, 255, 255 |
Tone Curve Green | 0, 0, 255, 255 |
Tone Curve Name | Linear |
Tone Curve Name 2012 | Custom |
Tone Curve PV2012 | 0, 35, 135, 130, 255, 241 |
Tone Curve PV2012 Blue | 0, 0, 255, 255 |
Tone Curve PV2012 Green | 0, 16, 255, 246 |
Tone Curve PV2012 Red | 0, 0, 255, 255 |
Tone Curve Red | 0, 0, 255, 255 |
Version | 7.0 |
Vibrance | 0 |
Vignette Amount | -100 |
Vignette Midpoint | 39 |
White Balance | Manual |
Whites 2012 | +35 |