Shooting information for this photo
Camera: | Canon EOS 30D |
Exposure: | 0.00313 sec. (1/320) |
Aperture: | f/10.0 |
Focal Length: | 90.0 mm (35 mm equivalent: 144.1 mm) |
Flash: | Off, Did not fire |
Exposure mode: | Program AE |
Max Aperture: | 4.5 |
Resolution: | 72 x 72 dpi |
Original Date: | 2012:01:30 19:50:10 |
Created on: | 2012:01:31 23:49:49 |
Modified on: | 2012:01:31 23:53:26 |
Software: | Adobe Photoshop Lightroom 3.6 (Macintosh) |
Copyright: | © Graham Hughes |
Already Applied | True |
Artist | unknown |
Blue Hue | 0 |
Blue Saturation | 0 |
Brightness | +46 |
Camera Profile | Adobe Standard |
Chromatic Aberration B | 0 |
Chromatic Aberration R | 0 |
Circle Of Confusion | 0.019 mm |
Clarity | +24 |
Color Noise Reduction | 25 |
Color Noise Reduction Detail | 50 |
Color Space | Unknown (-1) |
Contrast | +17 |
Convert To Grayscale | False |
Creator | unknown |
Custom Rendered | Normal |
Date Created | 2012:01:30 |
Defringe | 0 |
Exposure | +0.10 |
Exposure Compensation | -1 |
Exposure Mode | Auto |
Field Of View | 14.2 deg |
Fill Light | 15 |
Firmware | 1.0.6 |
Flash Compensation | -1.33333333333333 |
Format | image/jpeg |
Grain Amount | 0 |
Green Hue | 0 |
Green Saturation | 0 |
Has Crop | False |
Has Settings | True |
Highlight Recovery | 100 |
Hue Adjustment Aqua | -25 |
Hue Adjustment Blue | -31 |
Hue Adjustment Green | +38 |
Hue Adjustment Magenta | +35 |
Hue Adjustment Orange | +23 |
Hue Adjustment Purple | +29 |
Hue Adjustment Red | -77 |
Hue Adjustment Yellow | +35 |
Hyperfocal Distance | 43.17 m |
ISO | 100 |
Image Number | 16 |
Image Size | 800x533 |
Incremental Temperature | +30 |
Incremental Tint | -16 |
Lens | EF28-135mm f/3.5-5.6 IS USM |
Lens ID | Canon EF 28-135mm f/3.5-5.6 IS |
Lens Info | 28-135mm f/? |
Lens Manual Distortion Amount | 0 |
Lens Model | EF28-135mm f/3.5-5.6 IS USM |
Lens Profile Enable | 0 |
Lens Profile Setup | LensDefaults |
Light Value | 15.0 |
Luminance Adjustment Aqua | +21 |
Luminance Adjustment Blue | +23 |
Luminance Adjustment Green | +44 |
Luminance Adjustment Magenta | +19 |
Luminance Adjustment Orange | -4 |
Luminance Adjustment Purple | +23 |
Luminance Adjustment Red | +75 |
Luminance Adjustment Yellow | +29 |
Luminance Noise Reduction Contrast | 0 |
Luminance Noise Reduction Detail | 50 |
Luminance Smoothing | 12 |
Marked | True |
Metering Mode | Spot |
Owner Name | unknown |
Parametric Darks | +2 |
Parametric Highlight Split | 75 |
Parametric Highlights | +2 |
Parametric Lights | +12 |
Parametric Midtone Split | 50 |
Parametric Shadow Split | 25 |
Parametric Shadows | +33 |
Perspective Horizontal | 0 |
Perspective Rotate | 0.0 |
Perspective Scale | 100 |
Perspective Vertical | 0 |
Post Crop Vignette Amount | 0 |
Process Version | 5.7 |
Red Hue | 0 |
Red Saturation | 0 |
Rights | © Graham Hughes |
Saturation | -55 |
Saturation Adjustment Aqua | 0 |
Saturation Adjustment Blue | 0 |
Saturation Adjustment Green | +48 |
Saturation Adjustment Magenta | +43 |
Saturation Adjustment Orange | +33 |
Saturation Adjustment Purple | +71 |
Saturation Adjustment Red | -10 |
Saturation Adjustment Yellow | +26 |
Scale Factor To 35 mm Equivalent | 1.6 |
Scene Capture Type | Standard |
Shadow Tint | 0 |
Shadows | 10 |
Sharpen Detail | 25 |
Sharpen Edge Masking | 0 |
Sharpen Radius | +1.0 |
Sharpness | 25 |
Split Toning Balance | 0 |
Split Toning Highlight Hue | 81 |
Split Toning Highlight Saturation | 21 |
Split Toning Shadow Hue | 266 |
Split Toning Shadow Saturation | 29 |
Title | Westward Ho |
Tone Curve | 0, 0, 32, 22, 64, 56, 128, 128, 192, 196, 255, 255 |
Tone Curve Name | Medium Contrast |
Version | 6.6 |
Vibrance | +100 |
Vignette Amount | +2 |
Vignette Midpoint | 50 |
White Balance | Auto |