Shooting information for this photo
Camera: | EPSON Perfection 2450 |
Resolution: | 240 x 240 dpi |
Created on: | 2012:11:12 21:26:50 |
Modified on: | 2012:11:15 20:18:09 |
Software: | Adobe Photoshop Lightroom 4.0 (Macintosh) |
Copyright: | © Graham Hughes 2012 |
Already Applied | True |
Artist | Graham Hughes |
Auto Lateral CA | 0 |
Blacks 2012 | 0 |
Blue Hue | 0 |
Blue Saturation | 0 |
Brightness | 0 |
Camera Profile | Adobe Standard |
Clarity | 0 |
Clarity 2012 | 0 |
Color Noise Reduction | 25 |
Color Noise Reduction Detail | 50 |
Contrast | 0 |
Contrast 2012 | 0 |
Convert To Grayscale | True |
Creator | Graham Hughes |
Defringe | 0 |
Description | Holga WPC Pinhole Camera. Kodak Gold 400 colour film cross processed. Scanned and tweaked lovingly. |
Exposure | 0.00 |
Exposure 2012 | 0.00 |
Fill Light | 0 |
Format | image/jpeg |
Grain Amount | 0 |
Gray Mixer Aqua | -18 |
Gray Mixer Blue | +9 |
Gray Mixer Green | -27 |
Gray Mixer Magenta | +4 |
Gray Mixer Orange | -19 |
Gray Mixer Purple | +15 |
Gray Mixer Red | -9 |
Gray Mixer Yellow | -22 |
Green Hue | 0 |
Green Saturation | 0 |
Has Crop | False |
Has Settings | True |
Highlight Recovery | 0 |
Highlights 2012 | -50 |
Image Description | Holga WPC Pinhole Camera. Kodak Gold 400 colour film cross processed. Scanned and tweaked lovingly. |
Image Size | 1000x523 |
Incremental Temperature | 0 |
Incremental Tint | 0 |
Lens Manual Distortion Amount | 0 |
Lens Profile Enable | 0 |
Lens Profile Setup | LensDefaults |
Luminance Noise Reduction Contrast | 0 |
Luminance Noise Reduction Detail | 50 |
Luminance Smoothing | 41 |
Marked | True |
Parametric Darks | 0 |
Parametric Highlight Split | 75 |
Parametric Highlights | 0 |
Parametric Lights | 0 |
Parametric Midtone Split | 50 |
Parametric Shadow Split | 25 |
Parametric Shadows | 0 |
Perspective Horizontal | 0 |
Perspective Rotate | 0.0 |
Perspective Scale | 100 |
Perspective Vertical | 0 |
Post Crop Vignette Amount | -21 |
Post Crop Vignette Feather | 50 |
Post Crop Vignette Highlight Contrast | 0 |
Post Crop Vignette Midpoint | 50 |
Post Crop Vignette Roundness | 0 |
Post Crop Vignette Style | 1 |
Process Version | 6.7 |
Red Hue | 0 |
Red Saturation | 0 |
Rights | © Graham Hughes 2012 |
Shadow Tint | 0 |
Shadows | 0 |
Shadows 2012 | +15 |
Sharpen Detail | 25 |
Sharpen Edge Masking | 0 |
Sharpen Radius | +1.0 |
Sharpness | 25 |
Split Toning Balance | 0 |
Split Toning Highlight Hue | 0 |
Split Toning Highlight Saturation | 0 |
Split Toning Shadow Hue | 0 |
Split Toning Shadow Saturation | 0 |
Title | Friendship By The Yards |
Tone Curve | 0, 0, 255, 255 |
Tone Curve Blue | 0, 0, 255, 255 |
Tone Curve Green | 0, 0, 255, 255 |
Tone Curve Name | Linear |
Tone Curve Name 2012 | Strong Contrast |
Tone Curve PV2012 | 0, 0, 32, 16, 64, 50, 128, 128, 192, 202, 255, 255 |
Tone Curve PV2012 Blue | 0, 0, 255, 255 |
Tone Curve PV2012 Green | 0, 0, 255, 255 |
Tone Curve PV2012 Red | 0, 0, 255, 255 |
Tone Curve Red | 0, 0, 255, 255 |
Version | 7.0 |
Vignette Amount | 0 |
White Balance | As Shot |
Whites 2012 | 0 |