Shooting information for this photo
Camera: | Canon EOS 350D DIGITAL |
Exposure: | 0.02 sec. (1/50) |
Aperture: | f/3.5 |
Focal Length: | 24.0 mm (35 mm equivalent: 79.4 mm) |
Flash: | Off, Did not fire |
Exposure mode: | Program AE |
Max Aperture: | 2.8 |
Resolution: | 240 x 240 dpi |
Dimension: | 1262 x 1600 pixels |
Original Date: | 2009:06:07 11:58:31 |
Digitized Date: | 2009:06:07 11:58:31+01:00 |
Created on: | 2009:06:07 11:58:31 |
Modified on: | 2009:06:09 21:25:34 |
Already Applied | True |
Artist | unknown |
Blue Hue | 0 |
Blue Saturation | 0 |
Brightness | +53 |
Camera Profile | Adobe Standard |
Chromatic Aberration B | 0 |
Chromatic Aberration R | -29 |
Circle Of Confusion | 0.009 mm |
Clarity | +19 |
Color Noise Reduction | 25 |
Color Space | Uncalibrated |
Color Temperature | 7500 |
Contrast | +44 |
Convert To Grayscale | False |
Creator | unknown |
Crop Angle | 0 |
Crop Bottom | 1 |
Crop Height | 1262 |
Crop Left | 0.125241 |
Crop Right | 0.955684 |
Crop Top | 0.017341 |
Crop Width | 1600 |
Custom Rendered | Normal |
Defringe | 0 |
Exposure | 0.00 |
Exposure Compensation | 0 |
Exposure Mode | Auto |
Field Of View | 25.6 deg |
Fill Light | 0 |
Firmware | 1.0.3 |
Flash Compensation | -0.666666666666667 |
Flash Fired | False |
Flash Function | False |
Flash Mode | Off |
Flash Red Eye Mode | False |
Flash Return | No return detection |
Green Hue | 0 |
Green Saturation | 0 |
Has Crop | True |
Has Settings | True |
Highlight Recovery | 31 |
Hue Adjustment Aqua | 0 |
Hue Adjustment Blue | 0 |
Hue Adjustment Green | 0 |
Hue Adjustment Magenta | 0 |
Hue Adjustment Orange | 0 |
Hue Adjustment Purple | 0 |
Hue Adjustment Red | 0 |
Hue Adjustment Yellow | 0 |
Hyperfocal Distance | 18.12 m |
ISO | 200 |
Image Number | 50 |
Image Size | 1278x1616 |
Lens | 24.0 mm |
Lens Info | 24mm f/? |
Light Value | 8.3 |
Luminance Adjustment Aqua | 0 |
Luminance Adjustment Blue | 0 |
Luminance Adjustment Green | 0 |
Luminance Adjustment Magenta | 0 |
Luminance Adjustment Orange | 0 |
Luminance Adjustment Purple | 0 |
Luminance Adjustment Red | 0 |
Luminance Adjustment Yellow | 0 |
Luminance Smoothing | 0 |
Metering Mode | Average |
Owner Name | unknown |
Parametric Darks | 0 |
Parametric Highlight Split | 75 |
Parametric Highlights | 0 |
Parametric Lights | 0 |
Parametric Midtone Split | 50 |
Parametric Shadow Split | 25 |
Parametric Shadows | 0 |
Red Hue | 0 |
Red Saturation | 0 |
Saturation | 0 |
Saturation Adjustment Aqua | 0 |
Saturation Adjustment Blue | 0 |
Saturation Adjustment Green | 0 |
Saturation Adjustment Magenta | 0 |
Saturation Adjustment Orange | 0 |
Saturation Adjustment Purple | 0 |
Saturation Adjustment Red | 0 |
Saturation Adjustment Yellow | 0 |
Scale Factor To 35 mm Equivalent | 3.3 |
Scene Capture Type | Standard |
Shadow Tint | 0 |
Shadows | 5 |
Sharpen Detail | 25 |
Sharpen Edge Masking | 0 |
Sharpen Radius | +1.0 |
Sharpness | 25 |
Split Toning Balance | 0 |
Split Toning Highlight Hue | 0 |
Split Toning Highlight Saturation | 0 |
Split Toning Shadow Hue | 0 |
Split Toning Shadow Saturation | 0 |
Subject | wales |
Tint | +10 |
Tone Curve | 0, 0, 32, 22, 64, 56, 128, 128, 192, 196, 255, 255 |
Tone Curve Name | Medium Contrast |
Version | 5.3 |
Vibrance | 0 |
Vignette Amount | 0 |
White Balance | Auto |