Shooting information for this photo
Camera: | NIKON CORPORATION NIKON D700 |
Exposure: | 0.025 sec. (1/40) |
Aperture: | f/3.2 |
Focal Length: | 50.0 mm (35 mm equivalent: 50.0 mm) |
Flash: | No Flash |
Exposure mode: | Program AE |
Max Aperture: | 1.7 |
Resolution: | 240 x 240 dpi |
Dimension: | 1440 x 954 pixels |
Original Date: | 2010:08:10 19:10:31.50 |
Digitized Date: | 2010:08:10 19:10:31.50+01:00 |
Created on: | 2010:08:10 19:10:31.50 |
Modified on: | 2010:08:18 19:34:05 |
Software: | Ver.1.00 |
Copyright: | Kieran Turner |
Already Applied | True |
Artist | Kieran Turner |
Blue Hue | 0 |
Blue Saturation | 0 |
Brightness | +41 |
CFA Pattern | [Red,Green][Green,Blue] |
Camera Profile | Camera Portrait |
Chromatic Aberration B | 0 |
Chromatic Aberration R | 0 |
Circle Of Confusion | 0.030 mm |
Clarity | 0 |
Color Noise Reduction | 25 |
Color Space | Uncalibrated |
Color Temperature | 3818 |
Contrast | Normal |
Convert To Grayscale | False |
Creator | Kieran Turner |
Crop Angle | 0 |
Crop Bottom | 1 |
Crop Height | 954 |
Crop Left | 0 |
Crop Right | 0.965117 |
Crop Top | 0.039301 |
Crop Unit | pixels |
Crop Width | 1440 |
Custom Rendered | Normal |
Defringe | 0 |
Depth Of Field | 0.48 m (2.29 - 2.77) |
Digital Zoom Ratio | 1 |
Exposure | -0.10 |
Exposure Compensation | 0 |
Exposure Mode | Auto |
Field Of View | 39.6 deg |
Fill Light | 0 |
Flash Fired | False |
Flash Function | False |
Flash Mode | Unknown |
Flash Red Eye Mode | False |
Flash Return | No return detection |
Focal Length In 35mm Format | 50 mm |
Gain Control | Low gain up |
Green Hue | 0 |
Green Saturation | 0 |
Has Crop | True |
Has Settings | True |
Highlight Recovery | 23 |
Hue Adjustment Aqua | 0 |
Hue Adjustment Blue | 0 |
Hue Adjustment Green | 0 |
Hue Adjustment Magenta | 0 |
Hue Adjustment Orange | 0 |
Hue Adjustment Purple | 0 |
Hue Adjustment Red | 0 |
Hue Adjustment Yellow | 0 |
Hyperfocal Distance | 26.00 m |
ISO | 800 |
Image Number | 2276 |
Image Size | 1464x978 |
Lens | 50.0 mm f/1.8 |
Lens ID | AF Nikkor 50mm f/1.8D |
Lens Info | 50mm f/1.8 |
Light Source | Unknown |
Light Value | 5.7 |
Luminance Adjustment Aqua | 0 |
Luminance Adjustment Blue | 0 |
Luminance Adjustment Green | 0 |
Luminance Adjustment Magenta | 0 |
Luminance Adjustment Orange | 0 |
Luminance Adjustment Purple | 0 |
Luminance Adjustment Red | 0 |
Luminance Adjustment Yellow | 0 |
Luminance Smoothing | 0 |
Metering Mode | Multi-segment |
Parametric Darks | 0 |
Parametric Highlight Split | 75 |
Parametric Highlights | 0 |
Parametric Lights | 0 |
Parametric Midtone Split | 50 |
Parametric Shadow Split | 25 |
Parametric Shadows | 0 |
Post Crop Vignette Amount | 0 |
Red Hue | 0 |
Red Saturation | 0 |
Rights | Kieran Turner |
Saturation | Normal |
Saturation Adjustment Aqua | 0 |
Saturation Adjustment Blue | 0 |
Saturation Adjustment Green | 0 |
Saturation Adjustment Magenta | 0 |
Saturation Adjustment Orange | 0 |
Saturation Adjustment Purple | 0 |
Saturation Adjustment Red | 0 |
Saturation Adjustment Yellow | 0 |
Scale Factor To 35 mm Equivalent | 1.0 |
Scene Capture Type | Standard |
Scene Type | Directly photographed |
Sensing Method | One-chip color area |
Shadow Tint | 0 |
Shadows | 5 |
Sharpen Detail | 25 |
Sharpen Edge Masking | 0 |
Sharpen Radius | +1.0 |
Sharpness | Normal |
Split Toning Balance | 0 |
Split Toning Highlight Hue | 0 |
Split Toning Highlight Saturation | 0 |
Split Toning Shadow Hue | 0 |
Split Toning Shadow Saturation | 0 |
Subject Distance | 2.51 m |
Subject Distance Range | Unknown |
Tint | 0 |
Tone Curve | 0, 0, 32, 22, 64, 56, 128, 128, 192, 196, 255, 255 |
Tone Curve Name | Medium Contrast |
Version | 6.1 |
Vibrance | 0 |
Vignette Amount | 0 |
White Balance | Auto |