Shooting information for this photo
Camera: | Canon EOS 350D DIGITAL |
Exposure: | 0.07692 sec. (1/13) |
Aperture: | f/3.5 |
Focal Length: | 18.0 mm (35 mm equivalent: 29.2 mm) |
Flash: | Off, Did not fire |
Exposure mode: | Program AE |
Resolution: | 240 x 240 dpi |
Original Date: | 2011:05:27 15:22:45 |
Created on: | 2011:05:27 15:22:45 |
Modified on: | 2012:03:22 15:11:46 |
Software: | Adobe Photoshop Lightroom 3.6 (Macintosh) |
Copyright: | Kieran Turner |
Already Applied | True |
Artist | Kieran Turner |
Blue Hue | 0 |
Blue Saturation | 0 |
Brightness | +114 |
Camera Profile | Adobe Standard |
Chromatic Aberration B | 0 |
Chromatic Aberration R | 0 |
Circle Of Confusion | 0.019 mm |
Clarity | +57 |
Color Noise Reduction | 31 |
Color Noise Reduction Detail | 41 |
Color Temperature | 5000 |
Contrast | +50 |
Convert To Grayscale | True |
Creator | Kieran Turner |
Crop Angle | 0.285098 |
Crop Bottom | 1 |
Crop Constrain To Warp | 0 |
Crop Height | 2287 |
Crop Left | 0.005351 |
Crop Right | 0.994649 |
Crop Top | 0 |
Crop Unit | pixels |
Crop Width | 3430 |
Custom Rendered | Normal |
Date Created | 2011:05:27 15:22:45+01:00 |
Defringe | 0 |
Digital Source Type | http://cv.iptc.org/newscodes/d igitalsourcetype/digitalCaptur e |
Exposure | +0.25 |
Exposure Compensation | 0 |
Exposure Mode | Auto |
Field Of View | 63.3 deg |
Fill Light | 15 |
Firmware | 1.0.3 |
Flash Compensation | -0.333333333333333 |
Format | image/jpeg |
Grain Amount | 0 |
Gray Mixer Aqua | -10 |
Gray Mixer Blue | +10 |
Gray Mixer Green | 0 |
Gray Mixer Magenta | +70 |
Gray Mixer Orange | +20 |
Gray Mixer Purple | +45 |
Gray Mixer Red | +50 |
Gray Mixer Yellow | +10 |
Green Hue | 0 |
Green Saturation | 0 |
Has Crop | True |
Has Settings | True |
Highlight Recovery | 79 |
Hyperfocal Distance | 5.00 m |
ISO | 800 |
Image Number | 106 |
Image Size | 3430x2287 |
Lens | 18.0-55.0 mm |
Lens Info | 18-55mm f/? |
Lens Manual Distortion Amount | 0 |
Lens Model | 18.0-55.0 mm |
Lens Profile Enable | 0 |
Lens Profile Setup | LensDefaults |
Light Value | 4.3 |
Luminance Noise Reduction Contrast | 6 |
Luminance Noise Reduction Detail | 20 |
Luminance Smoothing | 55 |
Marked | True |
Metering Mode | Average |
Owner Name | unknown |
Parametric Darks | -28 |
Parametric Highlight Split | 75 |
Parametric Highlights | +14 |
Parametric Lights | -8 |
Parametric Midtone Split | 50 |
Parametric Shadow Split | 25 |
Parametric Shadows | -21 |
Perspective Horizontal | 0 |
Perspective Rotate | 0.0 |
Perspective Scale | 100 |
Perspective Vertical | 0 |
Post Crop Vignette Amount | -16 |
Post Crop Vignette Feather | 50 |
Post Crop Vignette Highlight Contrast | 0 |
Post Crop Vignette Midpoint | 50 |
Post Crop Vignette Roundness | 0 |
Post Crop Vignette Style | 1 |
Process Version | 5.7 |
Red Hue | 0 |
Red Saturation | 0 |
Rights | Kieran Turner |
Scale Factor To 35 mm Equivalent | 1.6 |
Scene Capture Type | Standard |
Shadow Tint | 0 |
Shadows | 3 |
Sharpen Detail | 33 |
Sharpen Edge Masking | 27 |
Sharpen Radius | +1.0 |
Sharpness | 61 |
Split Toning Balance | 0 |
Split Toning Highlight Hue | 0 |
Split Toning Highlight Saturation | 0 |
Split Toning Shadow Hue | 0 |
Split Toning Shadow Saturation | 0 |
Tint | +36 |
Tone Curve | 0, 0, 255, 255 |
Tone Curve Name | Linear |
Version | 6.6 |
Vignette Amount | 0 |
White Balance | Auto |