Shooting information for this photo
Camera: | PENTAX Corporation PENTAX Optio S5i |
Exposure: | 0.25 sec. (1/4) |
Aperture: | f/4.4 |
Focal Length: | 14.6 mm (35 mm equivalent: 88.0 mm) |
Flash: | Off, Did not fire |
Max Aperture: | 2.6 |
Resolution: | 240 x 240 dpi |
Original Date: | 2012:03:03 16:43:26 |
Created on: | 2012:03:03 16:43:26 |
Modified on: | 2015:02:26 01:14:43 |
Software: | Adobe Photoshop Lightroom 4.4 (Macintosh) |
Copyright: | Kieran Turner |
Already Applied | True |
Artist | Kieran Turner |
Blue Hue | 0 |
Blue Saturation | 0 |
Brightness | -27 |
Camera Profile | Embedded |
Circle Of Confusion | 0.005 mm |
Clarity | +50 |
Color Noise Reduction | 0 |
Color Space | Uncalibrated |
Contrast | High |
Convert To Grayscale | False |
Creator | Kieran Turner |
Crop Angle | 1.07772 |
Crop Bottom | 0.796179 |
Crop Constrain To Warp | 0 |
Crop Height | 1350 |
Crop Left | 0.01815 |
Crop Right | 0.98376 |
Crop Top | 0.068449 |
Crop Unit | pixels |
Crop Width | 2497 |
Custom Rendered | Normal |
Date Created | 2012:03:03 16:43:26 |
Digital Source Type | http://cv.iptc.org/newscodes/d igitalsourcetype/digitalCaptur e |
Exposure | -0.35 |
Exposure Compensation | 0 |
Exposure Mode | Auto |
Field Of View | 23.1 deg |
Fill Light | 0 |
Focal Length In 35mm Format | 88 mm |
Format | image/jpeg |
Grain Amount | 0 |
Green Hue | 0 |
Green Saturation | 0 |
Has Crop | True |
Has Settings | True |
Highlight Recovery | 41 |
Hue Adjustment Aqua | 0 |
Hue Adjustment Blue | 0 |
Hue Adjustment Green | 0 |
Hue Adjustment Magenta | 0 |
Hue Adjustment Orange | 0 |
Hue Adjustment Purple | 0 |
Hue Adjustment Red | 0 |
Hue Adjustment Yellow | 0 |
Hyperfocal Distance | 9.72 m |
ISO | 80 |
Image Size | 2537x1390 |
Incremental Temperature | +3 |
Incremental Tint | +44 |
Lens Manual Distortion Amount | 0 |
Lens Profile Enable | 0 |
Lens Profile Setup | LensDefaults |
Light Value | 6.6 |
Luminance Adjustment Aqua | 0 |
Luminance Adjustment Blue | 0 |
Luminance Adjustment Green | 0 |
Luminance Adjustment Magenta | 0 |
Luminance Adjustment Orange | 0 |
Luminance Adjustment Purple | 0 |
Luminance Adjustment Red | 0 |
Luminance Adjustment Yellow | 0 |
Luminance Smoothing | 0 |
Marked | True |
Metering Mode | Center-weighted average |
Parametric Darks | 0 |
Parametric Highlight Split | 75 |
Parametric Highlights | 0 |
Parametric Lights | 0 |
Parametric Midtone Split | 50 |
Parametric Shadow Split | 25 |
Parametric Shadows | 0 |
Perspective Horizontal | 0 |
Perspective Rotate | 0.0 |
Perspective Scale | 100 |
Perspective Vertical | 0 |
Post Crop Vignette Amount | -72 |
Post Crop Vignette Feather | 50 |
Post Crop Vignette Midpoint | 50 |
Post Crop Vignette Roundness | 0 |
Post Crop Vignette Style | 1 |
Process Version | 5.7 |
Red Hue | 0 |
Red Saturation | 0 |
Rights | Kieran Turner |
Saturation | Low |
Saturation Adjustment Aqua | 0 |
Saturation Adjustment Blue | 0 |
Saturation Adjustment Green | 0 |
Saturation Adjustment Magenta | 0 |
Saturation Adjustment Orange | 0 |
Saturation Adjustment Purple | 0 |
Saturation Adjustment Red | 0 |
Saturation Adjustment Yellow | 0 |
Scale Factor To 35 mm Equivalent | 6.0 |
Scene Capture Type | Standard |
Shadow Tint | 0 |
Shadows | 9 |
Sharpen Detail | 100 |
Sharpen Edge Masking | 0 |
Sharpen Radius | +3.0 |
Sharpness | Hard |
Split Toning Balance | 0 |
Split Toning Highlight Hue | 0 |
Split Toning Highlight Saturation | 0 |
Split Toning Shadow Hue | 0 |
Split Toning Shadow Saturation | 0 |
Subject | albania |
Subject Distance Range | Distant |
Tone Curve | 0, 0, 255, 255 |
Tone Curve Name | Linear |
Version | 7.4 |
Vibrance | +25 |
Vignette Amount | 0 |
White Balance | Auto |