Shooting information for this photo
Camera: | Canon EOS 350D DIGITAL |
Exposure: | 0.004 sec. (1/250) |
Aperture: | f/13.0 |
Focal Length: | 34.0 mm (35 mm equivalent: 55.2 mm) |
Flash: | Off, Did not fire |
Exposure mode: | Program AE |
Resolution: | 96 x 96 dpi |
Original Date: | 2007:05:05 19:28:55 |
Digitized Date: | 2007:05:05 19:28:55+01:00 |
Created on: | 2007:05:05 19:28:55 |
Modified on: | 2007:05:09 18:27:52 |
Already Applied | True |
Artist | unknown |
Blue Hue | 0 |
Blue Saturation | 0 |
Brightness | +57 |
Camera Profile | ACR 3.1 |
Chromatic Aberration B | 0 |
Chromatic Aberration R | 0 |
Circle Of Confusion | 0.019 mm |
Color Noise Reduction | 25 |
Color Temperature | 4250 |
Contrast | +10 |
Convert To Grayscale | False |
Creator | unknown |
Crop Angle | 0 |
Crop Bottom | 0.991018 |
Crop Height | 1309 |
Crop Left | 0.015968 |
Crop Right | 1 |
Crop Top | 0.047904 |
Crop Unit | pixels |
Crop Width | 2048 |
Custom Rendered | Normal |
Exposure | -0.24 |
Exposure Compensation | 0 |
Exposure Mode | Auto |
Field Of View | 36.1 deg |
Fill Light | 5 |
Firmware | 1.0.3 |
Flash Compensation | 0 |
Flash Fired | False |
Flash Function | False |
Flash Mode | Off |
Flash Red Eye Mode | False |
Flash Return | No return detection |
Green Hue | 0 |
Green Saturation | 0 |
Has Crop | True |
Has Settings | True |
Highlight Recovery | 27 |
Hue Adjustment Aqua | 0 |
Hue Adjustment Blue | 0 |
Hue Adjustment Green | 0 |
Hue Adjustment Magenta | 0 |
Hue Adjustment Orange | 0 |
Hue Adjustment Purple | 0 |
Hue Adjustment Red | 0 |
Hue Adjustment Yellow | 0 |
Hyperfocal Distance | 4.80 m |
ISO | 400 |
Image Number | 166 |
Image Size | 2048x1309 |
Lens | 18.0-55.0 mm |
Lens Info | 18-55mm f/? |
Light Value | 13.4 |
Luminance Adjustment Aqua | 0 |
Luminance Adjustment Blue | 0 |
Luminance Adjustment Green | 0 |
Luminance Adjustment Magenta | 0 |
Luminance Adjustment Orange | 0 |
Luminance Adjustment Purple | 0 |
Luminance Adjustment Red | 0 |
Luminance Adjustment Yellow | 0 |
Luminance Smoothing | 0 |
Metering Mode | Average |
Owner Name | unknown |
Parametric Darks | 0 |
Parametric Highlight Split | 75 |
Parametric Highlights | 0 |
Parametric Lights | 0 |
Parametric Midtone Split | 50 |
Parametric Shadow Split | 25 |
Parametric Shadows | 0 |
Red Hue | 0 |
Red Saturation | 0 |
Saturation | 0 |
Saturation Adjustment Aqua | 0 |
Saturation Adjustment Blue | 0 |
Saturation Adjustment Green | 0 |
Saturation Adjustment Magenta | 0 |
Saturation Adjustment Orange | 0 |
Saturation Adjustment Purple | 0 |
Saturation Adjustment Red | 0 |
Saturation Adjustment Yellow | 0 |
Scale Factor To 35 mm Equivalent | 1.6 |
Scene Capture Type | Standard |
Shadow Tint | 0 |
Shadows | 8 |
Sharpness | 25 |
Split Toning Balance | 0 |
Split Toning Highlight Hue | 0 |
Split Toning Highlight Saturation | 0 |
Split Toning Shadow Hue | 0 |
Split Toning Shadow Saturation | 0 |
Tint | +22 |
Tone Curve | 0, 0, 32, 22, 64, 56, 128, 128, 192, 196, 255, 255 |
Tone Curve Name | Medium Contrast |
Version | 1.0 |
Vibrance | 0 |
Vignette Amount | 0 |
White Balance | Auto |