Shooting information for this photo
Camera: | Canon EOS 350D DIGITAL |
Exposure: | 0.04 sec. (1/25) |
Aperture: | f/4.0 |
Focal Length: | 28.0 mm (35 mm equivalent: 45.4 mm) |
Flash: | Off, Did not fire |
Exposure mode: | Program AE |
Resolution: | 96 x 96 dpi |
Original Date: | 2007:05:05 13:48:46 |
Digitized Date: | 2007:05:05 13:48:46+01:00 |
Created on: | 2007:05:05 13:48:46 |
Modified on: | 2007:05:09 18:26:11 |
Already Applied | True |
Artist | unknown |
Blue Hue | 0 |
Blue Saturation | 0 |
Brightness | -2 |
Camera Profile | ACR 3.1 |
Chromatic Aberration B | 0 |
Chromatic Aberration R | 0 |
Circle Of Confusion | 0.019 mm |
Color Noise Reduction | 25 |
Color Temperature | 4471 |
Contrast | +8 |
Convert To Grayscale | False |
Creator | unknown |
Custom Rendered | Normal |
Exposure | 0.00 |
Exposure Compensation | 0 |
Exposure Mode | Auto |
Field Of View | 43.2 deg |
Fill Light | 0 |
Firmware | 1.0.3 |
Flash Compensation | 0 |
Flash Fired | False |
Flash Function | False |
Flash Mode | Off |
Flash Red Eye Mode | False |
Flash Return | No return detection |
Green Hue | 0 |
Green Saturation | 0 |
Has Crop | False |
Has Settings | True |
Highlight Recovery | 100 |
Hue Adjustment Aqua | -15 |
Hue Adjustment Blue | 0 |
Hue Adjustment Green | -62 |
Hue Adjustment Magenta | +60 |
Hue Adjustment Orange | -15 |
Hue Adjustment Purple | +51 |
Hue Adjustment Red | -13 |
Hue Adjustment Yellow | +11 |
Hyperfocal Distance | 10.58 m |
ISO | 200 |
Image Number | 58 |
Image Size | 1365x2048 |
Lens | 18.0-55.0 mm |
Lens Info | 18-55mm f/? |
Light Value | 7.6 |
Luminance Adjustment Aqua | -34 |
Luminance Adjustment Blue | -20 |
Luminance Adjustment Green | -32 |
Luminance Adjustment Magenta | 0 |
Luminance Adjustment Orange | 0 |
Luminance Adjustment Purple | 0 |
Luminance Adjustment Red | 0 |
Luminance Adjustment Yellow | +29 |
Luminance Smoothing | 0 |
Metering Mode | Average |
Owner Name | unknown |
Parametric Darks | 0 |
Parametric Highlight Split | 75 |
Parametric Highlights | 0 |
Parametric Lights | 0 |
Parametric Midtone Split | 50 |
Parametric Shadow Split | 25 |
Parametric Shadows | 0 |
Red Hue | 0 |
Red Saturation | 0 |
Saturation | -8 |
Saturation Adjustment Aqua | -27 |
Saturation Adjustment Blue | -15 |
Saturation Adjustment Green | -55 |
Saturation Adjustment Magenta | 0 |
Saturation Adjustment Orange | 0 |
Saturation Adjustment Purple | 0 |
Saturation Adjustment Red | +32 |
Saturation Adjustment Yellow | +11 |
Scale Factor To 35 mm Equivalent | 1.6 |
Scene Capture Type | Standard |
Shadow Tint | 0 |
Shadows | 3 |
Sharpness | 28 |
Split Toning Balance | 0 |
Split Toning Highlight Hue | 0 |
Split Toning Highlight Saturation | 0 |
Split Toning Shadow Hue | 0 |
Split Toning Shadow Saturation | 0 |
Tint | +19 |
Tone Curve | 0, 0, 32, 16, 64, 50, 128, 128, 192, 202, 255, 255 |
Tone Curve Name | Strong Contrast |
Version | 1.0 |
Vibrance | +53 |
Vignette Amount | 0 |
White Balance | Auto |