Shooting information for this photo
Camera: | PENTAX Corporation PENTAX Optio S5i |
Exposure: | 0.002 sec. (1/500) |
Aperture: | f/4.3 |
Focal Length: | 5.8 mm (35 mm equivalent: 35.0 mm) |
Flash: | Off, Did not fire |
Max Aperture: | 2.6 |
Resolution: | 96 x 96 dpi |
Original Date: | 2007:06:16 15:32:21 |
Digitized Date: | 2007:06:16 15:32:21+01:00 |
Created on: | 2007:06:16 15:32:21 |
Modified on: | 2007:06:17 01:57:08 |
Software: | Optio S5i Ver 1.00 |
Already Applied | True |
Blue Hue | 0 |
Blue Saturation | 0 |
Brightness | 0 |
Camera Profile | Embedded |
Chromatic Aberration B | 0 |
Chromatic Aberration R | 0 |
Circle Of Confusion | 0.005 mm |
Color Noise Reduction | 0 |
Contrast | High |
Convert To Grayscale | False |
Crop Angle | 1 |
Crop Bottom | 0.884906 |
Crop Height | 1380 |
Crop Left | 0.026557 |
Crop Right | 0.836937 |
Crop Top | 0.12894 |
Crop Unit | pixels |
Crop Width | 2048 |
Custom Rendered | Normal |
Exposure | -0.24 |
Exposure Compensation | 0 |
Exposure Mode | Auto |
Field Of View | 54.4 deg |
Fill Light | 12 |
Flash Fired | False |
Flash Function | False |
Flash Mode | Off |
Flash Red Eye Mode | False |
Flash Return | No return detection |
Focal Length In 35mm Format | 35 mm |
Green Hue | 0 |
Green Saturation | 0 |
Has Crop | True |
Has Settings | True |
Highlight Recovery | 100 |
Hue Adjustment Aqua | 0 |
Hue Adjustment Blue | 0 |
Hue Adjustment Green | 0 |
Hue Adjustment Magenta | 0 |
Hue Adjustment Orange | 0 |
Hue Adjustment Purple | 0 |
Hue Adjustment Red | 0 |
Hue Adjustment Yellow | 0 |
Hyperfocal Distance | 1.57 m |
ISO | 80 |
Image Size | 2048x1380 |
Incremental Temperature | 0 |
Incremental Tint | 0 |
Light Value | 13.5 |
Luminance Adjustment Aqua | 0 |
Luminance Adjustment Blue | -6 |
Luminance Adjustment Green | 0 |
Luminance Adjustment Magenta | 0 |
Luminance Adjustment Orange | -32 |
Luminance Adjustment Purple | 0 |
Luminance Adjustment Red | 0 |
Luminance Adjustment Yellow | +29 |
Luminance Smoothing | 0 |
Metering Mode | Multi-segment |
Parametric Darks | 0 |
Parametric Highlight Split | 75 |
Parametric Highlights | 0 |
Parametric Lights | 0 |
Parametric Midtone Split | 50 |
Parametric Shadow Split | 25 |
Parametric Shadows | 0 |
Red Hue | 0 |
Red Saturation | 0 |
Saturation | High |
Saturation Adjustment Aqua | +44 |
Saturation Adjustment Blue | +18 |
Saturation Adjustment Green | -81 |
Saturation Adjustment Magenta | -15 |
Saturation Adjustment Orange | -4 |
Saturation Adjustment Purple | -15 |
Saturation Adjustment Red | -11 |
Saturation Adjustment Yellow | -18 |
Scale Factor To 35 mm Equivalent | 6.0 |
Scene Capture Type | Standard |
Shadow Tint | 0 |
Shadows | 0 |
Sharpness | Hard |
Split Toning Balance | 0 |
Split Toning Highlight Hue | 165 |
Split Toning Highlight Saturation | 0 |
Split Toning Shadow Hue | 263 |
Split Toning Shadow Saturation | 0 |
Subject Distance Range | Distant |
Tone Curve | 0, 0, 255, 255 |
Tone Curve Name | Linear |
Version | 1.0 |
Vibrance | 0 |
Vignette Amount | 0 |
White Balance | Auto |