Shooting information for this photo
Camera: | Canon EOS 350D DIGITAL |
Exposure: | 0.008 sec. (1/125) |
Aperture: | f/7.1 |
Focal Length: | 35.0 mm (35 mm equivalent: 56.8 mm) |
Flash: | Off, Did not fire |
Exposure mode: | Program AE |
Resolution: | 96 x 96 dpi |
Original Date: | 2007:08:15 13:44:27 |
Digitized Date: | 2007:08:15 13:44:27+01:00 |
Created on: | 2007:08:15 13:44:27 |
Modified on: | 2007:08:16 19:59:51 |
Already Applied | True |
Artist | unknown |
Blue Hue | 0 |
Blue Saturation | 0 |
Brightness | -12 |
Camera Profile | ACR 3.1 |
Chromatic Aberration B | 0 |
Chromatic Aberration R | 0 |
Circle Of Confusion | 0.019 mm |
Clarity | 81 |
Color Temperature | 5400 |
Contrast | +2 |
Convert To Grayscale | True |
Creator | unknown |
Crop Angle | 0 |
Crop Bottom | 0.921852 |
Crop Height | 2048 |
Crop Left | 0 |
Crop Right | 0.525554 |
Crop Top | 0.078148 |
Crop Unit | pixels |
Crop Width | 1914 |
Custom Rendered | Normal |
Defringe | 0 |
Exposure | -1.27 |
Exposure Compensation | 0 |
Exposure Mode | Auto |
Field Of View | 35.2 deg |
Fill Light | 11 |
Firmware | 1.0.3 |
Flash Compensation | 0 |
Flash Fired | False |
Flash Function | False |
Flash Mode | Off |
Flash Red Eye Mode | False |
Flash Return | No return detection |
Gray Mixer Aqua | -18 |
Gray Mixer Blue | +100 |
Gray Mixer Green | -18 |
Gray Mixer Magenta | +4 |
Gray Mixer Orange | -60 |
Gray Mixer Purple | +15 |
Gray Mixer Red | -10 |
Gray Mixer Yellow | -23 |
Green Hue | 0 |
Green Saturation | 0 |
Has Crop | True |
Has Settings | True |
Highlight Recovery | 100 |
Hyperfocal Distance | 9.32 m |
ISO | 200 |
Image Number | 194 |
Image Size | 1914x2048 |
Lens | 28.0-135.0 mm |
Lens Info | 28-135mm f/? |
Light Value | 11.6 |
Luminance Smoothing | 0 |
Metering Mode | Partial |
Owner Name | unknown |
Parametric Darks | +1 |
Parametric Highlight Split | 75 |
Parametric Highlights | -41 |
Parametric Lights | +27 |
Parametric Midtone Split | 50 |
Parametric Shadow Split | 25 |
Parametric Shadows | +15 |
Red Hue | 0 |
Red Saturation | 0 |
Scale Factor To 35 mm Equivalent | 1.6 |
Scene Capture Type | Standard |
Shadow Tint | 0 |
Shadows | 20 |
Sharpen Detail | 25 |
Sharpen Edge Masking | 36 |
Sharpen Radius | +1.0 |
Sharpness | 25 |
Split Toning Balance | 0 |
Split Toning Highlight Hue | 0 |
Split Toning Highlight Saturation | 0 |
Split Toning Shadow Hue | 0 |
Split Toning Shadow Saturation | 0 |
Subject | cottage cornwall |
Time Zone Offset | 1 1 |
Tint | +28 |
Tone Curve | 0, 0, 32, 22, 64, 56, 128, 128, 192, 196, 255, 255 |
Tone Curve Name | Medium Contrast |
Version | 1.0 |
Vignette Amount | 0 |
White Balance | Auto |