Shooting information for this photo
Camera: | Canon EOS 350D DIGITAL |
Exposure: | 0.03333 sec. (1/30) |
Aperture: | f/5.6 |
Focal Length: | 55.0 mm (35 mm equivalent: 89.2 mm) |
Flash: | Off, Did not fire |
Exposure mode: | Shutter speed priority AE |
Resolution: | 96 x 96 dpi |
Original Date: | 2007:04:06 21:24:59 |
Digitized Date: | 2007:04:06 21:24:59+01:00 |
Created on: | 2007:04:06 21:24:59 |
Modified on: | 2007:04:10 23:47:37 |
Already Applied | True |
Artist | unknown |
Blue Hue | 0 |
Blue Saturation | 0 |
Brightness | +50 |
Camera Profile | ACR 3.1 |
Chromatic Aberration B | 0 |
Chromatic Aberration R | 0 |
Circle Of Confusion | 0.019 mm |
Color Temperature | 3800 |
Contrast | +25 |
Convert To Grayscale | True |
Creator | unknown |
Crop Angle | 0 |
Crop Bottom | 1 |
Crop Height | 1415 |
Crop Left | 0.025048 |
Crop Right | 0.973025 |
Crop Top | 0.017341 |
Crop Unit | pixels |
Crop Width | 2048 |
Custom Rendered | Normal |
Exposure | +0.52 |
Exposure Compensation | 0 |
Exposure Mode | Auto |
Field Of View | 22.8 deg |
Fill Light | 41 |
Firmware | 1.0.3 |
Flash Compensation | 0 |
Flash Fired | False |
Flash Function | False |
Flash Mode | Off |
Flash Red Eye Mode | False |
Flash Return | No return detection |
Gray Mixer Aqua | -22 |
Gray Mixer Blue | -1 |
Gray Mixer Green | -18 |
Gray Mixer Magenta | +9 |
Gray Mixer Orange | -4 |
Gray Mixer Purple | +10 |
Gray Mixer Red | +5 |
Gray Mixer Yellow | -8 |
Green Hue | 0 |
Green Saturation | 0 |
Has Crop | True |
Has Settings | True |
Highlight Recovery | 0 |
Hyperfocal Distance | 29.16 m |
ISO | 1600 |
Image Number | 197 |
Image Size | 2048x1415 |
Lens | 18.0-55.0 mm |
Lens Info | 18-55mm f/? |
Light Value | 5.9 |
Luminance Smoothing | 52 |
Metering Mode | Average |
Owner Name | unknown |
Parametric Darks | +6 |
Parametric Highlight Split | 75 |
Parametric Highlights | +32 |
Parametric Lights | +27 |
Parametric Midtone Split | 50 |
Parametric Shadow Split | 25 |
Parametric Shadows | +8 |
Private RTK Info | cHJpdmF0ZVJUS0luZm8gPSB7Cgl7Cg kJZmxhdCA9IHsKCQkJIkdHRjQiLAoJ CX0sCgkJcGF0aCA9IHsKCQkJIkdHRj QiLAoJCX0sCgkJcHJpbWFyeSA9ICJH R0Y0IiwKCQl1dWlkID0gIjE2QkFDOD IyLTRBNzEtNEZFQS1CRkQ1LUM1MkVC M0RGOTgwQyIsCgl9LAp9Cg== |
Red Hue | 0 |
Red Saturation | 0 |
Scale Factor To 35 mm Equivalent | 1.6 |
Scene Capture Type | Standard |
Shadow Tint | 0 |
Shadows | 5 |
Sharpness | 25 |
Split Toning Balance | 0 |
Split Toning Highlight Hue | 0 |
Split Toning Highlight Saturation | 0 |
Split Toning Shadow Hue | 0 |
Split Toning Shadow Saturation | 0 |
Subject | GGF4 |
Tint | +27 |
Tone Curve | 0, 0, 32, 22, 64, 56, 128, 128, 192, 196, 255, 255 |
Tone Curve Name | Medium Contrast |
Version | 1.0 |
Vignette Amount | 0 |
White Balance | Auto |