Shooting information for this photo
Camera: | Canon EOS 350D DIGITAL |
Exposure: | 0.07692 sec. (1/13) |
Aperture: | f/4.5 |
Focal Length: | 35.0 mm (35 mm equivalent: 56.8 mm) |
Flash: | Off, Did not fire |
Exposure mode: | Program AE |
Max Aperture: | 4.0 |
Resolution: | 96 x 96 dpi |
Original Date: | 2007:03:24 15:50:57 |
Digitized Date: | 2007:03:24 15:50:57Z |
Created on: | 2007:03:24 15:50:57 |
Modified on: | 2007:03:26 15:55:04 |
Already Applied | True |
Artist | unknown |
Blue Hue | 0 |
Blue Saturation | 0 |
Brightness | +50 |
Camera Profile | ACR 3.1 |
Chromatic Aberration B | 0 |
Chromatic Aberration R | 0 |
Circle Of Confusion | 0.019 mm |
Color Temperature | 3200 |
Contrast | +44 |
Convert To Grayscale | True |
Creator | unknown |
Crop Angle | 0 |
Crop Bottom | 0.881159 |
Crop Height | 898 |
Crop Left | 0 |
Crop Right | 1 |
Crop Top | 0.223188 |
Crop Unit | pixels |
Crop Width | 2048 |
Custom Rendered | Normal |
Exposure | 0.00 |
Exposure Compensation | +2/3 |
Exposure Mode | Auto bracket |
Field Of View | 35.2 deg |
Fill Light | 0 |
Firmware | 1.0.3 |
Flash Compensation | 0 |
Flash Fired | False |
Flash Function | False |
Flash Mode | Off |
Flash Red Eye Mode | False |
Flash Return | No return detection |
Gray Mixer Aqua | -21 |
Gray Mixer Blue | +2 |
Gray Mixer Green | -21 |
Gray Mixer Magenta | +7 |
Gray Mixer Orange | -9 |
Gray Mixer Purple | +11 |
Gray Mixer Red | 0 |
Gray Mixer Yellow | -12 |
Green Hue | 0 |
Green Saturation | 0 |
Has Crop | True |
Has Settings | True |
Highlight Recovery | 0 |
Hyperfocal Distance | 14.70 m |
ISO | 800 |
Image Number | 14 |
Image Size | 2048x898 |
Lens | 18.0-55.0 mm |
Lens Info | 18-55mm f/? |
Light Value | 5.0 |
Luminance Smoothing | 0 |
Metering Mode | Partial |
Owner Name | unknown |
Parametric Darks | -13 |
Parametric Highlight Split | 75 |
Parametric Highlights | +1 |
Parametric Lights | -11 |
Parametric Midtone Split | 50 |
Parametric Shadow Split | 25 |
Parametric Shadows | -25 |
Private RTK Info | cHJpdmF0ZVJUS0luZm8gPSB7Cgl7Cg kJZmxhdCA9IHsKCQkJIkJyaXRpc2gg TXVzZXVtIiwKCQl9LAoJCXBhdGggPS B7CgkJCSJCcml0aXNoIE11c2V1bSIs CgkJfSwKCQlwcmltYXJ5ID0gIkJyaX Rpc2ggTXVzZXVtIiwKCQl1dWlkID0g IjVEQTJENTQ0LTU3NzgtNEVDOC1CRD lFLUNFQjE2NDY5NjAwQiIsCgl9LAp9 Cg== |
Red Hue | 0 |
Red Saturation | 0 |
Scale Factor To 35 mm Equivalent | 1.6 |
Scene Capture Type | Standard |
Shadow Tint | 0 |
Shadows | 5 |
Sharpness | 25 |
Split Toning Balance | 0 |
Split Toning Highlight Hue | 0 |
Split Toning Highlight Saturation | 0 |
Split Toning Shadow Hue | 0 |
Split Toning Shadow Saturation | 0 |
Subject | British Museum |
Tint | +16 |
Tone Curve | 0, 0, 32, 16, 64, 50, 128, 128, 192, 202, 255, 255 |
Tone Curve Name | Strong Contrast |
Version | 1.0 |
Vignette Amount | 0 |
White Balance | Auto |