Shooting information for this photo
Camera: | Canon EOS 350D DIGITAL |
Exposure: | 0.1 sec. (1/10) |
Aperture: | f/5.6 |
Focal Length: | 18.0 mm (35 mm equivalent: 29.2 mm) |
Flash: | Off, Did not fire |
Exposure mode: | Aperture-priority AE |
Max Aperture: | 4.0 |
Resolution: | 96 x 96 dpi |
Original Date: | 2007:03:24 15:14:00 |
Digitized Date: | 2007:03:24 15:14:00Z |
Created on: | 2007:03:24 15:14:00 |
Modified on: | 2007:03:26 16:02:07 |
Already Applied | True |
Artist | unknown |
Blue Hue | 0 |
Blue Saturation | 0 |
Brightness | +50 |
Camera Profile | ACR 3.1 |
Chromatic Aberration B | 0 |
Chromatic Aberration R | 0 |
Circle Of Confusion | 0.019 mm |
Color Noise Reduction | 25 |
Color Temperature | 4300 |
Contrast | +25 |
Convert To Grayscale | False |
Creator | unknown |
Crop Angle | 0 |
Crop Bottom | 0.808696 |
Crop Height | 1168 |
Crop Left | 0.096618 |
Crop Right | 0.953623 |
Crop Top | 0.075362 |
Crop Unit | pixels |
Crop Width | 2048 |
Custom Rendered | Normal |
Exposure | 0.00 |
Exposure Compensation | -2/3 |
Exposure Mode | Auto bracket |
Field Of View | 63.3 deg |
Fill Light | 0 |
Firmware | 1.0.3 |
Flash Compensation | 0 |
Flash Fired | False |
Flash Function | False |
Flash Mode | Off |
Flash Red Eye Mode | False |
Flash Return | No return detection |
Green Hue | 0 |
Green Saturation | 0 |
Has Crop | True |
Has Settings | True |
Highlight Recovery | 0 |
Hue Adjustment Aqua | 0 |
Hue Adjustment Blue | 0 |
Hue Adjustment Green | 0 |
Hue Adjustment Magenta | 0 |
Hue Adjustment Orange | 0 |
Hue Adjustment Purple | 0 |
Hue Adjustment Red | 0 |
Hue Adjustment Yellow | 0 |
Hyperfocal Distance | 3.12 m |
ISO | 800 |
Image Number | 247 |
Image Size | 2048x1168 |
Lens | 18.0-55.0 mm |
Lens Info | 18-55mm f/? |
Light Value | 5.3 |
Luminance Adjustment Aqua | 0 |
Luminance Adjustment Blue | 0 |
Luminance Adjustment Green | 0 |
Luminance Adjustment Magenta | 0 |
Luminance Adjustment Orange | 0 |
Luminance Adjustment Purple | 0 |
Luminance Adjustment Red | 0 |
Luminance Adjustment Yellow | 0 |
Luminance Smoothing | 0 |
Metering Mode | Partial |
Owner Name | unknown |
Parametric Darks | +4 |
Parametric Highlight Split | 75 |
Parametric Highlights | 0 |
Parametric Lights | -15 |
Parametric Midtone Split | 50 |
Parametric Shadow Split | 25 |
Parametric Shadows | +27 |
Private RTK Info | cHJpdmF0ZVJUS0luZm8gPSB7Cgl7Cg kJZmxhdCA9IHsKCQkJIkJyaXRpc2gg TXVzZXVtIiwKCQl9LAoJCXBhdGggPS B7CgkJCSJCcml0aXNoIE11c2V1bSIs CgkJfSwKCQlwcmltYXJ5ID0gIkJyaX Rpc2ggTXVzZXVtIiwKCQl1dWlkID0g IjVEQTJENTQ0LTU3NzgtNEVDOC1CRD lFLUNFQjE2NDY5NjAwQiIsCgl9LAp9 Cg== |
Red Hue | 0 |
Red Saturation | 0 |
Saturation | 0 |
Saturation Adjustment Aqua | 0 |
Saturation Adjustment Blue | 0 |
Saturation Adjustment Green | 0 |
Saturation Adjustment Magenta | 0 |
Saturation Adjustment Orange | 0 |
Saturation Adjustment Purple | 0 |
Saturation Adjustment Red | 0 |
Saturation Adjustment Yellow | 0 |
Scale Factor To 35 mm Equivalent | 1.6 |
Scene Capture Type | Standard |
Shadow Tint | 0 |
Shadows | 5 |
Sharpness | 25 |
Split Toning Balance | 0 |
Split Toning Highlight Hue | 0 |
Split Toning Highlight Saturation | 0 |
Split Toning Shadow Hue | 0 |
Split Toning Shadow Saturation | 0 |
Subject | British Museum |
Tint | +25 |
Tone Curve | 0, 0, 32, 22, 64, 56, 128, 128, 192, 196, 255, 255 |
Tone Curve Name | Medium Contrast |
Version | 1.0 |
Vibrance | 0 |
Vignette Amount | 0 |
White Balance | Auto |