Shooting information for this photo
Camera: | Canon EOS 350D DIGITAL |
Exposure: | 0.1 sec. (1/10) |
Aperture: | f/4.5 |
Focal Length: | 31.0 mm (35 mm equivalent: 50.3 mm) |
Flash: | Off, Did not fire |
Exposure mode: | Manual |
Max Aperture: | 4.0 |
Resolution: | 96 x 96 dpi |
Original Date: | 2007:05:20 22:10:57 |
Digitized Date: | 2007:05:20 22:10:57+01:00 |
Created on: | 2007:05:20 22:10:57 |
Modified on: | 2007:05:23 01:44:39 |
Already Applied | True |
Artist | unknown |
Blue Hue | 0 |
Blue Saturation | 0 |
Brightness | +58 |
Camera Profile | ACR 2.4 |
Chromatic Aberration B | 0 |
Chromatic Aberration R | 0 |
Circle Of Confusion | 0.019 mm |
Color Temperature | 3750 |
Contrast | +14 |
Convert To Grayscale | True |
Creator | unknown |
Crop Angle | 0 |
Crop Bottom | 0.898844 |
Crop Height | 1425 |
Crop Left | 0.065511 |
Crop Right | 0.926782 |
Crop Top | 0 |
Crop Unit | pixels |
Crop Width | 2048 |
Custom Rendered | Normal |
Exposure | +0.42 |
Exposure Compensation | 0 |
Exposure Mode | Manual |
Field Of View | 39.4 deg |
Fill Light | 0 |
Firmware | 1.0.3 |
Flash Compensation | 0 |
Flash Fired | False |
Flash Function | False |
Flash Mode | Off |
Flash Red Eye Mode | False |
Flash Return | No return detection |
Gray Mixer Aqua | -23 |
Gray Mixer Blue | -1 |
Gray Mixer Green | -19 |
Gray Mixer Magenta | +10 |
Gray Mixer Orange | -4 |
Gray Mixer Purple | +11 |
Gray Mixer Red | +6 |
Gray Mixer Yellow | -8 |
Green Hue | 0 |
Green Saturation | 0 |
Has Crop | True |
Has Settings | True |
Highlight Recovery | 0 |
Hyperfocal Distance | 11.53 m |
ISO | 1600 |
Image Number | 139 |
Image Size | 2048x1425 |
Lens | 18.0-55.0 mm |
Lens Info | 18-55mm f/? |
Light Value | 3.7 |
Luminance Smoothing | 69 |
Metering Mode | Average |
Owner Name | unknown |
Parametric Darks | -8 |
Parametric Highlight Split | 75 |
Parametric Highlights | 0 |
Parametric Lights | +8 |
Parametric Midtone Split | 50 |
Parametric Shadow Split | 25 |
Parametric Shadows | -20 |
Red Hue | 0 |
Red Saturation | 0 |
Scale Factor To 35 mm Equivalent | 1.6 |
Scene Capture Type | Standard |
Shadow Tint | 0 |
Shadows | 1 |
Sharpness | 64 |
Split Toning Balance | 0 |
Split Toning Highlight Hue | 50 |
Split Toning Highlight Saturation | 100 |
Split Toning Shadow Hue | 30 |
Split Toning Shadow Saturation | 28 |
Tint | +19 |
Tone Curve | 0, 0, 255, 255 |
Tone Curve Name | Linear |
Version | 1.0 |
Vignette Amount | 0 |
White Balance | Auto |