Shooting information for this photo
Camera: | Canon EOS 350D DIGITAL |
Exposure: | 0.00063 sec. (1/1600) |
Aperture: | f/29.0 |
Focal Length: | 46.0 mm (35 mm equivalent: 74.6 mm) |
Flash: | Off, Did not fire |
Exposure mode: | Program AE |
Resolution: | 96 x 96 dpi |
Original Date: | 2007:03:11 16:16:58 |
Digitized Date: | 2007:03:11 16:16:58Z |
Created on: | 2007:03:11 16:16:58 |
Modified on: | 2007:03:26 16:06:38 |
Already Applied | True |
Artist | unknown |
Blue Hue | 0 |
Blue Saturation | 0 |
Brightness | +50 |
Camera Profile | ACR 3.1 |
Chromatic Aberration B | 0 |
Chromatic Aberration R | 0 |
Circle Of Confusion | 0.019 mm |
Color Noise Reduction | 25 |
Color Temperature | 5600 |
Contrast | +25 |
Convert To Grayscale | False |
Creator | unknown |
Custom Rendered | Normal |
Exposure | 0.00 |
Exposure Compensation | 0 |
Exposure Mode | Auto |
Field Of View | 27.1 deg |
Fill Light | 0 |
Firmware | 1.0.3 |
Flash Compensation | 0 |
Flash Fired | False |
Flash Function | False |
Flash Mode | Off |
Flash Red Eye Mode | False |
Flash Return | No return detection |
Green Hue | 0 |
Green Saturation | 0 |
Has Crop | False |
Has Settings | True |
Highlight Recovery | 4 |
Hue Adjustment Aqua | 0 |
Hue Adjustment Blue | 0 |
Hue Adjustment Green | 0 |
Hue Adjustment Magenta | 0 |
Hue Adjustment Orange | 0 |
Hue Adjustment Purple | 0 |
Hue Adjustment Red | 0 |
Hue Adjustment Yellow | 0 |
Hyperfocal Distance | 3.94 m |
ISO | 800 |
Image Number | 175 |
Image Size | 1365x2048 |
Lens | 18.0-55.0 mm |
Lens Info | 18-55mm f/? |
Light Value | 17.4 |
Luminance Adjustment Aqua | 0 |
Luminance Adjustment Blue | 0 |
Luminance Adjustment Green | 0 |
Luminance Adjustment Magenta | 0 |
Luminance Adjustment Orange | 0 |
Luminance Adjustment Purple | 0 |
Luminance Adjustment Red | 0 |
Luminance Adjustment Yellow | 0 |
Luminance Smoothing | 0 |
Metering Mode | Partial |
Owner Name | unknown |
Parametric Darks | 0 |
Parametric Highlight Split | 75 |
Parametric Highlights | 0 |
Parametric Lights | 0 |
Parametric Midtone Split | 50 |
Parametric Shadow Split | 25 |
Parametric Shadows | 0 |
Private RTK Info | cHJpdmF0ZVJUS0luZm8gPSB7Cgl7Cg kJZmxhdCA9IHsKCQkJIkVkaW5idXJn aCBhbmQgTG9uZG9uIiwKCQl9LAoJCX BhdGggPSB7CgkJCSJFZGluYnVyZ2gg YW5kIExvbmRvbiIsCgkJfSwKCQlwcm ltYXJ5ID0gIkVkaW5idXJnaCBhbmQg TG9uZG9uIiwKCQl1dWlkID0gIjc2OE I1NzU0LUU5NUItNEEyRC04MzI5LUYx MUE4OTNDQUU4NCIsCgl9LAp9Cg== |
Red Hue | 0 |
Red Saturation | 0 |
Saturation | 0 |
Saturation Adjustment Aqua | 0 |
Saturation Adjustment Blue | 0 |
Saturation Adjustment Green | 0 |
Saturation Adjustment Magenta | 0 |
Saturation Adjustment Orange | 0 |
Saturation Adjustment Purple | 0 |
Saturation Adjustment Red | 0 |
Saturation Adjustment Yellow | 0 |
Scale Factor To 35 mm Equivalent | 1.6 |
Scene Capture Type | Standard |
Shadow Tint | 0 |
Shadows | 5 |
Sharpness | 25 |
Split Toning Balance | 0 |
Split Toning Highlight Hue | 0 |
Split Toning Highlight Saturation | 0 |
Split Toning Shadow Hue | 0 |
Split Toning Shadow Saturation | 0 |
Subject | Edinburgh and London |
Tint | +16 |
Tone Curve | 0, 0, 32, 22, 64, 56, 128, 128, 192, 196, 255, 255 |
Tone Curve Name | Medium Contrast |
Version | 1.0 |
Vibrance | 0 |
Vignette Amount | 0 |
White Balance | Auto |