Shooting information for this photo
Camera: | Canon EOS 350D DIGITAL |
Exposure: | 0.00125 sec. (1/800) |
Aperture: | f/22.0 |
Focal Length: | 44.0 mm (35 mm equivalent: 71.4 mm) |
Flash: | Off, Did not fire |
Exposure mode: | Program AE |
Resolution: | 96 x 96 dpi |
Original Date: | 2007:03:11 16:16:39 |
Digitized Date: | 2007:03:11 16:16:39Z |
Created on: | 2007:03:11 16:16:39 |
Modified on: | 2007:03:26 16:05:55 |
Already Applied | True |
Artist | unknown |
Blue Hue | 0 |
Blue Saturation | 0 |
Brightness | +50 |
Camera Profile | ACR 3.1 |
Chromatic Aberration B | 0 |
Chromatic Aberration R | 0 |
Circle Of Confusion | 0.019 mm |
Color Temperature | 5700 |
Contrast | +25 |
Convert To Grayscale | True |
Creator | unknown |
Custom Rendered | Normal |
Exposure | +0.24 |
Exposure Compensation | 0 |
Exposure Mode | Auto |
Field Of View | 28.3 deg |
Fill Light | 0 |
Firmware | 1.0.3 |
Flash Compensation | 0 |
Flash Fired | False |
Flash Function | False |
Flash Mode | Off |
Flash Red Eye Mode | False |
Flash Return | No return detection |
Gray Mixer Aqua | -18 |
Gray Mixer Blue | +9 |
Gray Mixer Green | -26 |
Gray Mixer Magenta | +3 |
Gray Mixer Orange | -19 |
Gray Mixer Purple | +15 |
Gray Mixer Red | -10 |
Gray Mixer Yellow | -22 |
Green Hue | 0 |
Green Saturation | 0 |
Has Crop | False |
Has Settings | True |
Highlight Recovery | 88 |
Hyperfocal Distance | 4.75 m |
ISO | 800 |
Image Number | 174 |
Image Size | 2048x1365 |
Lens | 18.0-55.0 mm |
Lens Info | 18-55mm f/? |
Light Value | 15.6 |
Luminance Smoothing | 0 |
Metering Mode | Partial |
Owner Name | unknown |
Parametric Darks | -8 |
Parametric Highlight Split | 75 |
Parametric Highlights | 0 |
Parametric Lights | 0 |
Parametric Midtone Split | 50 |
Parametric Shadow Split | 25 |
Parametric Shadows | +36 |
Private RTK Info | cHJpdmF0ZVJUS0luZm8gPSB7Cgl7Cg kJZmxhdCA9IHsKCQkJIkVkaW5idXJn aCBhbmQgTG9uZG9uIiwKCQl9LAoJCX BhdGggPSB7CgkJCSJFZGluYnVyZ2gg YW5kIExvbmRvbiIsCgkJfSwKCQlwcm ltYXJ5ID0gIkVkaW5idXJnaCBhbmQg TG9uZG9uIiwKCQl1dWlkID0gIjc2OE I1NzU0LUU5NUItNEEyRC04MzI5LUYx MUE4OTNDQUU4NCIsCgl9LAp9Cg== |
Red Hue | 0 |
Red Saturation | 0 |
Scale Factor To 35 mm Equivalent | 1.6 |
Scene Capture Type | Standard |
Shadow Tint | 0 |
Shadows | 5 |
Sharpness | 25 |
Split Toning Balance | 0 |
Split Toning Highlight Hue | 0 |
Split Toning Highlight Saturation | 0 |
Split Toning Shadow Hue | 0 |
Split Toning Shadow Saturation | 0 |
Subject | Edinburgh and London |
Tint | +15 |
Tone Curve | 0, 0, 32, 22, 64, 56, 128, 128, 192, 196, 255, 255 |
Tone Curve Name | Medium Contrast |
Version | 1.0 |
Vignette Amount | 0 |
White Balance | Auto |