Shooting information for this photo
Camera: | Canon EOS 350D DIGITAL |
Exposure: | 0.005 sec. (1/200) |
Aperture: | f/7.1 |
Focal Length: | 105.0 mm (35 mm equivalent: 170.3 mm) |
Flash: | Off, Did not fire |
Exposure mode: | Program AE |
Resolution: | 240 x 240 dpi |
Dimension: | 3456 x 2304 pixels |
Original Date: | 2010:04:17 13:23:47 |
Digitized Date: | 2010:04:17 13:23:47+01:00 |
Created on: | 2010:04:17 13:23:47 |
Modified on: | 2010:04:22 13:36:59 |
Already Applied | True |
Artist | unknown |
Blue Hue | 0 |
Blue Saturation | 0 |
Brightness | +28 |
Camera Profile | Adobe Standard |
Chromatic Aberration B | 0 |
Chromatic Aberration R | 0 |
Circle Of Confusion | 0.019 mm |
Clarity | +42 |
Color Noise Reduction | 25 |
Color Noise Reduction Detail | 50 |
Color Temperature | 5550 |
Contrast | +59 |
Convert To Grayscale | True |
Creator | unknown |
Custom Rendered | Normal |
Defringe | 0 |
Exposure | -0.10 |
Exposure Compensation | 0 |
Exposure Mode | Auto |
Field Of View | 12.1 deg |
Fill Light | 27 |
Firmware | 1.0.3 |
Flash Compensation | -0.333333333333333 |
Flash Fired | False |
Flash Function | False |
Flash Mode | Off |
Flash Red Eye Mode | False |
Flash Return | No return detection |
Grain Amount | 0 |
Gray Mixer Aqua | -10 |
Gray Mixer Blue | +20 |
Gray Mixer Green | -17 |
Gray Mixer Magenta | +32 |
Gray Mixer Orange | +35 |
Gray Mixer Purple | +25 |
Gray Mixer Red | +39 |
Gray Mixer Yellow | +35 |
Green Hue | 0 |
Green Saturation | 0 |
Has Crop | False |
Has Settings | True |
Highlight Recovery | 0 |
Hyperfocal Distance | 83.84 m |
ISO | 200 |
Image Number | 245 |
Image Size | 3486x2334 |
Lens | 28.0-135.0 mm |
Lens ID | Unknown (65535) 28-135mm |
Lens Info | 28-135mm f/? |
Light Value | 12.3 |
Luminance Smoothing | 0 |
Metering Mode | Average |
Owner Name | unknown |
Parametric Darks | -17 |
Parametric Highlight Split | 75 |
Parametric Highlights | 0 |
Parametric Lights | +41 |
Parametric Midtone Split | 50 |
Parametric Shadow Split | 25 |
Parametric Shadows | 0 |
Photometric Interpretation | RGB |
Post Crop Vignette Amount | 0 |
Process Version | 5.7 |
Red Hue | 0 |
Red Saturation | 0 |
Samples Per Pixel | 3 |
Scale Factor To 35 mm Equivalent | 1.6 |
Scene Capture Type | Standard |
Shadow Tint | 0 |
Shadows | 17 |
Sharpen Detail | 50 |
Sharpen Edge Masking | 0 |
Sharpen Radius | +1.0 |
Sharpness | 25 |
Split Toning Balance | 0 |
Split Toning Highlight Hue | 51 |
Split Toning Highlight Saturation | 7 |
Split Toning Shadow Hue | 37 |
Split Toning Shadow Saturation | 18 |
Subject | scumrun |
Tint | -4 |
Tone Curve | 0, 0, 32, 22, 64, 56, 128, 128, 192, 196, 255, 255 |
Tone Curve Name | Medium Contrast |
Version | 6.0 |
Vignette Amount | 0 |
White Balance | Auto |