Shooting information for this photo
Camera: | Canon EOS 350D DIGITAL |
Exposure: | 0.00625 sec. (1/160) |
Aperture: | f/8.0 |
Focal Length: | 28.0 mm (35 mm equivalent: 109.1 mm) |
Flash: | Off, Did not fire |
Exposure mode: | Program AE |
Max Aperture: | 3.5 |
Resolution: | 240 x 240 dpi |
Dimension: | 960 x 1440 pixels |
Original Date: | 2010:03:25 19:33:00 |
Digitized Date: | 2010:03:25 19:33:00Z |
Created on: | 2010:03:25 19:33:00 |
Modified on: | 2010:08:07 03:11:01 |
Copyright: | Kieran Turner |
Already Applied | True |
Artist | unknown |
Blue Hue | 0 |
Blue Saturation | 0 |
Brightness | +3 |
Camera Profile | ACR 4.4 |
Chromatic Aberration B | 0 |
Chromatic Aberration R | -27 |
Circle Of Confusion | 0.008 mm |
Clarity | +11 |
Color Noise Reduction | 25 |
Color Space | Uncalibrated |
Color Temperature | 6150 |
Contrast | High |
Convert To Grayscale | False |
Creator | Kieran Turner |
Custom Rendered | Normal |
Defringe | 0 |
Exposure | +0.25 |
Exposure Compensation | 0 |
Exposure Mode | Auto |
Field Of View | 18.7 deg |
Fill Light | 8 |
Firmware | 1.0.3 |
Flash Compensation | -0.333333333333333 |
Flash Fired | False |
Flash Function | False |
Flash Mode | Off |
Flash Red Eye Mode | False |
Flash Return | No return detection |
Green Hue | 0 |
Green Saturation | 0 |
Has Crop | False |
Has Settings | True |
Highlight Recovery | 0 |
Hue Adjustment Aqua | 0 |
Hue Adjustment Blue | 0 |
Hue Adjustment Green | 0 |
Hue Adjustment Magenta | 0 |
Hue Adjustment Orange | 0 |
Hue Adjustment Purple | 0 |
Hue Adjustment Red | 0 |
Hue Adjustment Yellow | 0 |
Hyperfocal Distance | 12.70 m |
ISO | 400 |
Image Number | 102 |
Image Size | 990x1470 |
Lens | 28.0-135.0 mm |
Lens ID | Unknown (65535) 28-135mm |
Lens Info | 28-135mm f/? |
Light Value | 11.3 |
Location | Budva, Montenegro |
Luminance Adjustment Aqua | 0 |
Luminance Adjustment Blue | 0 |
Luminance Adjustment Green | 0 |
Luminance Adjustment Magenta | 0 |
Luminance Adjustment Orange | 0 |
Luminance Adjustment Purple | 0 |
Luminance Adjustment Red | 0 |
Luminance Adjustment Yellow | 0 |
Luminance Smoothing | 0 |
Marked | True |
Metering Mode | Average |
Owner Name | unknown |
Parametric Darks | +41 |
Parametric Highlight Split | 75 |
Parametric Highlights | +100 |
Parametric Lights | +29 |
Parametric Midtone Split | 50 |
Parametric Shadow Split | 25 |
Parametric Shadows | +66 |
Post Crop Vignette Amount | 0 |
Red Hue | 0 |
Red Saturation | 0 |
Rights | Kieran Turner |
Saturation | High |
Saturation Adjustment Aqua | 0 |
Saturation Adjustment Blue | 0 |
Saturation Adjustment Green | 0 |
Saturation Adjustment Magenta | 0 |
Saturation Adjustment Orange | 0 |
Saturation Adjustment Purple | 0 |
Saturation Adjustment Red | 0 |
Saturation Adjustment Yellow | 0 |
Scale Factor To 35 mm Equivalent | 3.9 |
Scene Capture Type | Standard |
Shadow Tint | 0 |
Shadows | 6 |
Sharpen Detail | 25 |
Sharpen Edge Masking | 0 |
Sharpen Radius | +1.0 |
Sharpness | Hard |
Split Toning Balance | 0 |
Split Toning Highlight Hue | 0 |
Split Toning Highlight Saturation | 0 |
Split Toning Shadow Hue | 0 |
Split Toning Shadow Saturation | 0 |
Tint | +16 |
Tone Curve | 0, 0, 32, 22, 64, 56, 128, 128, 192, 196, 255, 255 |
Tone Curve Name | Medium Contrast |
Version | 6.1 |
Vibrance | +36 |
Vignette Amount | 0 |
White Balance | Auto |