Shooting information for this photo
Camera: | Canon EOS 350D DIGITAL |
Exposure: | 0.008 sec. (1/125) |
Aperture: | f/8.0 |
Focal Length: | 28.0 mm (35 mm equivalent: 112.8 mm) |
Flash: | Off, Did not fire |
Exposure mode: | Program AE |
Resolution: | 240 x 240 dpi |
Dimension: | 851 x 1440 pixels |
Original Date: | 2010:03:25 19:06:41 |
Digitized Date: | 2010:03:25 19:06:41Z |
Created on: | 2010:03:25 19:06:41 |
Modified on: | 2010:08:07 03:10:28 |
Copyright: | Kieran Turner |
Already Applied | True |
Artist | unknown |
Blue Hue | 0 |
Blue Saturation | 0 |
Brightness | +58 |
Camera Profile | ACR 4.4 |
Chromatic Aberration B | +2 |
Chromatic Aberration R | -30 |
Circle Of Confusion | 0.007 mm |
Clarity | +14 |
Color Noise Reduction | 25 |
Color Space | Uncalibrated |
Color Temperature | 5100 |
Contrast | High |
Convert To Grayscale | True |
Creator | Kieran Turner |
Crop Angle | 0 |
Crop Bottom | 0.969581 |
Crop Height | 851 |
Crop Left | 0 |
Crop Right | 1 |
Crop Top | 0.083446 |
Crop Unit | pixels |
Crop Width | 1440 |
Custom Rendered | Normal |
Defringe | 0 |
Exposure | -1.25 |
Exposure Compensation | 0 |
Exposure Mode | Auto |
Field Of View | 18.1 deg |
Fill Light | 9 |
Firmware | 1.0.3 |
Flash Compensation | -0.333333333333333 |
Flash Fired | False |
Flash Function | False |
Flash Mode | Off |
Flash Red Eye Mode | False |
Flash Return | No return detection |
Gray Mixer Aqua | -27 |
Gray Mixer Blue | -75 |
Gray Mixer Green | -19 |
Gray Mixer Magenta | -44 |
Gray Mixer Orange | +100 |
Gray Mixer Purple | +52 |
Gray Mixer Red | -48 |
Gray Mixer Yellow | +100 |
Green Hue | 0 |
Green Saturation | 0 |
Has Crop | True |
Has Settings | True |
Highlight Recovery | 83 |
Hyperfocal Distance | 13.15 m |
ISO | 200 |
Image Number | 54 |
Image Size | 881x1470 |
Lens | 28.0-135.0 mm |
Lens ID | Unknown (65535) 28-135mm |
Lens Info | 28-135mm f/? |
Light Value | 12.0 |
Location | Budva, Montenegro |
Luminance Smoothing | 0 |
Marked | True |
Metering Mode | Average |
Owner Name | unknown |
Parametric Darks | -13 |
Parametric Highlight Split | 75 |
Parametric Highlights | +66 |
Parametric Lights | +29 |
Parametric Midtone Split | 50 |
Parametric Shadow Split | 25 |
Parametric Shadows | +78 |
Post Crop Vignette Amount | 0 |
Red Hue | 0 |
Red Saturation | 0 |
Rights | Kieran Turner |
Scale Factor To 35 mm Equivalent | 4.0 |
Scene Capture Type | Standard |
Shadow Tint | 0 |
Shadows | 14 |
Sharpen Detail | 25 |
Sharpen Edge Masking | 0 |
Sharpen Radius | +1.0 |
Sharpness | Hard |
Split Toning Balance | 0 |
Split Toning Highlight Hue | 0 |
Split Toning Highlight Saturation | 0 |
Split Toning Shadow Hue | 0 |
Split Toning Shadow Saturation | 0 |
Tint | +11 |
Tone Curve | 0, 0, 32, 16, 64, 50, 128, 128, 192, 202, 255, 255 |
Tone Curve Name | Strong Contrast |
Version | 6.1 |
Vignette Amount | 0 |
White Balance | Auto |