Shooting information for this photo
Camera: | Canon EOS 350D DIGITAL |
Exposure: | 0.0125 sec. (1/80) |
Aperture: | f/5.6 |
Focal Length: | 30.0 mm (35 mm equivalent: 167.6 mm) |
Flash: | Off, Did not fire |
Exposure mode: | Program AE |
Resolution: | 240 x 240 dpi |
Dimension: | 693 x 988 pixels |
Original Date: | 2010:03:23 18:53:16 |
Digitized Date: | 2010:03:23 18:53:16Z |
Created on: | 2010:03:23 18:53:16 |
Modified on: | 2010:08:07 03:08:52 |
Copyright: | Kieran Turner |
Already Applied | True |
Artist | unknown |
Blue Hue | 0 |
Blue Saturation | 0 |
Brightness | +50 |
Camera Profile | ACR 4.4 |
Chromatic Aberration B | 0 |
Chromatic Aberration R | 0 |
Circle Of Confusion | 0.005 mm |
Clarity | +40 |
Color Noise Reduction | 25 |
Color Space | Uncalibrated |
Color Temperature | 5700 |
Contrast | High |
Convert To Grayscale | True |
Creator | Kieran Turner |
Crop Angle | 0 |
Crop Bottom | 0.77057 |
Crop Height | 988 |
Crop Left | 0.53481 |
Crop Right | 0.735232 |
Crop Top | 0.341772 |
Crop Unit | pixels |
Crop Width | 693 |
Custom Rendered | Normal |
Defringe | 0 |
Exposure | 0.00 |
Exposure Compensation | 0 |
Exposure Mode | Auto |
Field Of View | 12.3 deg |
Fill Light | 0 |
Firmware | 1.0.3 |
Flash Compensation | -0.333333333333333 |
Flash Fired | False |
Flash Function | False |
Flash Mode | Off |
Flash Red Eye Mode | False |
Flash Return | No return detection |
Gray Mixer Aqua | +21 |
Gray Mixer Blue | +45 |
Gray Mixer Green | +10 |
Gray Mixer Magenta | +60 |
Gray Mixer Orange | +15 |
Gray Mixer Purple | +55 |
Gray Mixer Red | -25 |
Gray Mixer Yellow | +35 |
Green Hue | 0 |
Green Saturation | 0 |
Has Crop | True |
Has Settings | True |
Highlight Recovery | 0 |
Hyperfocal Distance | 29.88 m |
ISO | 200 |
Image Number | 222 |
Image Size | 723x1018 |
Lens | 28.0-135.0 mm |
Lens ID | Unknown (65535) 28-135mm |
Lens Info | 28-135mm f/? |
Light Value | 10.3 |
Location | Kamza, Albania |
Luminance Smoothing | 5 |
Marked | True |
Metering Mode | Average |
Owner Name | unknown |
Parametric Darks | -5 |
Parametric Highlight Split | 75 |
Parametric Highlights | -31 |
Parametric Lights | -3 |
Parametric Midtone Split | 50 |
Parametric Shadow Split | 25 |
Parametric Shadows | +17 |
Post Crop Vignette Amount | 0 |
Red Hue | 0 |
Red Saturation | 0 |
Rights | Kieran Turner |
Scale Factor To 35 mm Equivalent | 5.6 |
Scene Capture Type | Standard |
Shadow Tint | 0 |
Shadows | 5 |
Sharpen Detail | 35 |
Sharpen Edge Masking | 0 |
Sharpen Radius | +0.6 |
Sharpness | Hard |
Split Toning Balance | 0 |
Split Toning Highlight Hue | 0 |
Split Toning Highlight Saturation | 0 |
Split Toning Shadow Hue | 0 |
Split Toning Shadow Saturation | 0 |
Tint | +19 |
Tone Curve | 0, 0, 32, 16, 64, 50, 128, 128, 192, 202, 255, 255 |
Tone Curve Name | Strong Contrast |
Version | 6.1 |
Vignette Amount | 0 |
White Balance | Auto |