Shooting information for this photo
Camera: | Canon EOS 350D DIGITAL |
Exposure: | 0.0025 sec. (1/400) |
Aperture: | f/11.0 |
Focal Length: | 56.0 mm |
Flash: | Off, Did not fire |
Exposure mode: | Program AE |
Max Aperture: | 3.5 |
Resolution: | 240 x 240 dpi |
Dimension: | 1440 x 434 pixels |
Original Date: | 2010:03:21 12:55:54 |
Digitized Date: | 2010:03:21 12:55:54Z |
Created on: | 2010:03:21 12:55:54 |
Modified on: | 2010:08:07 03:06:20 |
Copyright: | Kieran Turner |
Already Applied | True |
Artist | unknown |
Blue Hue | -60 |
Blue Saturation | +3 |
Brightness | +72 |
Camera Profile | ACR 4.4 |
Chromatic Aberration B | 0 |
Chromatic Aberration R | 0 |
Clarity | 0 |
Color Noise Reduction | 25 |
Color Space | Uncalibrated |
Color Temperature | 4273 |
Contrast | High |
Convert To Grayscale | False |
Creator | Kieran Turner |
Crop Angle | 0 |
Crop Bottom | 0.691457 |
Crop Height | 434 |
Crop Left | 0 |
Crop Right | 1 |
Crop Top | 0.238924 |
Crop Unit | pixels |
Crop Width | 1440 |
Custom Rendered | Normal |
Defringe | 0 |
Exposure | +1.10 |
Exposure Compensation | -1/3 |
Exposure Mode | Auto |
Fill Light | 16 |
Firmware | 1.0.3 |
Flash Compensation | -0.333333333333333 |
Flash Fired | False |
Flash Function | False |
Flash Mode | Off |
Flash Red Eye Mode | False |
Flash Return | No return detection |
Green Hue | +100 |
Green Saturation | +100 |
Has Crop | True |
Has Settings | True |
Highlight Recovery | 0 |
Hue Adjustment Aqua | 0 |
Hue Adjustment Blue | 0 |
Hue Adjustment Green | 0 |
Hue Adjustment Magenta | 0 |
Hue Adjustment Orange | 0 |
Hue Adjustment Purple | 0 |
Hue Adjustment Red | 0 |
Hue Adjustment Yellow | 0 |
ISO | 200 |
Image Number | 90 |
Image Size | 1470x464 |
Lens | 28.0-135.0 mm |
Lens ID | Unknown (65535) 28-135mm |
Lens Info | 28-135mm f/? |
Light Value | 14.6 |
Location | Croatia |
Luminance Adjustment Aqua | 0 |
Luminance Adjustment Blue | 0 |
Luminance Adjustment Green | 0 |
Luminance Adjustment Magenta | 0 |
Luminance Adjustment Orange | 0 |
Luminance Adjustment Purple | 0 |
Luminance Adjustment Red | 0 |
Luminance Adjustment Yellow | 0 |
Luminance Smoothing | 0 |
Marked | True |
Metering Mode | Average |
Owner Name | unknown |
Parametric Darks | -3 |
Parametric Highlight Split | 75 |
Parametric Highlights | 0 |
Parametric Lights | 0 |
Parametric Midtone Split | 50 |
Parametric Shadow Split | 25 |
Parametric Shadows | -14 |
Post Crop Vignette Amount | 0 |
Red Hue | +100 |
Red Saturation | -100 |
Rights | Kieran Turner |
Saturation | High |
Saturation Adjustment Aqua | 0 |
Saturation Adjustment Blue | +83 |
Saturation Adjustment Green | 0 |
Saturation Adjustment Magenta | 0 |
Saturation Adjustment Orange | +1 |
Saturation Adjustment Purple | +42 |
Saturation Adjustment Red | +2 |
Saturation Adjustment Yellow | 0 |
Scene Capture Type | Standard |
Shadow Tint | -4 |
Shadows | 13 |
Sharpen Detail | 25 |
Sharpen Edge Masking | 0 |
Sharpen Radius | +1.0 |
Sharpness | Hard |
Split Toning Balance | 0 |
Split Toning Highlight Hue | 0 |
Split Toning Highlight Saturation | 0 |
Split Toning Shadow Hue | 0 |
Split Toning Shadow Saturation | 0 |
Tint | +17 |
Tone Curve | 0, 0, 255, 255 |
Tone Curve Name | Linear |
Version | 6.1 |
Vibrance | +38 |
Vignette Amount | 0 |
White Balance | Auto |