Shooting information for this photo
Camera: | Canon EOS 350D DIGITAL |
Exposure: | 0.004 sec. (1/250) |
Aperture: | f/10.0 |
Focal Length: | 85.0 mm (35 mm equivalent: 328.1 mm) |
Flash: | Off, Did not fire |
Exposure mode: | Program AE |
Max Aperture: | 5.6 |
Resolution: | 240 x 240 dpi |
Dimension: | 1440 x 987 pixels |
Original Date: | 2010:03:21 12:53:39 |
Digitized Date: | 2010:03:21 12:53:39Z |
Created on: | 2010:03:21 12:53:39 |
Modified on: | 2010:08:07 03:06:16 |
Copyright: | Kieran Turner |
Already Applied | True |
Artist | unknown |
Blue Hue | 0 |
Blue Saturation | 0 |
Brightness | +55 |
Camera Profile | ACR 4.4 |
Chromatic Aberration B | 0 |
Chromatic Aberration R | 0 |
Circle Of Confusion | 0.008 mm |
Clarity | +50 |
Color Noise Reduction | 25 |
Color Space | Uncalibrated |
Color Temperature | 5700 |
Contrast | High |
Convert To Grayscale | True |
Creator | Kieran Turner |
Crop Angle | -0.249283 |
Crop Bottom | 0.751345 |
Crop Height | 987 |
Crop Left | 0.347273 |
Crop Right | 0.905891 |
Crop Top | 0.1822 |
Crop Unit | pixels |
Crop Width | 1440 |
Custom Rendered | Normal |
Defringe | 0 |
Exposure | -0.35 |
Exposure Compensation | -1/3 |
Exposure Mode | Auto |
Field Of View | 6.3 deg |
Fill Light | 5 |
Firmware | 1.0.3 |
Flash Compensation | -0.333333333333333 |
Flash Fired | False |
Flash Function | False |
Flash Mode | Off |
Flash Red Eye Mode | False |
Flash Return | No return detection |
Gray Mixer Aqua | 0 |
Gray Mixer Blue | +40 |
Gray Mixer Green | +35 |
Gray Mixer Magenta | 0 |
Gray Mixer Orange | 0 |
Gray Mixer Purple | +81 |
Gray Mixer Red | +25 |
Gray Mixer Yellow | 0 |
Green Hue | 0 |
Green Saturation | 0 |
Has Crop | True |
Has Settings | True |
Highlight Recovery | 20 |
Hyperfocal Distance | 92.81 m |
ISO | 200 |
Image Number | 83 |
Image Size | 1470x1017 |
Lens | 28.0-135.0 mm |
Lens ID | Unknown (65535) 28-135mm |
Lens Info | 28-135mm f/? |
Light Value | 13.6 |
Location | Croatia |
Luminance Smoothing | 0 |
Marked | True |
Metering Mode | Average |
Owner Name | unknown |
Parametric Darks | 0 |
Parametric Highlight Split | 75 |
Parametric Highlights | 0 |
Parametric Lights | 0 |
Parametric Midtone Split | 50 |
Parametric Shadow Split | 25 |
Parametric Shadows | 0 |
Post Crop Vignette Amount | 0 |
Red Hue | 0 |
Red Saturation | 0 |
Rights | Kieran Turner |
Scale Factor To 35 mm Equivalent | 3.9 |
Scene Capture Type | Standard |
Shadow Tint | 0 |
Shadows | 14 |
Sharpen Detail | 51 |
Sharpen Edge Masking | 0 |
Sharpen Radius | +1.0 |
Sharpness | Hard |
Split Toning Balance | 0 |
Split Toning Highlight Hue | 0 |
Split Toning Highlight Saturation | 0 |
Split Toning Shadow Hue | 0 |
Split Toning Shadow Saturation | 0 |
Tint | +15 |
Tone Curve | 0, 0, 32, 22, 64, 56, 128, 128, 192, 196, 255, 255 |
Tone Curve Name | Medium Contrast |
Version | 6.1 |
Vignette Amount | 0 |
White Balance | Auto |