Shooting information for this photo
Camera: | Canon EOS 350D DIGITAL |
Exposure: | 0.00556 sec. (1/180) |
Aperture: | f/11.0 |
Focal Length: | 35.0 mm (35 mm equivalent: 56.8 mm) |
Flash: | Off, Did not fire |
Exposure mode: | Program AE |
Resolution: | 240 x 240 dpi |
Original Date: | 2011:10:08 10:57:32 |
Created on: | 2011:10:08 10:57:32 |
Modified on: | 2012:03:22 14:17:16 |
Software: | Adobe Photoshop Lightroom 3.6 (Macintosh) |
Copyright: | Kieran Turner |
Already Applied | True |
Artist | Kieran Turner |
Blue Hue | 0 |
Blue Saturation | 0 |
Brightness | +140 |
Camera Profile | Camera Faithful |
Chromatic Aberration B | 0 |
Chromatic Aberration R | 0 |
Circle Of Confusion | 0.019 mm |
Clarity | -48 |
Color Noise Reduction | 25 |
Color Noise Reduction Detail | 50 |
Color Temperature | 5400 |
Contrast | +35 |
Convert To Grayscale | True |
Creator | Kieran Turner |
Crop Angle | 0 |
Crop Bottom | 1 |
Crop Constrain To Warp | 0 |
Crop Height | 2198 |
Crop Left | 0.197338 |
Crop Right | 0.833333 |
Crop Top | 0.046008 |
Crop Unit | pixels |
Crop Width | 2198 |
Custom Rendered | Normal |
Date Created | 2011:10:08 10:57:32 |
Defringe | 0 |
Digital Source Type | http://cv.iptc.org/newscodes/d igitalsourcetype/digitalCaptur e |
Exposure | -0.10 |
Exposure Compensation | 0 |
Exposure Mode | Auto |
Field Of View | 35.2 deg |
Fill Light | 27 |
Firmware | 1.0.3 |
Flash Compensation | 0 |
Format | image/jpeg |
Grain Amount | 0 |
Gray Mixer Aqua | +43 |
Gray Mixer Blue | +2 |
Gray Mixer Green | +14 |
Gray Mixer Magenta | +12 |
Gray Mixer Orange | +24 |
Gray Mixer Purple | -10 |
Gray Mixer Red | -26 |
Gray Mixer Yellow | +7 |
Green Hue | 0 |
Green Saturation | 0 |
Has Crop | True |
Has Settings | True |
Highlight Recovery | 77 |
Hyperfocal Distance | 6.01 m |
ISO | 400 |
Image Number | 11 |
Image Size | 2198x2198 |
Lens | 18.0-55.0 mm |
Lens Info | 18-55mm f/? |
Lens Manual Distortion Amount | 0 |
Lens Model | 18.0-55.0 mm |
Lens Profile Enable | 0 |
Lens Profile Setup | LensDefaults |
Light Value | 12.4 |
Luminance Noise Reduction Contrast | 6 |
Luminance Noise Reduction Detail | 27 |
Luminance Smoothing | 59 |
Marked | True |
Metering Mode | Average |
Owner Name | unknown |
Parametric Darks | -7 |
Parametric Highlight Split | 75 |
Parametric Highlights | +18 |
Parametric Lights | -1 |
Parametric Midtone Split | 50 |
Parametric Shadow Split | 25 |
Parametric Shadows | 0 |
Perspective Horizontal | 0 |
Perspective Rotate | 0.0 |
Perspective Scale | 100 |
Perspective Vertical | 0 |
Post Crop Vignette Amount | -9 |
Post Crop Vignette Feather | 50 |
Post Crop Vignette Highlight Contrast | 0 |
Post Crop Vignette Midpoint | 50 |
Post Crop Vignette Roundness | 0 |
Post Crop Vignette Style | 1 |
Process Version | 5.7 |
Red Hue | 0 |
Red Saturation | 0 |
Rights | Kieran Turner |
Scale Factor To 35 mm Equivalent | 1.6 |
Scene Capture Type | Standard |
Shadow Tint | 0 |
Shadows | 6 |
Sharpen Detail | 25 |
Sharpen Edge Masking | 0 |
Sharpen Radius | +1.0 |
Sharpness | 29 |
Split Toning Balance | 0 |
Split Toning Highlight Hue | 0 |
Split Toning Highlight Saturation | 0 |
Split Toning Shadow Hue | 0 |
Split Toning Shadow Saturation | 0 |
Tint | +22 |
Tone Curve | 0, 0, 32, 16, 64, 50, 128, 128, 192, 202, 255, 255 |
Tone Curve Name | Strong Contrast |
Version | 6.6 |
Vignette Amount | 0 |
White Balance | Auto |