Shooting information for this photo
Camera: | OLYMPUS IMAGING CORP. E-M5 |
Exposure: | 0.004 sec. (1/250) |
Aperture: | f/11.0 |
Focal Length: | 40.0 mm (35 mm equivalent: 80.0 mm) |
Flash: | Auto, Did not fire |
Exposure mode: | Aperture-priority AE |
Max Aperture: | 2.8 |
Resolution: | 300 x 300 dpi |
Original Date: | 2017:08:16 12:45:53 |
Created on: | 2017:08:16 12:45:53 |
Modified on: | 2017:08:23 19:36:34 |
Software: | Adobe Photoshop Lightroom 6.7 (Macintosh) |
Copyright: | Keith Burton |
Already Applied | True |
Approximate Focus Distance | 4294967295 |
Artist | Keith Burton |
Auto Lateral CA | 0 |
Auto White Version | 134348800 |
Blacks 2012 | 0 |
Blue Hue | 0 |
Blue Saturation | 0 |
Body Serial Number | BEK509372 |
Camera Profile | Embedded |
Circle Of Confusion | 0.015 mm |
Clarity 2012 | +21 |
Color Noise Reduction | 0 |
Color Space | sRGB |
Contrast | Normal |
Contrast 2012 | 0 |
Convert To Grayscale | False |
Creator | Keith Burton |
Date Created | 2017:08:16 12:45:53 |
Defringe Green Amount | 0 |
Defringe Green Hue Hi | 60 |
Defringe Green Hue Lo | 40 |
Defringe Purple Amount | 0 |
Defringe Purple Hue Hi | 70 |
Defringe Purple Hue Lo | 30 |
Dehaze | 0 |
Description | OLYMPUS DIGITAL CAMERA |
Digital Zoom Ratio | 1 |
Exposure 2012 | 0.00 |
Exposure Compensation | +1/2 |
Exposure Mode | Manual |
Field Of View | 25.4 deg |
Flash Compensation | 0 |
Focal Length In 35mm Format | 80 mm |
Format | image/jpeg |
Gain Control | Low gain up |
Grain Amount | 0 |
Green Hue | 0 |
Green Saturation | 0 |
Has Crop | False |
Has Settings | True |
Highlights 2012 | 0 |
Hue Adjustment Aqua | 0 |
Hue Adjustment Blue | 0 |
Hue Adjustment Green | 0 |
Hue Adjustment Magenta | 0 |
Hue Adjustment Orange | 0 |
Hue Adjustment Purple | 0 |
Hue Adjustment Red | 0 |
Hue Adjustment Yellow | 0 |
Hyperfocal Distance | 9.68 m |
ISO | 200 |
Image Description | OLYMPUS DIGITAL CAMERA |
Image Size | 2048x1373 |
Incremental Temperature | 0 |
Incremental Tint | 0 |
Label | Red |
Lens | OLYMPUS M.12-40mm F2.8 |
Lens Info | 12-40mm f/2.8 |
Lens Manual Distortion Amount | 0 |
Lens Model | OLYMPUS M.12-40mm F2.8 |
Lens Profile Enable | 0 |
Lens Profile Setup | LensDefaults |
Lens Specification | 12, 40, 2.8, 2.8 |
Light Source | Unknown |
Light Value | 13.9 |
Luminance Adjustment Aqua | 0 |
Luminance Adjustment Blue | 0 |
Luminance Adjustment Green | 0 |
Luminance Adjustment Magenta | 0 |
Luminance Adjustment Orange | 0 |
Luminance Adjustment Purple | 0 |
Luminance Adjustment Red | 0 |
Luminance Adjustment Yellow | 0 |
Luminance Smoothing | 0 |
Metering Mode | Multi-segment |
Parametric Darks | 0 |
Parametric Highlight Split | 75 |
Parametric Highlights | 0 |
Parametric Lights | 0 |
Parametric Midtone Split | 50 |
Parametric Shadow Split | 25 |
Parametric Shadows | 0 |
Perspective Aspect | 0 |
Perspective Horizontal | 0 |
Perspective Rotate | 0.0 |
Perspective Scale | 100 |
Perspective Upright | 0 |
Perspective Vertical | 0 |
Perspective X | 0.00 |
Perspective Y | 0.00 |
Photographic Sensitivity | 200 |
Post Crop Vignette Amount | 0 |
Process Version | 6.7 |
Red Hue | 0 |
Red Saturation | 0 |
Rights | Keith Burton |
Saturation | Normal |
Saturation Adjustment Aqua | 0 |
Saturation Adjustment Blue | 0 |
Saturation Adjustment Green | 0 |
Saturation Adjustment Magenta | 0 |
Saturation Adjustment Orange | 0 |
Saturation Adjustment Purple | 0 |
Saturation Adjustment Red | 0 |
Saturation Adjustment Yellow | 0 |
Scale Factor To 35 mm Equivalent | 2.0 |
Scene Capture Type | Standard |
Shadow Tint | 0 |
Shadows 2012 | 0 |
Sharpen Detail | 25 |
Sharpen Edge Masking | 0 |
Sharpen Radius | +1.0 |
Sharpness | Normal |
Split Toning Balance | 0 |
Split Toning Highlight Hue | 0 |
Split Toning Highlight Saturation | 0 |
Split Toning Shadow Hue | 0 |
Split Toning Shadow Saturation | 0 |
Tone Curve | 0, 0, 255, 255 |
Tone Curve Blue | 0, 0, 255, 255 |
Tone Curve Green | 0, 0, 255, 255 |
Tone Curve Name | Linear |
Tone Curve Name 2012 | Linear |
Tone Curve PV2012 | 0, 0, 255, 255 |
Tone Curve PV2012 Blue | 0, 0, 255, 255 |
Tone Curve PV2012 Green | 0, 0, 255, 255 |
Tone Curve PV2012 Red | 0, 0, 255, 255 |
Tone Curve Red | 0, 0, 255, 255 |
Tone Map Strength | 0 |
Version | 9.7 |
Vibrance | +15 |
Vignette Amount | 0 |
White Balance | Auto |
Whites 2012 | 0 |