Shooting information for this photo
Camera: | Canon EOS 5D |
Exposure: | 13 sec. |
Aperture: | f/22.0 |
Focal Length: | 50.0 mm (35 mm equivalent: 50.1 mm) |
Flash: | Off, Did not fire |
Exposure mode: | Manual |
Max Aperture: | 1.4 |
Resolution: | 240 x 240 dpi |
Dimension: | 1920 x 1080 pixels |
Original Date: | 2009:08:19 20:36:27 |
Created on: | 2009:08:19 20:36:27 |
Modified on: | 2019:11:26 20:55:42 |
Software: | Adobe Photoshop CC 2018 (Windows) |
Copyright: | © Jean Vernet, Montreux |
Already Applied | True |
Artist | Jean Vernet |
Auto Lateral CA | 0 |
Blacks 2012 | -11 |
Blue Hue | 0 |
Blue Saturation | 0 |
Body Serial Number | 730505687 |
Camera Profile | Canon EOS 5D_4850K |
Caption Writer | Jean Vernet |
Circle Of Confusion | 0.030 mm |
Clarity 2012 | +24 |
Color Mode | RGB |
Color Noise Reduction | 25 |
Color Noise Reduction Detail | 50 |
Color Noise Reduction Smoothness | 50 |
Color Space | sRGB |
Color Temperature | 4950 |
Contrast 2012 | 0 |
Convert To Grayscale | False |
Creator | Jean Vernet |
Crop Angle | 0 |
Crop Bottom | 0.984155 |
Crop Constrain To Warp | 1 |
Crop Left | 0.150235 |
Crop Right | 0.888498 |
Crop Top | 0.198944 |
Custom Rendered | Normal |
Date Created | 2009:08:19 20:36:27+02:00 |
Defringe Green Amount | 0 |
Defringe Green Hue Hi | 60 |
Defringe Green Hue Lo | 40 |
Defringe Purple Amount | 0 |
Defringe Purple Hue Hi | 70 |
Defringe Purple Hue Lo | 30 |
Dehaze | 0 |
Description | Crocodile Märklin 3015 Be 6/8 III et Re 4/4 I (anciens modèles) sur le réseau provisoire du balcon AS34 |
Exposure 2012 | 0.00 |
Exposure Compensation | 0 |
Exposure Mode | Manual |
Field Of View | 39.5 deg |
Firmware | 1.1.0 |
Flash Compensation | 0 |
Format | image/jpeg |
Grain Amount | 0 |
Green Hue | 0 |
Green Saturation | 0 |
Has Crop | True |
Has Settings | True |
Headline | Crocodile Märklin 3015 Be 6/8 III et Re 4/4 I (anciens modèles) sur le réseau provisoire du balcon AS34 |
Highlights 2012 | -58 |
Hue Adjustment Aqua | 0 |
Hue Adjustment Blue | 0 |
Hue Adjustment Green | 0 |
Hue Adjustment Magenta | 0 |
Hue Adjustment Orange | 0 |
Hue Adjustment Purple | 0 |
Hue Adjustment Red | 0 |
Hue Adjustment Yellow | 0 |
Hyperfocal Distance | 3.79 m |
ICC Profile Name | sRGB IEC61966-2.1 |
ISO | 100 |
Image Description | Crocodile Märklin 3015 Be 6/8 III et Re 4/4 I (anciens modèles) sur le réseau provisoire du balcon AS34 |
Image Number | 3 |
Image Size | 1920x1080 |
Label | TIFF OK |
Lens | EF50mm f/1.4 USM |
Lens ID | Canon EF 50mm f/1.4 USM |
Lens Info | 50mm f/? |
Lens Manual Distortion Amount | 0 |
Lens Model | EF50mm f/1.4 USM |
Lens Profile Enable | 0 |
Lens Profile Setup | LensDefaults |
Lens Specification | 50, 50, undef, undef |
Light Value | 5.2 |
Luminance Adjustment Aqua | 0 |
Luminance Adjustment Blue | 0 |
Luminance Adjustment Green | 0 |
Luminance Adjustment Magenta | 0 |
Luminance Adjustment Orange | 0 |
Luminance Adjustment Purple | 0 |
Luminance Adjustment Red | 0 |
Luminance Adjustment Yellow | 0 |
Luminance Smoothing | 0 |
Marked | True |
Metering Mode | Multi-segment |
Override Look Vignette | False |
Parametric Darks | 0 |
Parametric Highlight Split | 75 |
Parametric Highlights | 0 |
Parametric Lights | 0 |
Parametric Midtone Split | 50 |
Parametric Shadow Split | 25 |
Parametric Shadows | 0 |
Perspective Aspect | 0 |
Perspective Horizontal | 0 |
Perspective Rotate | 0.0 |
Perspective Scale | 100 |
Perspective Upright | 0 |
Perspective Vertical | 0 |
Perspective X | 0.00 |
Perspective Y | 0.00 |
Photographic Sensitivity | 100 |
Post Crop Vignette Amount | 0 |
Process Version | 11.0 |
Rating | 2 |
Raw File Name | 090819_Be68_III_Re44_I_balcon. dng |
Red Hue | 0 |
Red Saturation | 0 |
Rights | © Jean Vernet, Montreux |
Saturation | 0 |
Saturation Adjustment Aqua | 0 |
Saturation Adjustment Blue | 0 |
Saturation Adjustment Green | 0 |
Saturation Adjustment Magenta | 0 |
Saturation Adjustment Orange | 0 |
Saturation Adjustment Purple | 0 |
Saturation Adjustment Red | 0 |
Saturation Adjustment Yellow | 0 |
Scale Factor To 35 mm Equivalent | 1.0 |
Scene Capture Type | Standard |
Shadow Tint | 0 |
Shadows 2012 | +41 |
Sharpen Detail | 25 |
Sharpen Edge Masking | 0 |
Sharpen Radius | +1.0 |
Sharpness | 25 |
Split Toning Balance | 0 |
Split Toning Highlight Hue | 0 |
Split Toning Highlight Saturation | 0 |
Split Toning Shadow Hue | 0 |
Split Toning Shadow Saturation | 0 |
Subject | Märklin, crocodile, Be 6/8 III, 3015, Re 4/4 I, AS34 |
Tint | -4 |
Tone Curve | 0, 0, 255, 255 |
Tone Curve Blue | 0, 0, 255, 255 |
Tone Curve Green | 0, 0, 255, 255 |
Tone Curve Name | Linear |
Tone Curve Name 2012 | Linear |
Tone Curve PV2012 | 0, 0, 255, 255 |
Tone Curve PV2012 Blue | 0, 0, 255, 255 |
Tone Curve PV2012 Green | 0, 0, 255, 255 |
Tone Curve PV2012 Red | 0, 0, 255, 255 |
Tone Curve Red | 0, 0, 255, 255 |
Tone Map Strength | 0 |
Version | 11.0 |
Vibrance | +24 |
Vignette Amount | 0 |
White Balance | Auto |
Whites 2012 | +28 |