Shooting information for this photo
Camera: | Canon EOS 5D |
Exposure: | 0.005 sec. (1/200) |
Aperture: | f/9.0 |
Focal Length: | 31.0 mm (35 mm equivalent: 31.1 mm) |
Flash: | Off, Did not fire |
Exposure mode: | Aperture-priority AE |
Max Aperture: | 4.0 |
Resolution: | 240 x 240 dpi |
Dimension: | 1920 x 1080 pixels |
Original Date: | 2009:09:06 09:14:12 |
Created on: | 2009:09:06 09:14:12 |
Modified on: | 2019:11:26 21:19:03 |
Software: | Adobe Photoshop CC 2018 (Windows) |
Copyright: | © Jean Vernet, Montreux |
Already Applied | True |
Artist | Jean Vernet |
Auto Lateral CA | 0 |
Blacks 2012 | -1 |
Blue Hue | 0 |
Blue Saturation | 0 |
Camera Profile | Canon EOS 5D_4850K |
Caption Writer | Jean Vernet |
Circle Of Confusion | 0.030 mm |
Clarity 2012 | +21 |
Color Mode | RGB |
Color Noise Reduction | 25 |
Color Noise Reduction Detail | 50 |
Color Noise Reduction Smoothness | 50 |
Color Space | sRGB |
Color Temperature | 4850 |
Contrast 2012 | 0 |
Convert To Grayscale | False |
Creator | Jean Vernet |
Custom Rendered | Normal |
Defringe Green Amount | 0 |
Defringe Green Hue Hi | 60 |
Defringe Green Hue Lo | 40 |
Defringe Purple Amount | 0 |
Defringe Purple Hue Hi | 70 |
Defringe Purple Hue Lo | 30 |
Dehaze | 0 |
Description | Train spécial Palézieux-La Conversion suite interruption à Lausanne (réfection tête Est) |
Exposure 2012 | 0.00 |
Exposure Compensation | 0 |
Exposure Mode | Auto |
Field Of View | 60.2 deg |
Firmware | 1.1.0 |
Flash Compensation | 0 |
Format | image/jpeg |
Grain Amount | 0 |
Green Hue | 0 |
Green Saturation | 0 |
Has Crop | False |
Has Settings | True |
Highlights 2012 | -73 |
Hue Adjustment Aqua | 0 |
Hue Adjustment Blue | 0 |
Hue Adjustment Green | 0 |
Hue Adjustment Magenta | 0 |
Hue Adjustment Orange | 0 |
Hue Adjustment Purple | 0 |
Hue Adjustment Red | 0 |
Hue Adjustment Yellow | 0 |
Hyperfocal Distance | 3.56 m |
ICC Profile Name | sRGB IEC61966-2.1 |
ISO | 100 |
Image Description | Train spécial Palézieux-La Conversion suite interruption à Lausanne (réfection tête Est) |
Image Number | 1 |
Image Size | 1920x1080 |
Label | IPernity WEB |
Lens | EF17-40mm f/4L USM |
Lens ID | Canon EF 17-40mm f/4L |
Lens Info | 17-40mm f/? |
Lens Manual Distortion Amount | 0 |
Lens Model | EF17-40mm f/4L USM |
Lens Profile Enable | 0 |
Lens Profile Setup | LensDefaults |
Light Value | 14.0 |
Luminance Adjustment Aqua | 0 |
Luminance Adjustment Blue | 0 |
Luminance Adjustment Green | 0 |
Luminance Adjustment Magenta | 0 |
Luminance Adjustment Orange | 0 |
Luminance Adjustment Purple | 0 |
Luminance Adjustment Red | 0 |
Luminance Adjustment Yellow | 0 |
Luminance Smoothing | 0 |
Marked | True |
Metering Mode | Multi-segment |
Override Look Vignette | False |
Parametric Darks | 0 |
Parametric Highlight Split | 75 |
Parametric Highlights | 0 |
Parametric Lights | 0 |
Parametric Midtone Split | 50 |
Parametric Shadow Split | 25 |
Parametric Shadows | 0 |
Perspective Aspect | 0 |
Perspective Horizontal | 0 |
Perspective Rotate | 0.0 |
Perspective Scale | 100 |
Perspective Upright | 0 |
Perspective Vertical | 0 |
Perspective X | 0.00 |
Perspective Y | 0.00 |
Post Crop Vignette Amount | 0 |
Process Version | 11.0 |
Rating | 2 |
Raw File Name | 090906_sp_Palezieux.DNG |
Red Hue | 0 |
Red Saturation | 0 |
Rights | © Jean Vernet, Montreux |
Saturation | 0 |
Saturation Adjustment Aqua | 0 |
Saturation Adjustment Blue | 0 |
Saturation Adjustment Green | 0 |
Saturation Adjustment Magenta | 0 |
Saturation Adjustment Orange | 0 |
Saturation Adjustment Purple | 0 |
Saturation Adjustment Red | 0 |
Saturation Adjustment Yellow | 0 |
Scale Factor To 35 mm Equivalent | 1.0 |
Scene Capture Type | Standard |
Shadow Tint | 0 |
Shadows 2012 | +43 |
Sharpen Detail | 25 |
Sharpen Edge Masking | 0 |
Sharpen Radius | +1.0 |
Sharpness | 25 |
Split Toning Balance | 0 |
Split Toning Highlight Hue | 0 |
Split Toning Highlight Saturation | 0 |
Split Toning Shadow Hue | 0 |
Split Toning Shadow Saturation | 0 |
Subject | CFF, Palézieux, NTN |
Tint | +6 |
Tone Curve | 0, 0, 255, 255 |
Tone Curve Blue | 0, 0, 255, 255 |
Tone Curve Green | 0, 0, 255, 255 |
Tone Curve Name | Linear |
Tone Curve Name 2012 | Linear |
Tone Curve PV2012 | 0, 0, 255, 255 |
Tone Curve PV2012 Blue | 0, 0, 255, 255 |
Tone Curve PV2012 Green | 0, 0, 255, 255 |
Tone Curve PV2012 Red | 0, 0, 255, 255 |
Tone Curve Red | 0, 0, 255, 255 |
Tone Map Strength | 0 |
Version | 11.0 |
Vibrance | +23 |
Vignette Amount | 0 |
White Balance | Auto |
Whites 2012 | +4 |