Shooting information for this photo
Camera: | Canon EOS 5D |
Exposure: | 0.004 sec. (1/250) |
Aperture: | f/8.0 |
Focal Length: | 40.0 mm (35 mm equivalent: 40.1 mm) |
Flash: | Off, Did not fire |
Exposure mode: | Aperture-priority AE |
Max Aperture: | 4.0 |
Resolution: | 240 x 240 dpi |
Dimension: | 1920 x 1080 pixels |
Original Date: | 2008:04:10 16:17:18 |
Created on: | 2007:11:21 17:42:07 |
Modified on: | 2019:11:19 21:13:22 |
Software: | Adobe Photoshop CC 2018 (Windows) |
Copyright: | © Jean Vernet, Montreux |
Already Applied | True |
Auto Lateral CA | 0 |
Blacks 2012 | +2 |
Blue Hue | 0 |
Blue Saturation | 0 |
Camera Profile | Canon EOS 5D_4850K |
Circle Of Confusion | 0.030 mm |
Clarity 2012 | +23 |
Color Mode | RGB |
Color Noise Reduction | 25 |
Color Noise Reduction Detail | 50 |
Color Noise Reduction Smoothness | 50 |
Color Space | sRGB |
Color Temperature | 4900 |
Contrast 2012 | 0 |
Convert To Grayscale | False |
Custom Rendered | Normal |
Defringe Green Amount | 0 |
Defringe Green Hue Hi | 60 |
Defringe Green Hue Lo | 40 |
Defringe Purple Amount | 0 |
Defringe Purple Hue Hi | 70 |
Defringe Purple Hue Lo | 30 |
Dehaze | 0 |
Description | 2 x Re 420 en tête train fret à Rivaz, vu du S/S Rhône en course 922 |
Distortion Correction Already Applied | True |
Exposure 2012 | -0.55 |
Exposure Compensation | 0 |
Exposure Mode | Auto |
Field Of View | 48.4 deg |
Firmware | 1.1.0 |
Flash Compensation | 0 |
Format | image/jpeg |
Grain Amount | 0 |
Green Hue | 0 |
Green Saturation | 0 |
Has Crop | False |
Has Settings | True |
Highlights 2012 | 0 |
Hue Adjustment Aqua | 0 |
Hue Adjustment Blue | 0 |
Hue Adjustment Green | 0 |
Hue Adjustment Magenta | 0 |
Hue Adjustment Orange | 0 |
Hue Adjustment Purple | 0 |
Hue Adjustment Red | 0 |
Hue Adjustment Yellow | 0 |
Hyperfocal Distance | 6.67 m |
ICC Profile Name | sRGB IEC61966-2.1 |
ISO | 100 |
Image Description | 2 x Re 420 en tête train fret à Rivaz, vu du S/S Rhône en course 922 |
Image Number | 2 |
Image Size | 1920x1080 |
Label | TIFF OK |
Lens | EF17-40mm f/4L USM |
Lens ID | Canon EF 17-40mm f/4L |
Lens Info | 17-40mm f/? |
Lens Manual Distortion Amount | 0 |
Lens Model | EF17-40mm f/4L USM |
Lens Profile Chromatic Aberration Scale | 100 |
Lens Profile Distortion Scale | 100 |
Lens Profile Enable | 1 |
Lens Profile Filename | Canon EOS-1D Mark III (Canon EF 17-40mm f4 L USM) - RAW.lcp |
Lens Profile Name | Canon EOS-1D Mark III (Canon EF 17-40mm f/4 L USM) |
Lens Profile Setup | LensDefaults |
Lens Profile Vignetting Scale | 100 |
Light Value | 14.0 |
Luminance Adjustment Aqua | 0 |
Luminance Adjustment Blue | 0 |
Luminance Adjustment Green | 0 |
Luminance Adjustment Magenta | 0 |
Luminance Adjustment Orange | 0 |
Luminance Adjustment Purple | 0 |
Luminance Adjustment Red | 0 |
Luminance Adjustment Yellow | 0 |
Luminance Smoothing | 0 |
Marked | True |
Metering Mode | Multi-segment |
Override Look Vignette | False |
Parametric Darks | 0 |
Parametric Highlight Split | 75 |
Parametric Highlights | 0 |
Parametric Lights | 0 |
Parametric Midtone Split | 50 |
Parametric Shadow Split | 25 |
Parametric Shadows | 0 |
Perspective Aspect | 0 |
Perspective Horizontal | 0 |
Perspective Rotate | 0.0 |
Perspective Scale | 100 |
Perspective Upright | 0 |
Perspective Vertical | 0 |
Perspective X | 0.00 |
Perspective Y | 0.00 |
Photometric Interpretation | RGB |
Post Crop Vignette Amount | 0 |
Process Version | 11.0 |
Rating | 2 |
Raw File Name | 080410_Rh_Rivaz_B.DNG |
Red Hue | 0 |
Red Saturation | 0 |
Rights | © Jean Vernet, Montreux |
Samples Per Pixel | 3 |
Saturation | 0 |
Saturation Adjustment Aqua | 0 |
Saturation Adjustment Blue | 0 |
Saturation Adjustment Green | 0 |
Saturation Adjustment Magenta | 0 |
Saturation Adjustment Orange | 0 |
Saturation Adjustment Purple | 0 |
Saturation Adjustment Red | 0 |
Saturation Adjustment Yellow | 0 |
Scale Factor To 35 mm Equivalent | 1.0 |
Scene Capture Type | Standard |
Shadow Tint | 0 |
Shadows 2012 | 0 |
Sharpen Detail | 25 |
Sharpen Edge Masking | 0 |
Sharpen Radius | +1.0 |
Sharpness | 25 |
Split Toning Balance | 0 |
Split Toning Highlight Hue | 0 |
Split Toning Highlight Saturation | 0 |
Split Toning Shadow Hue | 0 |
Split Toning Shadow Saturation | 0 |
Subject | CFF, Re 420, Rivaz, fret |
Tint | +5 |
Tone Curve | 0, 0, 255, 255 |
Tone Curve Blue | 0, 0, 255, 255 |
Tone Curve Green | 0, 0, 255, 255 |
Tone Curve Name | Linear |
Tone Curve Name 2012 | Linear |
Tone Curve PV2012 | 0, 0, 255, 255 |
Tone Curve PV2012 Blue | 0, 0, 255, 255 |
Tone Curve PV2012 Green | 0, 0, 255, 255 |
Tone Curve PV2012 Red | 0, 0, 255, 255 |
Tone Curve Red | 0, 0, 255, 255 |
Tone Map Strength | 0 |
Version | 11.0 |
Vibrance | +26 |
Vignette Amount | 0 |
Vignette Correction Already Applied | True |
White Balance | Auto |
Whites 2012 | -9 |