Shooting information for this photo
Camera: | Canon EOS 5D Mark III |
Exposure: | 0.0005 sec. (1/2000) |
Aperture: | f/4.5 |
Focal Length: | 200.0 mm (35 mm equivalent: 611.5 mm) |
Flash: | Off, Did not fire |
Exposure mode: | Shutter speed priority AE |
Max Aperture: | 2.8 |
Resolution: | 240 x 240 dpi |
Dimension: | 1920 x 1200 pixels |
Original Date: | 2014:06:16 14:24:20 |
Created on: | 2014:06:16 14:24:20 |
Modified on: | 2016:11:09 11:01:24 |
Software: | Adobe Photoshop CS6 (Windows) |
Copyright: | Jean Vernet, Montreux |
Already Applied | True |
Approximate Focus Distance | 4294967295 |
Artist | Jean Vernet, Montreux |
Auto Lateral CA | 0 |
Auto White Version | 134348800 |
Blacks 2012 | -19 |
Blue Hue | 0 |
Blue Saturation | 0 |
Camera Profile | Canon EOS 5D3 |
Circle Of Confusion | 0.010 mm |
Clarity 2012 | +30 |
Color Mode | RGB |
Color Noise Reduction | 25 |
Color Noise Reduction Detail | 50 |
Color Noise Reduction Smoothness | 50 |
Color Space | sRGB |
Color Temperature | 5200 |
Contrast 2012 | +33 |
Convert To Grayscale | False |
Creator | Jean Vernet, Montreux |
Custom Rendered | Normal |
Defringe Green Amount | 0 |
Defringe Green Hue Hi | 60 |
Defringe Green Hue Lo | 40 |
Defringe Purple Amount | 0 |
Defringe Purple Hue Hi | 70 |
Defringe Purple Hue Lo | 30 |
Description | St-Saphorin |
Exposure 2012 | -0.15 |
Exposure Compensation | 0 |
Exposure Mode | Auto |
Field Of View | 3.4 deg |
Firmware | 1.2.3 |
Flash Compensation | 0 |
Format | image/jpeg |
Grain Amount | 0 |
Green Hue | 0 |
Green Saturation | 0 |
Has Crop | False |
Has Settings | True |
Highlights 2012 | -58 |
Hue Adjustment Aqua | 0 |
Hue Adjustment Blue | 0 |
Hue Adjustment Green | 0 |
Hue Adjustment Magenta | 0 |
Hue Adjustment Orange | 0 |
Hue Adjustment Purple | 0 |
Hue Adjustment Red | 0 |
Hue Adjustment Yellow | 0 |
Hyperfocal Distance | 904.53 m |
ICC Profile Name | sRGB IEC61966-2.1 |
ISO | 200 |
Image Description | St-Saphorin |
Image Number | 0 |
Image Size | 1920x1200 |
Label | Vérification |
Lens | EF200mm f/2.8L USM |
Lens ID | Canon EF 200mm f/2.8L II |
Lens Info | 200mm f/? |
Lens Manual Distortion Amount | 0 |
Lens Model | EF200mm f/2.8L USM |
Lens Profile Chromatic Aberration Scale | 100 |
Lens Profile Distortion Scale | 100 |
Lens Profile Enable | 1 |
Lens Profile Filename | Canon EOS 5D Mark II (Canon EF 200mm f2.8 L USM) - RAW.lcp |
Lens Profile Name | Adobe (Canon EF 200mm f/2.8 L USM) |
Lens Profile Setup | LensDefaults |
Lens Profile Vignetting Scale | 100 |
Light Value | 14.3 |
Luminance Adjustment Aqua | 0 |
Luminance Adjustment Blue | 0 |
Luminance Adjustment Green | 0 |
Luminance Adjustment Magenta | 0 |
Luminance Adjustment Orange | 0 |
Luminance Adjustment Purple | 0 |
Luminance Adjustment Red | 0 |
Luminance Adjustment Yellow | 0 |
Luminance Smoothing | 0 |
Metering Mode | Multi-segment |
Parametric Darks | 0 |
Parametric Highlight Split | 75 |
Parametric Highlights | 0 |
Parametric Lights | 0 |
Parametric Midtone Split | 50 |
Parametric Shadow Split | 25 |
Parametric Shadows | 0 |
Perspective Aspect | 0 |
Perspective Horizontal | 0 |
Perspective Rotate | 0.0 |
Perspective Scale | 100 |
Perspective Upright | 0 |
Perspective Vertical | 0 |
Photometric Interpretation | RGB |
Planar Configuration | Chunky |
Post Crop Vignette Amount | 0 |
Process Version | 6.7 |
Rating | 2 |
Raw File Name | 140616_St-Saphorin.DNG |
Recommended Exposure Index | 200 |
Red Hue | 0 |
Red Saturation | 0 |
Rights | Jean Vernet, Montreux |
Samples Per Pixel | 3 |
Saturation | 0 |
Saturation Adjustment Aqua | 0 |
Saturation Adjustment Blue | 0 |
Saturation Adjustment Green | 0 |
Saturation Adjustment Magenta | 0 |
Saturation Adjustment Orange | 0 |
Saturation Adjustment Purple | 0 |
Saturation Adjustment Red | 0 |
Saturation Adjustment Yellow | 0 |
Scale Factor To 35 mm Equivalent | 3.1 |
Scene Capture Type | Standard |
Sensitivity Type | Recommended Exposure Index |
Shadow Tint | 0 |
Shadows 2012 | 0 |
Sharpen Detail | 25 |
Sharpen Edge Masking | 0 |
Sharpen Radius | +1.0 |
Sharpness | 25 |
Split Toning Balance | 0 |
Split Toning Highlight Hue | 0 |
Split Toning Highlight Saturation | 0 |
Split Toning Shadow Hue | 0 |
Split Toning Shadow Saturation | 0 |
Subject | St-Saphorin |
Tint | +14 |
Tone Curve Name 2012 | Linear |
Tone Curve PV2012 | 0, 0, 255, 255 |
Tone Curve PV2012 Blue | 0, 0, 255, 255 |
Tone Curve PV2012 Green | 0, 0, 255, 255 |
Tone Curve PV2012 Red | 0, 0, 255, 255 |
Version | 8.3 |
Vibrance | +31 |
Vignette Amount | 0 |
White Balance | Auto |
Whites 2012 | +23 |