Shooting information for this photo
Camera: | Canon EOS 5D Mark III |
Exposure: | 0.03333 sec. (1/30) |
Aperture: | f/4.0 |
Focal Length: | 24.0 mm (35 mm equivalent: 75.4 mm) |
Flash: | Off, Did not fire |
Exposure mode: | Manual |
Max Aperture: | 4.0 |
Resolution: | 240 x 240 dpi |
Dimension: | 1920 x 1080 pixels |
Original Date: | 2012:10:21 19:39:04 |
Created on: | 2012:10:21 19:39:04 |
Modified on: | 2016:03:13 10:44:57 |
Software: | Adobe Photoshop CS6 (Windows) |
Copyright: | Jean Vernet, Montreux |
Already Applied | True |
Approximate Focus Distance | 3.72 |
Artist | Jean Vernet, Montreux |
Auto Lateral CA | 0 |
Blacks 2012 | -3 |
Blue Hue | 0 |
Blue Saturation | 0 |
Camera Profile | Canon EOS 5D3 |
Circle Of Confusion | 0.010 mm |
Clarity 2012 | +25 |
Color Mode | RGB |
Color Noise Reduction | 52 |
Color Noise Reduction Detail | 50 |
Color Space | sRGB |
Color Temperature | 2350 |
Contrast 2012 | +3 |
Convert To Grayscale | False |
Creator | Jean Vernet, Montreux |
Crop Angle | 0.602457 |
Crop Bottom | 1 |
Crop Constrain To Warp | 1 |
Crop Left | 0.011215 |
Crop Right | 0.988785 |
Crop Top | 0 |
Custom Rendered | Normal |
Defringe Green Amount | 0 |
Defringe Green Hue Hi | 60 |
Defringe Green Hue Lo | 40 |
Defringe Purple Amount | 0 |
Defringe Purple Hue Hi | 70 |
Defringe Purple Hue Lo | 30 |
Description | À bord du S/S La Suisse en course 1120 entre Evian et Ouchy, dernière course régulière de l'année 2012 |
Exposure 2012 | +0.90 |
Exposure Compensation | 0 |
Exposure Mode | Manual |
Field Of View | 26.8 deg |
Firmware | 1.1.3 |
Flash Compensation | 0 |
Format | image/jpeg |
Grain Amount | 0 |
Green Hue | 0 |
Green Saturation | 0 |
Has Crop | True |
Has Settings | True |
Highlights 2012 | -33 |
Hue Adjustment Aqua | 0 |
Hue Adjustment Blue | 0 |
Hue Adjustment Green | 0 |
Hue Adjustment Magenta | 0 |
Hue Adjustment Orange | 0 |
Hue Adjustment Purple | 0 |
Hue Adjustment Red | 0 |
Hue Adjustment Yellow | 0 |
Hyperfocal Distance | 15.06 m |
ICC Profile Name | sRGB IEC61966-2.1 |
ISO | 6400 |
Image Description | À bord du S/S La Suisse en course 1120 entre Evian et Ouchy, dernière course régulière de l'année 2012 |
Image Number | 0 |
Image Size | 1920x1080 |
Label | Vérification |
Lens | EF17-40mm f/4L USM |
Lens ID | Canon EF 17-40mm f/4L |
Lens Info | 17-40mm f/? |
Lens Manual Distortion Amount | 0 |
Lens Model | EF17-40mm f/4L USM |
Lens Profile Chromatic Aberration Scale | 100 |
Lens Profile Distortion Scale | 100 |
Lens Profile Enable | 1 |
Lens Profile Filename | Canon EOS-1Ds Mark III (Canon EF 17-40mm f4 L USM) - RAW.lcp |
Lens Profile Name | Adobe (Canon EF 17-40mm f/4 L USM) |
Lens Profile Setup | LensDefaults |
Lens Profile Vignetting Scale | 100 |
Light Value | 2.9 |
Luminance Adjustment Aqua | 0 |
Luminance Adjustment Blue | 0 |
Luminance Adjustment Green | 0 |
Luminance Adjustment Magenta | 0 |
Luminance Adjustment Orange | 0 |
Luminance Adjustment Purple | 0 |
Luminance Adjustment Red | 0 |
Luminance Adjustment Yellow | 0 |
Luminance Noise Reduction Contrast | 0 |
Luminance Noise Reduction Detail | 50 |
Luminance Smoothing | 51 |
Metering Mode | Multi-segment |
Parametric Darks | 0 |
Parametric Highlight Split | 75 |
Parametric Highlights | 0 |
Parametric Lights | 0 |
Parametric Midtone Split | 50 |
Parametric Shadow Split | 25 |
Parametric Shadows | 0 |
Perspective Horizontal | 0 |
Perspective Rotate | 0.0 |
Perspective Scale | 100 |
Perspective Vertical | 0 |
Photometric Interpretation | RGB |
Planar Configuration | Chunky |
Post Crop Vignette Amount | 0 |
Process Version | 6.7 |
Raw File Name | 121021_Ss_Evian-Ouchy_B.DNG |
Recommended Exposure Index | 6400 |
Red Hue | 0 |
Red Saturation | 0 |
Rights | Jean Vernet, Montreux |
Samples Per Pixel | 3 |
Saturation | 0 |
Saturation Adjustment Aqua | 0 |
Saturation Adjustment Blue | 0 |
Saturation Adjustment Green | 0 |
Saturation Adjustment Magenta | 0 |
Saturation Adjustment Orange | 0 |
Saturation Adjustment Purple | 0 |
Saturation Adjustment Red | 0 |
Saturation Adjustment Yellow | 0 |
Scale Factor To 35 mm Equivalent | 3.1 |
Scene Capture Type | Standard |
Sensitivity Type | Recommended Exposure Index |
Shadow Tint | 0 |
Shadows 2012 | +11 |
Sharpen Detail | 25 |
Sharpen Edge Masking | 0 |
Sharpen Radius | +1.0 |
Sharpness | 25 |
Split Toning Balance | 0 |
Split Toning Highlight Hue | 0 |
Split Toning Highlight Saturation | 0 |
Split Toning Shadow Hue | 0 |
Split Toning Shadow Saturation | 0 |
Subject | CGN, La Suisse, Evian, Ouchy |
Tint | +2 |
Tone Curve Name 2012 | Linear |
Tone Curve PV2012 | 0, 0, 255, 255 |
Tone Curve PV2012 Blue | 0, 0, 255, 255 |
Tone Curve PV2012 Green | 0, 0, 255, 255 |
Tone Curve PV2012 Red | 0, 0, 255, 255 |
Version | 7.2 |
Vibrance | +36 |
Vignette Amount | 0 |
White Balance | Auto |
Whites 2012 | -3 |