Shooting information for this photo
Camera: | Canon EOS 5D |
Exposure: | 0.0025 sec. (1/400) |
Aperture: | f/9.0 |
Focal Length: | 35.0 mm (35 mm equivalent: 35.1 mm) |
Flash: | Off, Did not fire |
Exposure mode: | Aperture-priority AE |
Max Aperture: | 4.0 |
Resolution: | 240 x 240 dpi |
Dimension: | 1920 x 1080 pixels |
Original Date: | 2010:09:11 13:12:18 |
Created on: | 2010:09:11 13:12:18 |
Modified on: | 2016:03:24 21:48:26 |
Software: | Adobe Photoshop CS6 (Windows) |
Copyright: | Jean Vernet, Montreux |
Already Applied | True |
Artist | Jean Vernet |
Authors Position | Photographe |
Blue Hue | 0 |
Blue Saturation | 0 |
Body Serial Number | 730505687 |
Brightness | +39 |
Camera Profile | Canon EOS 5D_4850K |
Chromatic Aberration B | 0 |
Chromatic Aberration R | 0 |
Circle Of Confusion | 0.030 mm |
Clarity | +10 |
Color Mode | RGB |
Color Noise Reduction | 25 |
Color Noise Reduction Detail | 50 |
Color Space | sRGB |
Color Temperature | 5400 |
Contrast | +52 |
Convert To Grayscale | False |
Creator | Jean Vernet |
Custom Rendered | Normal |
Defringe | 0 |
Description | M/S Helvétie au chantier CGN (portes ouvertes) |
Exposure | 0.00 |
Exposure Compensation | 0 |
Exposure Mode | Auto |
Field Of View | 54.3 deg |
Fill Light | 8 |
Firmware | 1.1.0 |
Flash Compensation | 0 |
Format | image/jpeg |
Grain Amount | 0 |
Green Hue | 0 |
Green Saturation | 0 |
Has Crop | False |
Has Settings | True |
Highlight Recovery | 4 |
Hue Adjustment Aqua | 0 |
Hue Adjustment Blue | 0 |
Hue Adjustment Green | 0 |
Hue Adjustment Magenta | 0 |
Hue Adjustment Orange | 0 |
Hue Adjustment Purple | 0 |
Hue Adjustment Red | 0 |
Hue Adjustment Yellow | 0 |
Hyperfocal Distance | 4.54 m |
ICC Profile Name | sRGB IEC61966-2.1 |
ISO | 100 |
Image Description | M/S Helvétie au chantier CGN (portes ouvertes) |
Image Number | 5 |
Image Size | 1920x1080 |
Label | Vérification |
Lens | EF17-40mm f/4L USM |
Lens ID | Canon EF 17-40mm f/4L |
Lens Info | 17-40mm f/? |
Lens Manual Distortion Amount | 0 |
Lens Model | EF17-40mm f/4L USM |
Lens Profile Chromatic Aberration Scale | 100 |
Lens Profile Distortion Scale | 100 |
Lens Profile Enable | 1 |
Lens Profile Filename | Canon EOS-1Ds Mark III (Canon EF 17-40mm f4 L USM) - RAW.lcp |
Lens Profile Name | Adobe (Canon EF 17-40mm f/4 L USM) |
Lens Profile Setup | LensDefaults |
Lens Profile Vignetting Scale | 100 |
Lens Specification | 17, 40, undef, undef |
Light Value | 15.0 |
Luminance Adjustment Aqua | 0 |
Luminance Adjustment Blue | 0 |
Luminance Adjustment Green | 0 |
Luminance Adjustment Magenta | 0 |
Luminance Adjustment Orange | 0 |
Luminance Adjustment Purple | 0 |
Luminance Adjustment Red | 0 |
Luminance Adjustment Yellow | 0 |
Luminance Smoothing | 0 |
Marked | True |
Metering Mode | Multi-segment |
Parametric Darks | 0 |
Parametric Highlight Split | 75 |
Parametric Highlights | 0 |
Parametric Lights | 0 |
Parametric Midtone Split | 50 |
Parametric Shadow Split | 25 |
Parametric Shadows | 0 |
Perspective Horizontal | 0 |
Perspective Rotate | 0.0 |
Perspective Scale | 100 |
Perspective Vertical | 0 |
Photographic Sensitivity | 100 |
Photometric Interpretation | RGB |
Planar Configuration | Chunky |
Post Crop Vignette Amount | 0 |
Process Version | 5.7 |
Rating | 0 |
Raw File Name | 100911_Hv_chantier_C.DNG |
Red Hue | 0 |
Red Saturation | 0 |
Rights | Jean Vernet, Montreux |
Samples Per Pixel | 3 |
Saturation | +19 |
Saturation Adjustment Aqua | 0 |
Saturation Adjustment Blue | 0 |
Saturation Adjustment Green | 0 |
Saturation Adjustment Magenta | 0 |
Saturation Adjustment Orange | 0 |
Saturation Adjustment Purple | 0 |
Saturation Adjustment Red | 0 |
Saturation Adjustment Yellow | 0 |
Scale Factor To 35 mm Equivalent | 1.0 |
Scene Capture Type | Standard |
Sensitivity Type | Unknown |
Shadow Tint | 0 |
Shadows | 2 |
Sharpen Detail | 25 |
Sharpen Edge Masking | 0 |
Sharpen Radius | +1.0 |
Sharpness | 0 |
Split Toning Balance | 0 |
Split Toning Highlight Hue | 0 |
Split Toning Highlight Saturation | 0 |
Split Toning Shadow Hue | 0 |
Split Toning Shadow Saturation | 0 |
Subject | CGN, Helvétie, chantier |
Tint | +9 |
Tone Curve | 0, 0, 32, 22, 64, 56, 128, 128, 192, 196, 255, 255 |
Tone Curve Name | Medium Contrast |
Version | 6.2 |
Vibrance | 0 |
Vignette Amount | 0 |
White Balance | Auto |