Shooting information for this photo
Camera: | Canon EOS 5D |
Exposure: | 0.00313 sec. (1/320) |
Aperture: | f/5.6 |
Focal Length: | 40.0 mm (35 mm equivalent: 40.1 mm) |
Flash: | Off, Did not fire |
Exposure mode: | Shutter speed priority AE |
Max Aperture: | 4.0 |
Resolution: | 240 x 240 dpi |
Dimension: | 1200 x 800 pixels |
Original Date: | 2010:03:12 14:00:18 |
Created on: | 2010:03:13 10:27:21 |
Modified on: | 2011:06:03 21:39:05 |
Software: | Adobe Photoshop CS5 Windows |
Copyright: | © Jean Vernet, Montreux |
Already Applied | True |
Artist | Jean Vernet |
Blue Hue | 0 |
Blue Saturation | 0 |
Body Serial Number | 730505687 |
Brightness | +24 |
Camera Profile | Canon EOS 5D_4600K |
Caption Writer | Jean Vernet |
Chromatic Aberration B | 0 |
Chromatic Aberration R | 0 |
Circle Of Confusion | 0.030 mm |
Clarity | +9 |
Color Mode | RGB |
Color Noise Reduction | 25 |
Color Space | sRGB |
Color Temperature | 5000 |
Contrast | +38 |
Convert To Grayscale | False |
Creator | Jean Vernet |
Custom Rendered | Normal |
Defringe | 0 |
Description | Départ RER SNCF Genève-Lyon de Genève |
Exposure | 0.00 |
Exposure Compensation | 0 |
Exposure Mode | Auto |
Field Of View | 48.4 deg |
Fill Light | 8 |
Firmware | 1.1.0 |
Flash Compensation | 0 |
Format | image/jpeg |
Green Hue | 0 |
Green Saturation | 0 |
Has Crop | False |
Has Settings | True |
Highlight Recovery | 33 |
Hue Adjustment Aqua | 0 |
Hue Adjustment Blue | 0 |
Hue Adjustment Green | 0 |
Hue Adjustment Magenta | 0 |
Hue Adjustment Orange | 0 |
Hue Adjustment Purple | 0 |
Hue Adjustment Red | 0 |
Hue Adjustment Yellow | 0 |
Hyperfocal Distance | 9.53 m |
ICC Profile Name | sRGB IEC61966-2.1 |
ISO | 100 |
Image Description | Départ RER SNCF Genève-Lyon de Genève |
Image Number | 2 |
Image Size | 1200x800 |
Label | Vérification |
Lens | EF17-40mm f/4L USM |
Lens Info | 17-40mm f/? |
Lens Model | EF17-40mm f/4L USM |
Lens Specification | 17, 40, undef, undef |
Light Value | 13.3 |
Luminance Adjustment Aqua | 0 |
Luminance Adjustment Blue | 0 |
Luminance Adjustment Green | 0 |
Luminance Adjustment Magenta | 0 |
Luminance Adjustment Orange | 0 |
Luminance Adjustment Purple | 0 |
Luminance Adjustment Red | 0 |
Luminance Adjustment Yellow | 0 |
Luminance Smoothing | 0 |
Marked | True |
Metering Mode | Multi-segment |
Parametric Darks | 0 |
Parametric Highlight Split | 75 |
Parametric Highlights | 0 |
Parametric Lights | 0 |
Parametric Midtone Split | 50 |
Parametric Shadow Split | 25 |
Parametric Shadows | 0 |
Photographic Sensitivity | 100 |
Photometric Interpretation | RGB |
Planar Configuration | Chunky |
Post Crop Vignette Amount | 0 |
Rating | 0 |
Raw File Name | 100312_TER_SNCF_Geneve_B.DNG |
Red Hue | 0 |
Red Saturation | 0 |
Rights | © Jean Vernet, Montreux |
Samples Per Pixel | 3 |
Saturation | +19 |
Saturation Adjustment Aqua | 0 |
Saturation Adjustment Blue | 0 |
Saturation Adjustment Green | 0 |
Saturation Adjustment Magenta | 0 |
Saturation Adjustment Orange | 0 |
Saturation Adjustment Purple | 0 |
Saturation Adjustment Red | 0 |
Saturation Adjustment Yellow | 0 |
Scale Factor To 35 mm Equivalent | 1.0 |
Scene Capture Type | Standard |
Shadow Tint | 0 |
Shadows | 0 |
Sharpen Detail | 25 |
Sharpen Edge Masking | 0 |
Sharpen Radius | +1.0 |
Sharpness | 0 |
Split Toning Balance | 0 |
Split Toning Highlight Hue | 0 |
Split Toning Highlight Saturation | 0 |
Split Toning Shadow Hue | 0 |
Split Toning Shadow Saturation | 0 |
Subject | SNCF, CFF, Genève, RER, Lyon, BB 25000 |
Tint | +2 |
Tone Curve | 0, 0, 32, 22, 64, 56, 128, 128, 192, 196, 255, 255 |
Tone Curve Name | Medium Contrast |
Version | 4.6 |
Vibrance | 0 |
Vignette Amount | 0 |
White Balance | Auto |