Shooting information for this photo
Original Date: | 2010:03:24 13:33:37 |
Created on: | 2010:03:25 17:54:19+01:00 |
Modified on: | 2010:03:25 17:54:19 |
Software: | Adobe Photoshop CS3 Windows |
Copyright: | © Jean Vernet, Montreux |
Already Applied | True |
Artist | Jean Vernet |
Blue Hue | 0 |
Blue Saturation | 0 |
Body Serial Number | 730505687 |
Brightness | +18 |
Camera Profile | Canon EOS 5D_4600K |
Caption Writer | Jean Vernet |
Chromatic Aberration B | 0 |
Chromatic Aberration R | 0 |
Clarity | +10 |
Color Mode | RGB |
Color Noise Reduction | 25 |
Color Temperature | 4900 |
Contrast | +39 |
Convert To Grayscale | False |
Creator | Jean Vernet |
Crop Angle | 1.663652 |
Crop Bottom | 0.993609 |
Crop Left | 0.036286 |
Crop Right | 0.974439 |
Crop Top | 0.006184 |
Defringe | 0 |
Description | Re 10/10 (Re 6/6 + Re 4/4 II) en tête fret à Pratteln |
Exposure | 0.00 |
Fill Light | 10 |
Firmware | 1.1.0 |
Flash Compensation | 0 |
Format | image/tiff |
Green Hue | 0 |
Green Saturation | 0 |
Has Crop | True |
Has Settings | True |
Highlight Recovery | 0 |
Hue Adjustment Aqua | 0 |
Hue Adjustment Blue | 0 |
Hue Adjustment Green | 0 |
Hue Adjustment Magenta | 0 |
Hue Adjustment Orange | 0 |
Hue Adjustment Purple | 0 |
Hue Adjustment Red | 0 |
Hue Adjustment Yellow | 0 |
ICC Profile Name | sRGB IEC61966-2.1 |
ISO | 200 |
Image Description | Re 10/10 (Re 6/6 + Re 4/4 II) en tête fret à Pratteln |
Image Number | 1 |
Image Size | 1000x659 |
Label | Vérification |
Lens | EF50mm f/1.4 USM |
Lens Info | 50mm f/? |
Lens Model | EF50mm f/1.4 USM |
Lens Specification | 50, 50, undef, undef |
Luminance Adjustment Aqua | 0 |
Luminance Adjustment Blue | 0 |
Luminance Adjustment Green | 0 |
Luminance Adjustment Magenta | 0 |
Luminance Adjustment Orange | 0 |
Luminance Adjustment Purple | 0 |
Luminance Adjustment Red | 0 |
Luminance Adjustment Yellow | 0 |
Luminance Smoothing | 0 |
Marked | True |
Parametric Darks | 0 |
Parametric Highlight Split | 75 |
Parametric Highlights | 0 |
Parametric Lights | 0 |
Parametric Midtone Split | 50 |
Parametric Shadow Split | 25 |
Parametric Shadows | 0 |
Photographic Sensitivity | 200 |
Post Crop Vignette Amount | 0 |
Rating | 0 |
Raw File Name | 100324_Re10_10_Pratteln_C.DNG |
Red Hue | 0 |
Red Saturation | 0 |
Rights | © Jean Vernet, Montreux |
Saturation | +20 |
Saturation Adjustment Aqua | 0 |
Saturation Adjustment Blue | 0 |
Saturation Adjustment Green | 0 |
Saturation Adjustment Magenta | 0 |
Saturation Adjustment Orange | 0 |
Saturation Adjustment Purple | 0 |
Saturation Adjustment Red | 0 |
Saturation Adjustment Yellow | 0 |
Shadow Tint | 0 |
Shadows | 0 |
Sharpen Detail | 25 |
Sharpen Edge Masking | 0 |
Sharpen Radius | +1.0 |
Sharpness | 0 |
Split Toning Balance | 0 |
Split Toning Highlight Hue | 0 |
Split Toning Highlight Saturation | 0 |
Split Toning Shadow Hue | 0 |
Split Toning Shadow Saturation | 0 |
Subject | CFF, Cargo, fret, Re 10/10, Re 6/6, Re 4/4 II, Pratteln |
Tint | +6 |
Tone Curve | 0, 0, 32, 22, 64, 56, 128, 128, 192, 196, 255, 255 |
Tone Curve Name | Medium Contrast |
Version | 4.6 |
Vibrance | 0 |
Vignette Amount | 0 |
White Balance | Custom |