Shooting information for this photo
Camera: | OLYMPUS IMAGING CORP. SP800UZ |
Exposure: | 0.005 sec. (1/200) |
Aperture: | f/5.7 |
Focal Length: | 4.9 mm (35 mm equivalent: 28.0 mm) |
Flash: | Off, Did not fire |
Exposure mode: | Program AE |
Max Aperture: | 2.8 |
Resolution: | 300 x 300 dpi |
Original Date: | 2014:10:25 15:13:04 |
Created on: | 2014:10:25 15:13:04 |
Modified on: | 2014:10:27 16:07:28 |
Software: | Adobe Photoshop Lightroom 4.1 (Windows) |
Already Applied | True |
Auto Lateral CA | 0 |
Blacks 2012 | -54 |
Blue Hue | 0 |
Blue Saturation | 0 |
Camera Profile | Embedded |
Circle Of Confusion | 0.005 mm |
Clarity 2012 | +6 |
Color Noise Reduction | 0 |
Contrast | Normal |
Contrast 2012 | +27 |
Convert To Grayscale | True |
Crop Angle | -0.344396 |
Crop Bottom | 0.99354 |
Crop Constrain To Warp | 1 |
Crop Height | 1908 |
Crop Left | 0.18906 |
Crop Right | 0.999603 |
Crop Top | 0.00646 |
Crop Unit | pixels |
Crop Width | 2064 |
Custom Rendered | Custom |
Date Created | 2014:10:25 15:13:04 |
Description | OLYMPUS DIGITAL CAMERA |
Digital Zoom Ratio | 0 |
Exposure 2012 | +0.73 |
Exposure Compensation | 0 |
Exposure Mode | Auto |
Field Of View | 65.5 deg |
Focal Length In 35mm Format | 28 mm |
Format | image/jpeg |
Gain Control | None |
Grain Amount | 0 |
Gray Mixer Aqua | -14 |
Gray Mixer Blue | -31 |
Gray Mixer Green | -29 |
Gray Mixer Magenta | -31 |
Gray Mixer Orange | -14 |
Gray Mixer Purple | +31 |
Gray Mixer Red | -22 |
Gray Mixer Yellow | -12 |
Green Hue | 0 |
Green Saturation | 0 |
Has Crop | True |
Has Settings | True |
Highlights 2012 | -8 |
Hyperfocal Distance | 0.80 m |
ISO | 50 |
Image Description | OLYMPUS DIGITAL CAMERA |
Image Size | 1908x2064 |
Incremental Temperature | +2 |
Incremental Tint | -10 |
Lens Manual Distortion Amount | 0 |
Lens Profile Enable | 0 |
Lens Profile Setup | LensDefaults |
Light Source | Unknown |
Light Value | 13.7 |
Luminance Noise Reduction Contrast | 0 |
Luminance Noise Reduction Detail | 50 |
Luminance Smoothing | 53 |
Metering Mode | Multi-segment |
Parametric Darks | 0 |
Parametric Highlight Split | 75 |
Parametric Highlights | 0 |
Parametric Lights | 0 |
Parametric Midtone Split | 50 |
Parametric Shadow Split | 25 |
Parametric Shadows | 0 |
Perspective Horizontal | 0 |
Perspective Rotate | 0.0 |
Perspective Scale | 100 |
Perspective Vertical | 0 |
Post Crop Vignette Amount | 0 |
Process Version | 6.7 |
Red Hue | 0 |
Red Saturation | 0 |
Saturation | Normal |
Scale Factor To 35 mm Equivalent | 5.7 |
Scene Capture Type | Standard |
Scene Type | Directly photographed |
Shadow Tint | 0 |
Shadows 2012 | +6 |
Sharpen Detail | 25 |
Sharpen Edge Masking | 82 |
Sharpen Radius | +1.0 |
Sharpness | Normal |
Split Toning Balance | 0 |
Split Toning Highlight Hue | 0 |
Split Toning Highlight Saturation | 0 |
Split Toning Shadow Hue | 0 |
Split Toning Shadow Saturation | 0 |
Tone Curve Name 2012 | Linear |
Tone Curve PV2012 | 0, 0, 255, 255 |
Tone Curve PV2012 Blue | 0, 0, 255, 255 |
Tone Curve PV2012 Green | 0, 0, 255, 255 |
Tone Curve PV2012 Red | 0, 0, 255, 255 |
Version | 7.1 |
Vignette Amount | 0 |
White Balance | Manual |
Whites 2012 | -75 |