Shooting information for this photo
Camera: | NIKON CORPORATION NIKON D3200 |
Exposure: | 0.01667 sec. (1/60) |
Aperture: | f/9.0 |
Focal Length: | 60.0 mm (35 mm equivalent: 90.0 mm) |
Flash: | No Flash |
Exposure mode: | Manual |
Max Aperture: | 3.0 |
Resolution: | 300 x 300 dpi |
Original Date: | 2014:10:15 20:53:08.50 |
Created on: | 2014:10:15 20:53:08.50 |
Modified on: | 2014:10:18 08:42:20 |
Software: | Adobe Photoshop Lightroom 4.1 (Windows) |
Already Applied | True |
Approximate Focus Distance | 0.38 |
Auto Lateral CA | 0 |
Blacks 2012 | -15 |
Blue Hue | 0 |
Blue Saturation | 0 |
CFA Pattern | [Red,Green][Green,Blue] |
Camera Profile | Embedded |
Circle Of Confusion | 0.020 mm |
Clarity 2012 | -23 |
Color Noise Reduction | 0 |
Contrast | Normal |
Contrast 2012 | +25 |
Convert To Grayscale | False |
Crop Angle | 3.9141 |
Crop Bottom | 1 |
Crop Constrain To Warp | 0 |
Crop Height | 3635 |
Crop Left | 0.067276 |
Crop Right | 0.932724 |
Crop Top | 0 |
Crop Unit | pixels |
Crop Width | 5468 |
Custom Rendered | Normal |
Date Created | 2014:10:15 20:53:08.50 |
Defringe Green Amount | 0 |
Defringe Green Hue Hi | 60 |
Defringe Green Hue Lo | 40 |
Defringe Purple Amount | 0 |
Defringe Purple Hue Hi | 70 |
Defringe Purple Hue Lo | 30 |
Digital Zoom Ratio | 1 |
Exposure 2012 | 0.00 |
Exposure Compensation | 0 |
Exposure Mode | Manual |
Field Of View | 22.6 deg |
Focal Length In 35mm Format | 90 mm |
Format | image/jpeg |
Gain Control | Low gain up |
Grain Amount | 0 |
Green Hue | 0 |
Green Saturation | 0 |
Has Crop | True |
Has Extended XMP | 4A9409716EA49925FCB1C60E0B64DF 57 |
Has Settings | True |
Highlights 2012 | -4 |
Hue Adjustment Aqua | -2 |
Hue Adjustment Blue | 0 |
Hue Adjustment Green | 0 |
Hue Adjustment Magenta | 0 |
Hue Adjustment Orange | -16 |
Hue Adjustment Purple | 0 |
Hue Adjustment Red | +6 |
Hue Adjustment Yellow | +4 |
Hyperfocal Distance | 19.97 m |
ISO | 400 |
Image Number | 11739 |
Image Size | 3635x5468 |
Incremental Temperature | -10 |
Incremental Tint | +6 |
Lens | 60.0 mm f/2.8 |
Lens ID | AF-S Micro Nikkor 60mm f/2.8G ED |
Lens Info | 60mm f/2.8 |
Lens Manual Distortion Amount | 0 |
Lens Model | 60.0 mm f/2.8 |
Lens Profile Enable | 0 |
Lens Profile Setup | LensDefaults |
Light Source | Cloudy |
Light Value | 10.2 |
Luminance Adjustment Aqua | 0 |
Luminance Adjustment Blue | 0 |
Luminance Adjustment Green | +6 |
Luminance Adjustment Magenta | 0 |
Luminance Adjustment Orange | -8 |
Luminance Adjustment Purple | 0 |
Luminance Adjustment Red | 0 |
Luminance Adjustment Yellow | +10 |
Luminance Noise Reduction Contrast | 0 |
Luminance Noise Reduction Detail | 50 |
Luminance Smoothing | 100 |
Metering Mode | Center-weighted average |
Paint Correction Active | true |
Paint Correction Amount | 1.000000 |
Paint Correction Brightness | 0.000000 |
Paint Correction Clarity 2012 | -0.140000 |
Paint Correction Contrast 2012 | 0.260000 |
Paint Correction Defringe | 0.000000 |
Paint Correction Exposure 2012 | -0.080000 |
Paint Correction Highlights 2012 | 0.000000 |
Paint Correction Hue | 183.000000 |
Paint Correction Luminance Noise | -1.000000 |
Paint Correction Mask Center Weight | 1.000000 |
Paint Correction Mask Flow | 1.000000 |
Paint Correction Mask Radius | 0.004398 |
Paint Correction Mask Value | 1.000000 |
Paint Correction Mask What | Mask/Paint |
Paint Correction Moire | 0.000000 |
Paint Correction Saturation | 0.000000 |
Paint Correction Shadows 2012 | 0.000000 |
Paint Correction Sharpness | 0.820000 |
Paint Correction Temperature | 0.000000 |
Paint Correction Tint | 0.000000 |
Paint Correction What | Correction |
Parametric Darks | 0 |
Parametric Highlight Split | 75 |
Parametric Highlights | 0 |
Parametric Lights | 0 |
Parametric Midtone Split | 50 |
Parametric Shadow Split | 25 |
Parametric Shadows | 0 |
Perspective Horizontal | 0 |
Perspective Rotate | 0.0 |
Perspective Scale | 100 |
Perspective Vertical | 0 |
Post Crop Vignette Amount | 0 |
Process Version | 6.7 |
Red Hue | 0 |
Red Saturation | 0 |
Saturation | Normal |
Saturation Adjustment Aqua | +14 |
Saturation Adjustment Blue | 0 |
Saturation Adjustment Green | +12 |
Saturation Adjustment Magenta | 0 |
Saturation Adjustment Orange | -16 |
Saturation Adjustment Purple | 0 |
Saturation Adjustment Red | 0 |
Saturation Adjustment Yellow | -14 |
Scale Factor To 35 mm Equivalent | 1.5 |
Scene Capture Type | Portrait |
Scene Type | Directly photographed |
Sensing Method | One-chip color area |
Sensitivity Type | Recommended Exposure Index |
Shadow Tint | 0 |
Shadows 2012 | +37 |
Sharpen Detail | 25 |
Sharpen Edge Masking | 0 |
Sharpen Radius | +2.2 |
Sharpness | Normal |
Split Toning Balance | 0 |
Split Toning Highlight Hue | 0 |
Split Toning Highlight Saturation | 0 |
Split Toning Shadow Hue | 0 |
Split Toning Shadow Saturation | 0 |
Subject Distance Range | Unknown |
Tone Curve Name 2012 | Medium Contrast |
Tone Curve PV2012 | 0, 0, 32, 22, 64, 56, 128, 128, 192, 196, 255, 255 |
Tone Curve PV2012 Blue | 0, 0, 255, 255 |
Tone Curve PV2012 Green | 0, 0, 255, 255 |
Tone Curve PV2012 Red | 0, 0, 255, 255 |
Version | 7.1 |
Vibrance | +15 |
Vignette Amount | 0 |
White Balance | Manual |
Whites 2012 | +40 |