Shooting information for this photo
Camera: | PENTAX K-5 |
Exposure: | 0.07692 sec. (1/13) |
Aperture: | f/5.6 |
Focal Length: | 55.0 mm (35 mm equivalent: 82.0 mm) |
Flash: | Off, Did not fire |
Exposure mode: | Aperture-priority AE |
Resolution: | 300 x 300 dpi |
Original Date: | 2012:09:15 15:58:25 |
Created on: | 2012:09:15 15:58:25 |
Modified on: | 2013:03:14 11:50:28 |
Software: | Adobe Photoshop Lightroom 3.6 (Windows) |
Copyright: | Creative Commons: Attribution, Non Commercial, No Derivative Works |
Already Applied | True |
Approximate Focus Distance | 5.66 |
Artist | John Sheldon |
Blue Hue | 0 |
Blue Saturation | 0 |
Brightness | +58 |
Camera Profile | PENTAX K-5 GretMac_02032013_sunny_BR_A1G1 |
Chromatic Aberration B | 0 |
Chromatic Aberration R | 0 |
Circle Of Confusion | 0.020 mm |
Clarity | 0 |
Color Noise Reduction | 25 |
Color Noise Reduction Detail | 50 |
Color Temperature | 3800 |
Contrast | High |
Convert To Grayscale | False |
Creator | John Sheldon |
Crop Angle | 0.213157 |
Crop Bottom | 0.999902 |
Crop Constrain To Warp | 0 |
Crop Height | 3119 |
Crop Left | 0.058819 |
Crop Right | 0.942617 |
Crop Top | 0.03927 |
Crop Unit | pixels |
Crop Width | 4367 |
Custom Rendered | Normal |
Date Created | 2012:09:15 15:58:25 |
Defringe | 0 |
Exposure | 0.00 |
Exposure Compensation | 0 |
Exposure Mode | Auto |
Field Of View | 24.8 deg |
Fill Light | 0 |
Focal Length In 35mm Format | 82 mm |
Format | image/jpeg |
Grain Amount | 0 |
Green Hue | 0 |
Green Saturation | 0 |
Has Crop | True |
Has Settings | True |
Highlight Recovery | 22 |
Hue Adjustment Aqua | 0 |
Hue Adjustment Blue | 0 |
Hue Adjustment Green | 0 |
Hue Adjustment Magenta | 0 |
Hue Adjustment Orange | 0 |
Hue Adjustment Purple | 0 |
Hue Adjustment Red | 0 |
Hue Adjustment Yellow | 0 |
Hyperfocal Distance | 26.80 m |
ISO | 2000 |
Image Size | 4367x3119 |
Lens | smc PENTAX-DA 18-55mm F3.5-5.6 AL WR |
Lens ID | smc PENTAX-DA 18-55mm F3.5-5.6 AL WR |
Lens Info | 18-55mm f/3.5-5.6 |
Lens Manual Distortion Amount | 0 |
Lens Model | smc PENTAX-DA 18-55mm F3.5-5.6 AL WR |
Lens Profile Enable | 0 |
Lens Profile Setup | LensDefaults |
Light Value | 4.3 |
Luminance Adjustment Aqua | 0 |
Luminance Adjustment Blue | 0 |
Luminance Adjustment Green | 0 |
Luminance Adjustment Magenta | 0 |
Luminance Adjustment Orange | 0 |
Luminance Adjustment Purple | 0 |
Luminance Adjustment Red | 0 |
Luminance Adjustment Yellow | 0 |
Luminance Noise Reduction Contrast | 0 |
Luminance Noise Reduction Detail | 50 |
Luminance Smoothing | 20 |
Marked | True |
Metering Mode | Multi-segment |
Paint Correction Active | true |
Paint Correction Amount | 1.000000 |
Paint Correction Brightness | 0.000000 |
Paint Correction Clarity | 0.000000 |
Paint Correction Contrast | 0.000000 |
Paint Correction Exposure | 0.022250 |
Paint Correction Hue | 50.000000 |
Paint Correction Mask Center Weight | 0.228952 |
Paint Correction Mask Flow | 1.000000 |
Paint Correction Mask Radius | 0.011028 |
Paint Correction Mask Value | 1.000000 |
Paint Correction Mask What | Mask/Paint |
Paint Correction Saturation | 0.000000 |
Paint Correction Sharpness | 0.000000 |
Paint Correction What | Correction |
Parametric Darks | 0 |
Parametric Highlight Split | 75 |
Parametric Highlights | 0 |
Parametric Lights | 0 |
Parametric Midtone Split | 50 |
Parametric Shadow Split | 25 |
Parametric Shadows | 0 |
Perspective Horizontal | 0 |
Perspective Rotate | 0.0 |
Perspective Scale | 100 |
Perspective Vertical | 0 |
Post Crop Vignette Amount | -9 |
Post Crop Vignette Feather | 50 |
Post Crop Vignette Highlight Contrast | 0 |
Post Crop Vignette Midpoint | 50 |
Post Crop Vignette Roundness | 0 |
Post Crop Vignette Style | 1 |
Process Version | 5.7 |
Red Hue | 0 |
Red Saturation | 0 |
Rights | Creative Commons: Attribution, Non Commercial, No Derivative Works |
Saturation | Normal |
Saturation Adjustment Aqua | 0 |
Saturation Adjustment Blue | 0 |
Saturation Adjustment Green | 0 |
Saturation Adjustment Magenta | 0 |
Saturation Adjustment Orange | 0 |
Saturation Adjustment Purple | 0 |
Saturation Adjustment Red | 0 |
Saturation Adjustment Yellow | 0 |
Scale Factor To 35 mm Equivalent | 1.5 |
Scene Capture Type | Standard |
Sensing Method | One-chip color area |
Shadow Tint | 0 |
Shadows | 4 |
Sharpen Detail | 25 |
Sharpen Edge Masking | 0 |
Sharpen Radius | +1.0 |
Sharpness | Hard |
Split Toning Balance | 0 |
Split Toning Highlight Hue | 0 |
Split Toning Highlight Saturation | 0 |
Split Toning Shadow Hue | 0 |
Split Toning Shadow Saturation | 0 |
Subject Distance Range | Distant |
Tint | -14 |
Tone Curve | 0, 0, 61, 58, 181, 193, 255, 255 |
Tone Curve Name | Custom |
Version | 6.6 |
Vibrance | 0 |
Vignette Amount | 0 |
White Balance | Auto |