Shooting information for this photo
Camera: | PENTAX K-5 |
Exposure: | 0.00133 sec. (1/750) |
Aperture: | f/11.0 |
Focal Length: | 137.5 mm (35 mm equivalent: 207.0 mm) |
Flash: | Off, Did not fire |
Exposure mode: | Not Defined |
Resolution: | 240 x 240 dpi |
Original Date: | 2019:08:24 13:03:47 |
Created on: | 2019:08:24 13:03:47 |
Modified on: | 2019:12:31 17:53:34 |
Software: | Adobe Photoshop Lightroom 3.6 (Windows) |
Copyright: | John Sheldon |
Already Applied | True |
Approximate Focus Distance | 13.5 |
Artist | John Sheldon |
Blue Hue | -4 |
Blue Saturation | 0 |
Brightness | +50 |
Camera Profile | PENTAX K-5 General Sunny 5100 -4 |
Chromatic Aberration B | 0 |
Chromatic Aberration R | 0 |
Circle Of Confusion | 0.020 mm |
Clarity | 0 |
Color Noise Reduction | 25 |
Color Noise Reduction Detail | 50 |
Color Temperature | 5400 |
Contrast | Normal |
Convert To Grayscale | False |
Creator | John Sheldon |
Custom Rendered | Normal |
Date Created | 2019:08:24 13:03:47 |
Defringe | 0 |
Exposure | 0.00 |
Exposure Compensation | 0 |
Exposure Mode | Auto |
Field Of View | 9.9 deg |
Fill Light | 14 |
Focal Length In 35mm Format | 207 mm |
Format | image/jpeg |
Grain Amount | 0 |
Green Hue | 0 |
Green Saturation | 0 |
Has Crop | False |
Has Settings | True |
Highlight Recovery | 39 |
Hue Adjustment Aqua | 0 |
Hue Adjustment Blue | 0 |
Hue Adjustment Green | 0 |
Hue Adjustment Magenta | 0 |
Hue Adjustment Orange | 0 |
Hue Adjustment Purple | 0 |
Hue Adjustment Red | 0 |
Hue Adjustment Yellow | 0 |
Hyperfocal Distance | 86.12 m |
ISO | 560 |
Image Size | 4928x3264 |
Lens | smc PENTAX-DA 50-200mm F4-5.6 ED WR |
Lens ID | smc PENTAX-DA 50-200mm F4-5.6 ED WR |
Lens Info | 50-200mm f/4-5.6 |
Lens Manual Distortion Amount | 0 |
Lens Model | smc PENTAX-DA 50-200mm F4-5.6 ED WR |
Lens Profile Chromatic Aberration Scale | 100 |
Lens Profile Distortion Scale | 0 |
Lens Profile Enable | 1 |
Lens Profile Filename | PENTAX (smc PENTAX-DA 50-200mm F4-5.6 ED WR) - RAW.lcp |
Lens Profile Name | Adobe (smc PENTAX-DA 50-200mm F4-5.6 ED WR) |
Lens Profile Setup | Custom |
Lens Profile Vignetting Scale | 70 |
Light Value | 14.0 |
Luminance Adjustment Aqua | 0 |
Luminance Adjustment Blue | 0 |
Luminance Adjustment Green | 0 |
Luminance Adjustment Magenta | 0 |
Luminance Adjustment Orange | 0 |
Luminance Adjustment Purple | 0 |
Luminance Adjustment Red | 0 |
Luminance Adjustment Yellow | 0 |
Luminance Smoothing | 0 |
Metering Mode | Multi-segment |
Parametric Darks | 0 |
Parametric Highlight Split | 75 |
Parametric Highlights | 0 |
Parametric Lights | 0 |
Parametric Midtone Split | 50 |
Parametric Shadow Split | 25 |
Parametric Shadows | 0 |
Perspective Horizontal | 0 |
Perspective Rotate | 0.0 |
Perspective Scale | 100 |
Perspective Vertical | 0 |
Post Crop Vignette Amount | 0 |
Process Version | 5.7 |
Red Hue | -7 |
Red Saturation | 0 |
Rights | John Sheldon |
Saturation | Normal |
Saturation Adjustment Aqua | 0 |
Saturation Adjustment Blue | 0 |
Saturation Adjustment Green | 0 |
Saturation Adjustment Magenta | 0 |
Saturation Adjustment Orange | 0 |
Saturation Adjustment Purple | 0 |
Saturation Adjustment Red | 0 |
Saturation Adjustment Yellow | 0 |
Scale Factor To 35 mm Equivalent | 1.5 |
Scene Capture Type | Standard |
Sensing Method | One-chip color area |
Shadow Tint | 0 |
Shadows | 0 |
Sharpen Detail | 25 |
Sharpen Edge Masking | 0 |
Sharpen Radius | +1.0 |
Sharpness | Soft |
Split Toning Balance | 0 |
Split Toning Highlight Hue | 0 |
Split Toning Highlight Saturation | 0 |
Split Toning Shadow Hue | 0 |
Split Toning Shadow Saturation | 0 |
Subject Distance Range | Distant |
Tint | -12 |
Tone Curve | 0, 0, 32, 22, 64, 56, 128, 128, 192, 196, 255, 255 |
Tone Curve Name | Medium Contrast |
Version | 6.6 |
Vibrance | 0 |
Vignette Amount | 0 |
White Balance | Auto |