Shooting information for this photo
Camera: | PENTAX K-5 |
Exposure: | 0.004 sec. (1/250) |
Aperture: | f/9.0 |
Focal Length: | 30.6 mm (35 mm equivalent: 46.0 mm) |
Flash: | Off, Did not fire |
Exposure mode: | Not Defined |
Resolution: | 240 x 240 dpi |
Original Date: | 2016:02:23 15:01:57 |
Created on: | 2016:02:23 15:01:57 |
Modified on: | 2018:11:10 12:03:39 |
Software: | Adobe Photoshop Lightroom 3.6 (Windows) |
Copyright: | John Sheldon |
Already Applied | True |
Approximate Focus Distance | 5.66 |
Artist | John Sheldon |
Blue Hue | 0 |
Blue Saturation | 0 |
Brightness | +50 |
Camera Profile | Adobe Standard |
Chromatic Aberration B | 0 |
Chromatic Aberration R | 0 |
Circle Of Confusion | 0.020 mm |
Clarity | 0 |
Color Noise Reduction | 25 |
Color Noise Reduction Detail | 50 |
Color Temperature | 7200 |
Contrast | Normal |
Convert To Grayscale | True |
Creator | John Sheldon |
Crop Angle | 0 |
Crop Bottom | 1 |
Crop Constrain To Warp | 0 |
Crop Height | 3264 |
Crop Left | 0.05381 |
Crop Right | 0.981082 |
Crop Top | 0 |
Crop Unit | pixels |
Crop Width | 4570 |
Custom Rendered | Normal |
Date Created | 2016:02:23 15:01:57 |
Defringe | 0 |
Exposure | +0.97 |
Exposure Compensation | 0 |
Exposure Mode | Auto |
Field Of View | 42.7 deg |
Fill Light | 0 |
Focal Length In 35mm Format | 46 mm |
Format | image/jpeg |
Grain Amount | 0 |
Gray Mixer Aqua | -16 |
Gray Mixer Blue | -2 |
Gray Mixer Green | -28 |
Gray Mixer Magenta | +4 |
Gray Mixer Orange | -21 |
Gray Mixer Purple | +19 |
Gray Mixer Red | -11 |
Gray Mixer Yellow | -25 |
Green Hue | 0 |
Green Saturation | 0 |
Has Crop | True |
Has Settings | True |
Highlight Recovery | 21 |
Hyperfocal Distance | 5.21 m |
ISO | 800 |
Image Size | 4570x3264 |
Lens | smc PENTAX-DA 18-55mm F3.5-5.6 AL WR |
Lens ID | smc PENTAX-DA 18-55mm F3.5-5.6 AL WR |
Lens Info | 18-55mm f/3.5-5.6 |
Lens Manual Distortion Amount | 0 |
Lens Model | smc PENTAX-DA 18-55mm F3.5-5.6 AL WR |
Lens Profile Enable | 0 |
Lens Profile Setup | LensDefaults |
Light Value | 11.3 |
Luminance Noise Reduction Contrast | 0 |
Luminance Noise Reduction Detail | 50 |
Luminance Smoothing | 26 |
Metering Mode | Multi-segment |
Parametric Darks | 0 |
Parametric Highlight Split | 75 |
Parametric Highlights | 0 |
Parametric Lights | 0 |
Parametric Midtone Split | 50 |
Parametric Shadow Split | 25 |
Parametric Shadows | 0 |
Perspective Horizontal | 0 |
Perspective Rotate | 0.0 |
Perspective Scale | 100 |
Perspective Vertical | 0 |
Post Crop Vignette Amount | 0 |
Process Version | 5.7 |
Red Hue | 0 |
Red Saturation | 0 |
Rights | John Sheldon |
Saturation | Normal |
Scale Factor To 35 mm Equivalent | 1.5 |
Scene Capture Type | Standard |
Sensing Method | One-chip color area |
Shadow Tint | 0 |
Shadows | 5 |
Sharpen Detail | 25 |
Sharpen Edge Masking | 0 |
Sharpen Radius | +1.0 |
Sharpness | Normal |
Split Toning Balance | +47 |
Split Toning Highlight Hue | 60 |
Split Toning Highlight Saturation | 7 |
Split Toning Shadow Hue | 248 |
Split Toning Shadow Saturation | 3 |
Subject Distance Range | Distant |
Tint | -1 |
Tone Curve | 0, 0, 32, 24, 67, 55, 130, 125, 193, 191, 255, 255 |
Tone Curve Name | Custom |
Version | 6.6 |
Vignette Amount | 0 |
White Balance | Manual |