Shooting information for this photo
Camera: | PENTAX K-5 |
Exposure: | 0.0005 sec. (1/2000) |
Aperture: | f/9.0 |
Focal Length: | 137.5 mm (35 mm equivalent: 207.0 mm) |
Flash: | Off, Did not fire |
Exposure mode: | Aperture-priority AE |
Resolution: | 300 x 300 dpi |
Original Date: | 2013:06:02 16:03:09 |
Created on: | 2013:06:02 16:03:09 |
Modified on: | 2013:06:11 22:24:34 |
Software: | Adobe Photoshop Lightroom 3.6 (Windows) |
Copyright: | Creative Commons: Attribution, Non Commercial, No Derivative Works |
Already Applied | True |
Approximate Focus Distance | 9.51 |
Artist | John Sheldon |
Blue Hue | 0 |
Blue Saturation | 0 |
Brightness | +50 |
Camera Profile | PENTAX K-5 GretMac_02032013_sunny_NAT |
Chromatic Aberration B | 0 |
Chromatic Aberration R | 0 |
Circle Of Confusion | 0.020 mm |
Clarity | 0 |
Color Noise Reduction | 25 |
Color Noise Reduction Detail | 50 |
Color Temperature | 4650 |
Contrast | Normal |
Convert To Grayscale | True |
Creator | John Sheldon |
Custom Rendered | Custom |
Date Created | 2013:06:02 16:03:09 |
Defringe | 0 |
Description | Ox Roast celebration day in the Market Square, Ledbury, Herefordshire. |
Exposure | 0.00 |
Exposure Compensation | -0.7 |
Exposure Mode | Manual |
Field Of View | 9.9 deg |
Fill Light | 0 |
Focal Length In 35mm Format | 207 mm |
Format | image/jpeg |
Grain Amount | 0 |
Gray Mixer Aqua | 0 |
Gray Mixer Blue | 0 |
Gray Mixer Green | 0 |
Gray Mixer Magenta | 0 |
Gray Mixer Orange | 0 |
Gray Mixer Purple | 0 |
Gray Mixer Red | 0 |
Gray Mixer Yellow | 0 |
Green Hue | 0 |
Green Saturation | 0 |
Has Crop | False |
Has Settings | True |
Highlight Recovery | 22 |
Hyperfocal Distance | 105.25 m |
ISO | 3200 |
Image Description | Ox Roast celebration day in the Market Square, Ledbury, Herefordshire. |
Image Size | 3264x4928 |
Lens | smc PENTAX-DA 50-200mm F4-5.6 ED WR |
Lens ID | smc PENTAX-DA 50-200mm F4-5.6 ED WR |
Lens Info | 50-200mm f/4-5.6 |
Lens Manual Distortion Amount | 0 |
Lens Model | smc PENTAX-DA 50-200mm F4-5.6 ED WR |
Lens Profile Enable | 0 |
Lens Profile Setup | LensDefaults |
Light Value | 12.3 |
Luminance Noise Reduction Contrast | 0 |
Luminance Noise Reduction Detail | 50 |
Luminance Smoothing | 20 |
Marked | True |
Metering Mode | Multi-segment |
Parametric Darks | 0 |
Parametric Highlight Split | 75 |
Parametric Highlights | 0 |
Parametric Lights | 0 |
Parametric Midtone Split | 50 |
Parametric Shadow Split | 25 |
Parametric Shadows | 0 |
Perspective Horizontal | 0 |
Perspective Rotate | 0.0 |
Perspective Scale | 100 |
Perspective Vertical | 0 |
Post Crop Vignette Amount | 0 |
Process Version | 5.7 |
Red Hue | 0 |
Red Saturation | 0 |
Rights | Creative Commons: Attribution, Non Commercial, No Derivative Works |
Saturation | Low |
Scale Factor To 35 mm Equivalent | 1.5 |
Scene Capture Type | Standard |
Sensing Method | One-chip color area |
Shadow Tint | 0 |
Shadows | 1 |
Sharpen Detail | 25 |
Sharpen Edge Masking | 0 |
Sharpen Radius | +1.0 |
Sharpness | Normal |
Split Toning Balance | 0 |
Split Toning Highlight Hue | 0 |
Split Toning Highlight Saturation | 0 |
Split Toning Shadow Hue | 0 |
Split Toning Shadow Saturation | 0 |
Subject Distance Range | Distant |
Tint | -12 |
Tone Curve | 0, 0, 32, 16, 66, 50, 120, 138, 197, 197, 255, 255 |
Tone Curve Name | Custom |
Version | 6.6 |
Vignette Amount | 0 |
White Balance | Auto |