Shooting information for this photo
Camera: | Olympus OM10 |
Resolution: | 300 x 300 dpi |
Original Date: | 2013:02:18 16:33:17.14 |
Created on: | 2013:02:18 16:33:17.135 |
Modified on: | 2013:05:15 11:36:05 |
Software: | Adobe Photoshop Lightroom 3.6 (Windows) |
Copyright: | Creative Commons: Attribution, Non Commercial, No Derivative Works |
Already Applied | True |
Artist | John Sheldon |
Blue Hue | 0 |
Blue Saturation | 0 |
Brightness | -8 |
Camera Profile | Embedded |
Chromatic Aberration B | 0 |
Chromatic Aberration R | 0 |
Clarity | 0 |
Color Noise Reduction | 0 |
Contrast | +7 |
Convert To Grayscale | False |
Creator | John Sheldon |
Crop Angle | 3.481 |
Crop Bottom | 0.961983 |
Crop Constrain To Warp | 0 |
Crop Height | 3092 |
Crop Left | 0.098623 |
Crop Right | 0.916782 |
Crop Top | 0.024479 |
Crop Unit | pixels |
Crop Width | 2038 |
Date Created | 2013:02:18 16:33:17.14 |
Defringe | 0 |
Description | Olympus OM10 with G,Zuiko Auto-W 28mm f3.5 lens. |
Exposure | 0.00 |
Fill Light | 25 |
Format | image/jpeg |
Grain Amount | 0 |
Green Hue | 0 |
Green Saturation | 0 |
Has Crop | True |
Has Settings | True |
Highlight Recovery | 0 |
Hue Adjustment Aqua | 0 |
Hue Adjustment Blue | 0 |
Hue Adjustment Green | 0 |
Hue Adjustment Magenta | 0 |
Hue Adjustment Orange | 0 |
Hue Adjustment Purple | 0 |
Hue Adjustment Red | 0 |
Hue Adjustment Yellow | 0 |
Image Description | Olympus OM10 with G,Zuiko Auto-W 28mm f3.5 lens. |
Image Size | 3092x2038 |
Incremental Temperature | 0 |
Incremental Tint | 0 |
Lens Manual Distortion Amount | 0 |
Lens Profile Enable | 0 |
Lens Profile Setup | LensDefaults |
Luminance Adjustment Aqua | 0 |
Luminance Adjustment Blue | 0 |
Luminance Adjustment Green | 0 |
Luminance Adjustment Magenta | 0 |
Luminance Adjustment Orange | 0 |
Luminance Adjustment Purple | 0 |
Luminance Adjustment Red | 0 |
Luminance Adjustment Yellow | 0 |
Luminance Noise Reduction Contrast | 0 |
Luminance Noise Reduction Detail | 50 |
Luminance Smoothing | 20 |
Marked | True |
Paint Correction Active | true |
Paint Correction Amount | 1.000000 |
Paint Correction Brightness | -0.205000 |
Paint Correction Clarity | 0.000000 |
Paint Correction Contrast | 0.000000 |
Paint Correction Exposure | 0.000000 |
Paint Correction Hue | 295.000000 |
Paint Correction Mask Center Weight | 0.331094 |
Paint Correction Mask Flow | 1.000000 |
Paint Correction Mask Radius | 0.009543 |
Paint Correction Mask Value | 1.000000 |
Paint Correction Mask What | Mask/Paint |
Paint Correction Saturation | 0.000000 |
Paint Correction Sharpness | 0.000000 |
Paint Correction What | Correction |
Parametric Darks | 0 |
Parametric Highlight Split | 75 |
Parametric Highlights | 0 |
Parametric Lights | 0 |
Parametric Midtone Split | 50 |
Parametric Shadow Split | 25 |
Parametric Shadows | 0 |
Perspective Horizontal | +9 |
Perspective Rotate | 0.0 |
Perspective Scale | 100 |
Perspective Vertical | 0 |
Post Crop Vignette Amount | 0 |
Process Version | 5.7 |
Red Hue | 0 |
Red Saturation | 0 |
Rights | Creative Commons: Attribution, Non Commercial, No Derivative Works |
Saturation | 0 |
Saturation Adjustment Aqua | 0 |
Saturation Adjustment Blue | 0 |
Saturation Adjustment Green | 0 |
Saturation Adjustment Magenta | 0 |
Saturation Adjustment Orange | 0 |
Saturation Adjustment Purple | 0 |
Saturation Adjustment Red | 0 |
Saturation Adjustment Yellow | 0 |
Shadow Tint | 0 |
Shadows | 2 |
Sharpen Detail | 25 |
Sharpen Edge Masking | 0 |
Sharpen Radius | +1.0 |
Sharpness | 33 |
Split Toning Balance | 0 |
Split Toning Highlight Hue | 0 |
Split Toning Highlight Saturation | 0 |
Split Toning Shadow Hue | 0 |
Split Toning Shadow Saturation | 0 |
Title | Baddesley Clinton House, Warwickshire, February 2013. |
Tone Curve | 0, 0, 66, 64, 130, 141, 255, 255 |
Tone Curve Name | Custom |
Version | 6.6 |
Vibrance | 0 |
Vignette Amount | 0 |
White Balance | As Shot |