Shooting information for this photo
Camera: | NIKON CORPORATION NIKON D7100 |
Exposure: | 0.008 sec. (1/125) |
Aperture: | f/8.0 |
Focal Length: | 155.0 mm (35 mm equivalent: 155.0 mm) |
Flash: | Off, Did not fire |
Exposure mode: | Aperture-priority AE |
Max Aperture: | 5.7 |
Resolution: | 300 x 300 dpi |
Dimension: | 1280 x 1920 pixels |
Original Date: | 2013:06:07 13:32:41 |
Created on: | 2013:06:07 13:32:41 |
Modified on: | 2013:06:08 10:57:29 |
Software: | DxO PhotoLab 4.2 |
Copyright: | (C) Jean-Pierre Roche, tous droits réservés |
AF Aperture | 5.7 |
AF Area Mode | Single Area |
AF Fine Tune | Off |
AF Fine Tune Adj | 0 |
AF Fine Tune Index | n/a |
AF Info 2 Version | 0100 |
AF Points Used | C7 |
Active D-Lighting | Auto |
Already Applied | True |
Approximate Focus Distance | 5.01 |
Artist | Jean-Pierre Roche |
Authors Position | journaliste _ photographe |
Auto Distortion Control | Off |
Auto Focus | On |
Auto Lateral CA | 1 |
Auto White Version | 134348800 |
Blacks 2012 | 0 |
Blue Balance | 1.015625 |
Blue Hue | 0 |
Blue Saturation | 0 |
Brightness | Normal |
CFA Pattern | [Red,Green][Green,Blue] |
Camera Profile | Adobe Standard |
Circle Of Confusion | 0.030 mm |
Clarity 2012 | +40 |
Color Balance Unknown | 0218õ/¢»5.wËíY|ËE꺵 ,¨O!.F.À½.=..@.Æ¡Ï(¬[5 :jÅK[...] |
Color Noise Reduction | 15 |
Color Noise Reduction Detail | 50 |
Color Noise Reduction Smoothness | 50 |
Color Space | sRGB |
Contrast | Normal |
Contrast 2012 | +9 |
Contrast Detect AF | Off |
Contrast Detect AF In Focus | No |
Convert To Grayscale | False |
Creator | Jean-Pierre Roche |
Crop Hi Speed | Off (6036x4020 cropped to 6036x4020 at pixel 0,0) |
Custom Rendered | Normal |
Defringe Green Amount | 0 |
Defringe Green Hue Hi | 60 |
Defringe Green Hue Lo | 40 |
Defringe Purple Amount | 0 |
Defringe Purple Hue Hi | 70 |
Defringe Purple Hue Lo | 30 |
Dehaze | 0 |
Depth Of Field | 0.49 m (4.78 - 5.27) |
Description | Portail Nord |
Digital Zoom Ratio | 1 |
Effective Max Aperture | 5.7 |
Exit Pupil Position | 128.0 mm |
Exposure 2012 | +0.47 |
Exposure Bracket Value | 0 |
Exposure Compensation | 0 |
Exposure Difference | 0 |
Exposure Mode | Auto |
Exposure Tuning | 0 |
Field Of View | 12.8 deg (1.13 m) |
Filter Effect | n/a |
Firmware Version | 1.00 |
Flash Mode | Did Not Fire |
Focal Length In 35mm Format | 155 mm |
Focus Distance | 5.01 m |
Focus Mode | AF-S |
Focus Position | 0x53 |
Format | image/jpeg |
Gain Control | None |
Gradient Based Corr Active | true |
Gradient Based Corr Amount | 1.000000 |
Gradient Based Corr Brightness | 0.000000 |
Gradient Based Corr Clarity | 0.000000 |
Gradient Based Corr Clarity 2012 | 0.000000 |
Gradient Based Corr Contrast | 0.000000 |
Gradient Based Corr Contrast 2012 | 0.000000 |
Gradient Based Corr Defringe | 0.000000 |
Gradient Based Corr Exposure | 0.000000 |
Gradient Based Corr Exposure 2012 | -0.114750 |
Gradient Based Corr Highlights 2012 | 0.000000 |
Gradient Based Corr Hue | 0.000000 |
Gradient Based Corr Local Blacks 2012 | 0.000000 |
Gradient Based Corr Local Dehaze | 0.000000 |
Gradient Based Corr Local Whites 2012 | 0.000000 |
Gradient Based Corr Luminance Noise | 0.000000 |
Gradient Based Corr Mask Full X | 0.546547 |
Gradient Based Corr Mask Full Y | 0.201287 |
Gradient Based Corr Mask Value | 1.000000 |
Gradient Based Corr Mask What | Mask/Gradient |
Gradient Based Corr Mask Zero X | 0.542596 |
Gradient Based Corr Mask Zero Y | 0.328767 |
Gradient Based Corr Moire | 0.000000 |
Gradient Based Corr Saturation | 0.000000 |
Gradient Based Corr Shadows 2012 | 0.000000 |
Gradient Based Corr Sharpness | 0.000000 |
Gradient Based Corr Temperature | 0.000000 |
Gradient Based Corr Tint | 0.000000 |
Gradient Based Corr What | Correction |
Grain Amount | 0 |
Green Hue | 0 |
Green Saturation | 0 |
Has Settings | True |
Hierarchical Subject | Centre-Val de Loire, France, Saint-Benoît-sur-Loire |
High ISO Noise Reduction | Normal |
Highlights 2012 | 0 |
Hue Adjustment | None |
Hue Adjustment Aqua | 0 |
Hue Adjustment Blue | 0 |
Hue Adjustment Green | 0 |
Hue Adjustment Magenta | 0 |
Hue Adjustment Orange | 0 |
Hue Adjustment Purple | 0 |
Hue Adjustment Red | 0 |
Hue Adjustment Yellow | 0 |
Hyperfocal Distance | 99.95 m |
ISO | 100 |
ISO2 | 100 |
ISO Expansion | Off |
ISO Expansion 2 | Off |
ISO Setting | 100 |
Image Data Size | 11592099 |
Image Description | Portail Nord |
Image Number | 2595 |
Image Size | 1280x1920 |
Incremental Temperature | 0 |
Incremental Tint | 0 |
Label | Vert |
Lens | 18-300mm f/3.5-5.6 G VR |
Lens Data Version | 0204 |
Lens F Stops | 5.00 |
Lens ID | AF-S DX Nikkor 18-300mm 3.5-5.6G ED VR |
Lens ID Number | 173 |
Lens Info | 18-300mm f/3.5-5.6 |
Lens Manual Distortion Amount | 0 |
Lens Model | 18.0-300.0 mm f/3.5-5.6 |
Lens Profile Enable | 1 |
Lens Profile Setup | LensDefaults |
Lens Type | G VR |
Light Source | Unknown |
Light Value | 13.0 |
Luminance Adjustment Aqua | 0 |
Luminance Adjustment Blue | 0 |
Luminance Adjustment Green | 0 |
Luminance Adjustment Magenta | 0 |
Luminance Adjustment Orange | 0 |
Luminance Adjustment Purple | 0 |
Luminance Adjustment Red | 0 |
Luminance Adjustment Yellow | 0 |
Luminance Smoothing | 0 |
MCU Version | 175 |
Maker Note Version | 2.11 |
Max Aperture At Max Focal | 5.7 |
Max Aperture At Min Focal | 3.6 |
Max Focal Length | 302.0 mm |
Metering Mode | Multi-segment |
Min Focal Length | 18.3 mm |
Multi Exposure Auto Gain | Off |
Multi Exposure Mode | Off |
Multi Exposure Shots | 0 |
Multi Exposure Version | 0100 |
Noise Reduction | Off |
Parametric Darks | 0 |
Parametric Highlight Split | 75 |
Parametric Highlights | 0 |
Parametric Lights | 0 |
Parametric Midtone Split | 50 |
Parametric Shadow Split | 25 |
Parametric Shadows | 0 |
Perspective Aspect | 0 |
Perspective Horizontal | 0 |
Perspective Rotate | 0.0 |
Perspective Scale | 100 |
Perspective Upright | 0 |
Perspective Vertical | 0 |
Perspective X | 0.00 |
Perspective Y | 0.00 |
Phase Detect AF | On (51-point) |
Picture Control Adjust | Default Settings |
Picture Control Base | Standard |
Picture Control Name | Standard |
Picture Control Quick Adjust | Normal |
Picture Control Version | 0100 |
Post Crop Vignette Amount | 0 |
Primary AF Point | C7 |
Process Version | 6.7 |
Program Shift | 0 |
Quality | Fine |
Rating | 3 |
Rating Percent | 50 |
Raw File Name | _7SC2584.JPG |
Red Balance | 2.019531 |
Red Hue | 0 |
Red Saturation | 0 |
Rights | (C) Jean-Pierre Roche, tous droits réservés |
Saturation | Normal |
Saturation Adjustment Aqua | 0 |
Saturation Adjustment Blue | +30 |
Saturation Adjustment Green | 0 |
Saturation Adjustment Magenta | 0 |
Saturation Adjustment Orange | 0 |
Saturation Adjustment Purple | 0 |
Saturation Adjustment Red | +45 |
Saturation Adjustment Yellow | -13 |
Scale Factor To 35 mm Equivalent | 1.0 |
Scene Capture Type | Standard |
Scene Type | Directly photographed |
Sensing Method | One-chip color area |
Sensitivity Type | Recommended Exposure Index |
Shadow Tint | 0 |
Shadows 2012 | 0 |
Sharpen Detail | 60 |
Sharpen Edge Masking | 20 |
Sharpen Radius | +1.5 |
Sharpness | Normal |
Shooting Mode | Single-Frame |
Shot Info Version | 0227 |
Shutter Count | 2595 |
Split Toning Balance | 0 |
Split Toning Highlight Hue | 0 |
Split Toning Highlight Saturation | 0 |
Split Toning Shadow Hue | 0 |
Split Toning Shadow Saturation | 0 |
Subject | Centre-Val de Loire, France, Saint-Benoît-sur-Loire |
Subject Distance | 5.01 m |
Subject Distance Range | Unknown |
Title | Abbaye de Saint-Benoît-sur-Loire |
Tone Curve | 0, 0, 255, 255 |
Tone Curve Blue | 0, 0, 255, 255 |
Tone Curve Green | 0, 0, 255, 255 |
Tone Curve Name | Linear |
Tone Curve Name 2012 | Strong Contrast |
Tone Curve PV2012 | 0, 0, 32, 16, 64, 50, 128, 128, 192, 202, 255, 255 |
Tone Curve PV2012 Blue | 0, 0, 255, 255 |
Tone Curve PV2012 Green | 0, 0, 255, 255 |
Tone Curve PV2012 Red | 0, 0, 255, 255 |
Tone Curve Red | 0, 0, 255, 255 |
Tone Map Strength | 0 |
Toning Effect | n/a |
Toning Saturation | n/a |
Usage Terms | Pour étude uniquement, reproduction interdite sans autorisation |
VR Info Version | 0100 |
Version | 9.12 |
Vibrance | 0 |
Vibration Reduction | On |
Vignette Amount | 0 |
WB RB Levels | 2.01953125 1.015625 1 1 |
White Balance | Auto1 |
White Balance Fine Tune | 0 0 |
Whites 2012 | 0 |
GPS Information |
GPS Latitude | 47 deg 48' 35.17" N |
GPS Latitude Ref | North |
GPS Longitude | 2 deg 18' 20.60" E |
GPS Longitude Ref | East |
GPS Map Datum | WGS-84 |
GPS Position | 47 deg 48' 35.17" N, 2 deg 18' 20.60" E |
GPS Version ID | 2.3.0.0 |