Shooting information for this photo
Camera: | NIKON CORPORATION NIKON D7100 |
Exposure: | 0.00625 sec. (1/160) |
Aperture: | f/8.0 |
Focal Length: | 52.0 mm (35 mm equivalent: 52.0 mm) |
Flash: | Off, Did not fire |
Exposure mode: | Aperture-priority AE |
Max Aperture: | 5.5 |
Resolution: | 300 x 300 dpi |
Dimension: | 1920 x 1313 pixels |
Original Date: | 2013:06:07 12:54:12.30 |
Created on: | 2013:06:07 12:54:12.30 |
Modified on: | 2013:06:08 10:51:12.30 |
Software: | DxO PhotoLab 4.2 |
Copyright: | (C) Jean-Pierre Roche, tous droits réservés |
AF Aperture | 5.5 |
AF Area Mode | Single Area |
AF Fine Tune | Off |
AF Fine Tune Adj | 0 |
AF Fine Tune Index | n/a |
AF Info 2 Version | 0100 |
AF Points Used | E4 |
Active D-Lighting | Auto |
Already Applied | True |
Approximate Focus Distance | 5.01 |
Artist | Jean-Pierre ROCHE |
Authors Position | journaliste _ photographe |
Auto Distortion Control | Off |
Auto Focus | On |
Auto Lateral CA | 1 |
Auto White Version | 134348800 |
Blacks 2012 | 0 |
Blue Balance | 1.757813 |
Blue Hue | 0 |
Blue Saturation | 0 |
Brightness | Normal |
CFA Pattern | [Red,Green][Green,Blue] |
Camera Profile | Adobe Standard |
Circle Of Confusion | 0.030 mm |
Circular Gradient Based Corrections Correction Active | true |
Circular Gradient Based Corrections Correction Amount | 1.000000 |
Circular Gradient Based Corrections Correction Masks Angle | 20.476600 |
Circular Gradient Based Corrections Correction Masks Bottom | 1.017330 |
Circular Gradient Based Corrections Correction Masks Feather | +25 |
Circular Gradient Based Corrections Correction Masks Flipped | true |
Circular Gradient Based Corrections Correction Masks Left | 0.501963 |
Circular Gradient Based Corrections Correction Masks Mask Value | 1.000000 |
Circular Gradient Based Corrections Correction Masks Midpoint | +50 |
Circular Gradient Based Corrections Correction Masks Right | 0.680691 |
Circular Gradient Based Corrections Correction Masks Roundness | 0 |
Circular Gradient Based Corrections Correction Masks Top | 0.310026 |
Circular Gradient Based Corrections Correction Masks Version | +2 |
Circular Gradient Based Corrections Correction Masks What | Mask/CircularGradient |
Circular Gradient Based Corrections Local Brightness | 0.000000 |
Circular Gradient Based Corrections Local Clarity | 0.000000 |
Circular Gradient Based Corrections Local Clarity 2012 | 0.300000 |
Circular Gradient Based Corrections Local Contrast | 0.000000 |
Circular Gradient Based Corrections Local Contrast 2012 | 0.500000 |
Circular Gradient Based Corrections Local Defringe | 0.000000 |
Circular Gradient Based Corrections Local Exposure | 0.000000 |
Circular Gradient Based Corrections Local Exposure 2012 | -0.033250 |
Circular Gradient Based Corrections Local Highlights 2012 | 0.000000 |
Circular Gradient Based Corrections Local Luminance Noise | 0.000000 |
Circular Gradient Based Corrections Local Moire | 0.000000 |
Circular Gradient Based Corrections Local Saturation | -0.366670 |
Circular Gradient Based Corrections Local Shadows 2012 | 0.183330 |
Circular Gradient Based Corrections Local Sharpness | 0.000000 |
Circular Gradient Based Corrections Local Temperature | 0.116670 |
Circular Gradient Based Corrections Local Tint | 0.000000 |
Circular Gradient Based Corrections Local Toning Hue | 181.000000 |
Circular Gradient Based Corrections Local Toning Saturation | 0.050000 |
Circular Gradient Based Corrections What | Correction |
City | Saint-Benoît-sur-Loire |
Clarity 2012 | +40 |
Color Balance Unknown | 0218.bÝQB ®?ÈZµ.~#óî.eáZW.ÒPùÍ öKËvLMyÐRÿ×Ú.aåns£þ[ ...] |
Color Noise Reduction | 15 |
Color Noise Reduction Detail | 50 |
Color Noise Reduction Smoothness | 50 |
Color Space | sRGB |
Color Temperature | 4300 |
Contrast | Normal |
Contrast 2012 | 0 |
Contrast Detect AF | Off |
Contrast Detect AF In Focus | No |
Convert To Grayscale | False |
Country | France |
Creator | Jean-Pierre Roche |
Crop Angle | 0 |
Crop Bottom | 0.999989 |
Crop Constrain To Warp | 1 |
Crop Hi Speed | Off (6036x4020 cropped to 6036x4020 at pixel 0,0) |
Crop Left | 0.000011 |
Crop Right | 1 |
Crop Top | 0 |
Custom Rendered | Normal |
Date Created | 2013:06:07 12:54:12.30 |
Defringe Green Amount | 0 |
Defringe Green Hue Hi | 60 |
Defringe Green Hue Lo | 40 |
Defringe Purple Amount | 0 |
Defringe Purple Hue Hi | 70 |
Defringe Purple Hue Lo | 30 |
Dehaze | 0 |
Depth Of Field | 5.49 m (3.48 - 8.96) |
Digital Zoom Ratio | 1 |
Effective Max Aperture | 5.5 |
Exit Pupil Position | 120.5 mm |
Exposure 2012 | +0.34 |
Exposure Bracket Value | 0 |
Exposure Compensation | 0 |
Exposure Difference | 0 |
Exposure Mode | Auto |
Exposure Tuning | 0 |
Field Of View | 37.8 deg (3.43 m) |
Filter Effect | n/a |
Firmware Version | 1.00 |
Flash Fired | False |
Flash Function | False |
Flash Mode | Did Not Fire |
Flash Red Eye Mode | False |
Flash Return | No return detection |
Focal Length In 35mm Format | 52 mm |
Focus Distance | 5.01 m |
Focus Mode | AF-S |
Focus Position | 0x85 |
Format | image/x-nikon-nef |
Gain Control | None |
Grain Amount | 0 |
Green Hue | 0 |
Green Saturation | 0 |
Has Crop | True |
Has Settings | True |
Headline | Abbaye de Saint-Benoît-sur-Loire |
Hierarchical Subject | Centre-Val de Loire, France, Saint-Benoît-sur-Loire |
High ISO Noise Reduction | Normal |
Highlights 2012 | 0 |
Hue Adjustment | None |
Hue Adjustment Aqua | 0 |
Hue Adjustment Blue | 0 |
Hue Adjustment Green | 0 |
Hue Adjustment Magenta | 0 |
Hue Adjustment Orange | 0 |
Hue Adjustment Purple | 0 |
Hue Adjustment Red | 0 |
Hue Adjustment Yellow | 0 |
Hyperfocal Distance | 11.25 m |
ISO | 200 |
ISO2 | 200 |
ISO Expansion | Off |
ISO Expansion 2 | Off |
ISO Setting | 200 |
Image Number | 2534 |
Image Size | 1920x1313 |
Label | Vert |
Lens | 18-300mm f/3.5-5.6 G VR |
Lens Data Version | 0204 |
Lens F Stops | 5.00 |
Lens ID | AF-S DX Nikkor 18-300mm 3.5-5.6G ED VR |
Lens ID Number | 173 |
Lens Info | 18-300mm f/3.5-5.6 |
Lens Manual Distortion Amount | 0 |
Lens Profile Chromatic Aberration Scale | 100 |
Lens Profile Distortion Scale | 100 |
Lens Profile Enable | 1 |
Lens Profile Filename | NIKON D200 (Nikon AF-S DX NIKKOR 18-300mm f3.5-5.6G ED VR) - RAW.lcp |
Lens Profile Name | Adobe (Nikon AF-S DX NIKKOR 18-300mm f/3.5-5.6G ED VR) |
Lens Profile Setup | LensDefaults |
Lens Profile Vignetting Scale | 100 |
Lens Type | G VR |
Light Source | Unknown |
Light Value | 12.3 |
Luminance Adjustment Aqua | 0 |
Luminance Adjustment Blue | 0 |
Luminance Adjustment Green | 0 |
Luminance Adjustment Magenta | 0 |
Luminance Adjustment Orange | 0 |
Luminance Adjustment Purple | 0 |
Luminance Adjustment Red | 0 |
Luminance Adjustment Yellow | 0 |
Luminance Noise Reduction Contrast | 0 |
Luminance Noise Reduction Detail | 50 |
Luminance Smoothing | 10 |
MCU Version | 175 |
Maker Note Version | 2.11 |
Max Aperture At Max Focal | 5.7 |
Max Aperture At Min Focal | 3.6 |
Max Focal Length | 302.0 mm |
Metering Mode | Multi-segment |
Min Focal Length | 18.3 mm |
Multi Exposure Auto Gain | Off |
Multi Exposure Mode | Off |
Multi Exposure Shots | 0 |
Multi Exposure Version | 0100 |
Noise Reduction | Off |
Parametric Darks | 0 |
Parametric Highlight Split | 75 |
Parametric Highlights | 0 |
Parametric Lights | 0 |
Parametric Midtone Split | 50 |
Parametric Shadow Split | 25 |
Parametric Shadows | 0 |
Perspective Aspect | 0 |
Perspective Horizontal | 0 |
Perspective Rotate | 0.0 |
Perspective Scale | 100 |
Perspective Upright | 0 |
Perspective Vertical | 0 |
Perspective X | 0.00 |
Perspective Y | 0.00 |
Phase Detect AF | On (51-point) |
Picture Control Adjust | Default Settings |
Picture Control Base | Standard |
Picture Control Name | Standard |
Picture Control Quick Adjust | Normal |
Picture Control Version | 0100 |
Post Crop Vignette Amount | 0 |
Primary AF Point | E4 |
Process Version | 6.7 |
Program Shift | 0 |
Quality | Fine |
Rating | 3 |
Rating Percent | 50 |
Raw File Name | _7SC2523.NEF |
Red Balance | 2.09375 |
Red Hue | 0 |
Red Saturation | 0 |
Rights | (C) Jean-Pierre Roche, tous droits réservés |
Saturation | Normal |
Saturation Adjustment Aqua | 0 |
Saturation Adjustment Blue | 0 |
Saturation Adjustment Green | 0 |
Saturation Adjustment Magenta | 0 |
Saturation Adjustment Orange | 0 |
Saturation Adjustment Purple | 0 |
Saturation Adjustment Red | 0 |
Saturation Adjustment Yellow | 0 |
Scale Factor To 35 mm Equivalent | 1.0 |
Scene Capture Type | Standard |
Scene Type | Directly photographed |
Sensing Method | One-chip color area |
Sensitivity Type | Recommended Exposure Index |
Shadow Tint | 0 |
Shadows 2012 | 0 |
Sharpen Detail | 70 |
Sharpen Edge Masking | 20 |
Sharpen Radius | +1.2 |
Sharpness | Normal |
Shooting Mode | Single-Frame |
Shot Info Version | 0227 |
Shutter Count | 2534 |
Sidecar For Extension | nef |
Split Toning Balance | 0 |
Split Toning Highlight Hue | 0 |
Split Toning Highlight Saturation | 0 |
Split Toning Shadow Hue | 0 |
Split Toning Shadow Saturation | 0 |
State | Centre-Val de Loire |
Subject | Centre-Val de Loire, France, Saint-Benoît-sur-Loire |
Subject Distance | 5.01 m |
Subject Distance Range | Unknown |
TIFF-EP Standard ID | 1 0 0 0 |
Tint | -4 |
Title | Abbaye de Saint-Benoît-sur-Loire |
Tone Curve | 0, 0, 32, 22, 64, 56, 128, 128, 192, 196, 255, 255 |
Tone Curve Blue | 0, 0, 255, 255 |
Tone Curve Green | 0, 0, 255, 255 |
Tone Curve Name | Medium Contrast |
Tone Curve Name 2012 | Medium Contrast |
Tone Curve PV2012 | 0, 0, 32, 22, 64, 56, 128, 128, 192, 196, 255, 255 |
Tone Curve PV2012 Blue | 0, 0, 255, 255 |
Tone Curve PV2012 Green | 0, 0, 255, 255 |
Tone Curve PV2012 Red | 0, 0, 255, 255 |
Tone Curve Red | 0, 0, 255, 255 |
Tone Map Strength | 0 |
Toning Effect | n/a |
Toning Saturation | n/a |
Usage Terms | Pour étude uniquement, reproduction interdite sans autorisation |
User Flag | 0 |
VR Info Version | 0100 |
Version | 9.12 |
Vibrance | 0 |
Vibration Reduction | On |
Vignette Amount | 0 |
WB RB Levels | 2.09375 1.7578125 1 1 |
White Balance | Auto1 |
White Balance Fine Tune | 0 0 |
Whites 2012 | 0 |
GPS Information |
GPS Latitude | 47 deg 48' 34.96" N |
GPS Latitude Ref | North |
GPS Longitude | 2 deg 18' 18.54" E |
GPS Longitude Ref | East |
GPS Map Datum | WGS-84 |
GPS Position | 47 deg 48' 34.96" N, 2 deg 18' 18.54" E |
GPS Version ID | 2.3.0.0 |