Shooting information for this photo
Camera: | NIKON CORPORATION NIKON D7100 |
Exposure: | 0.004 sec. (1/250) |
Aperture: | f/8.0 |
Focal Length: | 14.0 mm (35 mm equivalent: 14.0 mm) |
Flash: | Off, Did not fire |
Exposure mode: | Aperture-priority AE |
Max Aperture: | 5.3 |
Resolution: | 300 x 300 dpi |
Dimension: | 1920 x 1537 pixels |
Original Date: | 2013:06:07 12:52:31.90 |
Created on: | 2013:06:07 12:52:31.90 |
Modified on: | 2013:06:15 09:26:39.90 |
Software: | DxO PhotoLab 4.2 |
Copyright: | (C) Jean-Pierre Roche, tous droits réservés |
AF Aperture | 5.3 |
AF Area Mode | Single Area |
AF Fine Tune | Off |
AF Fine Tune Adj | 0 |
AF Fine Tune Index | n/a |
AF Info 2 Version | 0100 |
AF Points Used | E4 |
Already Applied | True |
Approximate Focus Distance | 4294967295 |
Artist | Jean-Pierre ROCHE |
Authors Position | journaliste _ photographe |
Auto Distortion Control | Off |
Auto Focus | On |
Auto Lateral CA | 1 |
Auto White Version | 134348800 |
Blacks 2012 | +25 |
Blue Balance | 1.6875 |
Blue Hue | 0 |
Blue Saturation | 0 |
Brightness | Normal |
CFA Pattern | [Red,Green][Green,Blue] |
Camera Profile | Adobe Standard |
Circle Of Confusion | 0.030 mm |
City | Saint-Benoît-sur-Loire |
Clarity 2012 | +40 |
Color Balance Unknown | 0218ò2§¸P.x²ÒZ.ÃŽHý¸à ž/«R$!I.ÃÀ.@..C.É¡¤Ò+¯ ^8=mÈN[...] |
Color Noise Reduction | 15 |
Color Noise Reduction Detail | 50 |
Color Noise Reduction Smoothness | 50 |
Color Space | sRGB |
Color Temperature | 4650 |
Contrast | Normal |
Contrast 2012 | 0 |
Contrast Detect AF | Off |
Contrast Detect AF In Focus | No |
Convert To Grayscale | False |
Country | France |
Creator | Jean-Pierre Roche |
Crop Angle | 0 |
Crop Bottom | 0.89243 |
Crop Constrain To Warp | 0 |
Crop Hi Speed | Off (6036x4020 cropped to 6036x4020 at pixel 0,0) |
Crop Left | 0.039841 |
Crop Right | 0.932271 |
Crop Top | 0 |
Custom Rendered | Normal |
Date Created | 2013:06:07 12:52:31.90 |
Defringe Green Amount | 0 |
Defringe Green Hue Hi | 60 |
Defringe Green Hue Lo | 40 |
Defringe Purple Amount | 0 |
Defringe Purple Hue Hi | 70 |
Defringe Purple Hue Lo | 30 |
Depth Of Field | inf (0.67 m - inf) |
Digital Zoom Ratio | 1 |
Effective Max Aperture | 5.3 |
Exit Pupil Position | 113.8 mm |
Exposure 2012 | -0.56 |
Exposure Bracket Value | 0 |
Exposure Compensation | 0 |
Exposure Difference | 0 |
Exposure Mode | Auto |
Exposure Tuning | 0 |
Field Of View | 104.0 deg (9.09 m) |
Filter Effect | n/a |
Firmware Version | 1.00 |
Flash Fired | False |
Flash Function | False |
Flash Mode | Did Not Fire |
Flash Red Eye Mode | False |
Flash Return | No return detection |
Focal Length In 35mm Format | 14 mm |
Focus Distance | 3.55 m |
Focus Mode | AF-S |
Focus Position | 0x05 |
Format | image/x-nikon-nef |
Gain Control | None |
Grain Amount | 0 |
Green Hue | 0 |
Green Saturation | 0 |
Has Crop | True |
Has Settings | True |
Headline | Abbaye de Saint-Benoît-sur-Loire |
Hierarchical Subject | Centre-Val de Loire, France, Saint-Benoît-sur-Loire |
High ISO Noise Reduction | Normal |
Highlights 2012 | 0 |
Hue Adjustment | None |
Hue Adjustment Aqua | 0 |
Hue Adjustment Blue | 0 |
Hue Adjustment Green | 0 |
Hue Adjustment Magenta | 0 |
Hue Adjustment Orange | 0 |
Hue Adjustment Purple | 0 |
Hue Adjustment Red | 0 |
Hue Adjustment Yellow | 0 |
Hyperfocal Distance | 0.82 m |
IFD0 Offset | 8 |
ISO | 100 |
ISO2 | 100 |
ISO Expansion | Off |
ISO Expansion 2 | Off |
ISO Setting | 100 |
Image Number | 2531 |
Image Size | 1920x1537 |
Label | Vert |
Lens | 8-16mm f/4.5-5.6 G |
Lens Data Version | 0204 |
Lens F Stops | 4.67 |
Lens ID | Sigma 8-16mm F4.5-5.6 DC HSM |
Lens ID Number | 158 |
Lens Info | 8-16mm f/4.5-5.6 |
Lens Manual Distortion Amount | 0 |
Lens Profile Chromatic Aberration Scale | 100 |
Lens Profile Distortion Scale | 100 |
Lens Profile Enable | 1 |
Lens Profile Filename | NIKON CORPORATION (SIGMA 8-16mm F4.5-5.6 DC HSM) - RAW.lcp |
Lens Profile Name | Adobe (SIGMA 8-16mm F4.5-5.6 DC HSM, NIKON CORPORATION) |
Lens Profile Setup | LensDefaults |
Lens Profile Vignetting Scale | 100 |
Lens Type | G |
Light Source | Unknown |
Light Value | 14.0 |
Luminance Adjustment Aqua | -2 |
Luminance Adjustment Blue | -24 |
Luminance Adjustment Green | 0 |
Luminance Adjustment Magenta | 0 |
Luminance Adjustment Orange | 0 |
Luminance Adjustment Purple | 0 |
Luminance Adjustment Red | 0 |
Luminance Adjustment Yellow | 0 |
Luminance Smoothing | 0 |
MCU Version | 75 |
Maker Note Version | 2.11 |
Max Aperture At Max Focal | 5.7 |
Max Aperture At Min Focal | 4.5 |
Max Focal Length | 16.3 mm |
Metering Mode | Multi-segment |
Min Focal Length | 8.2 mm |
Multi Exposure Auto Gain | Off |
Multi Exposure Mode | Off |
Multi Exposure Shots | 0 |
Multi Exposure Version | 0100 |
Parametric Darks | 0 |
Parametric Highlight Split | 75 |
Parametric Highlights | 0 |
Parametric Lights | 0 |
Parametric Midtone Split | 50 |
Parametric Shadow Split | 25 |
Parametric Shadows | 0 |
Perspective Aspect | +14 |
Perspective Horizontal | 0 |
Perspective Rotate | +2.8 |
Perspective Scale | 106 |
Perspective Upright | 0 |
Perspective Vertical | -55 |
Phase Detect AF | On (51-point) |
Picture Control Adjust | Default Settings |
Picture Control Base | Standard |
Picture Control Name | Standard |
Picture Control Quick Adjust | Normal |
Picture Control Version | 0100 |
Post Crop Vignette Amount | 0 |
Preview IFD Offset | 5944 |
Primary AF Point | E4 |
Process Version | 6.7 |
Program Shift | 0 |
Quality | Fine |
Rating | 3 |
Rating Percent | 50 |
Raw File Name | _7SC2520.NEF |
Red Balance | 2.261719 |
Red Hue | 0 |
Red Saturation | 0 |
Rights | (C) Jean-Pierre Roche, tous droits réservés |
Saturation | Normal |
Saturation Adjustment Aqua | +2 |
Saturation Adjustment Blue | +16 |
Saturation Adjustment Green | 0 |
Saturation Adjustment Magenta | 0 |
Saturation Adjustment Orange | 0 |
Saturation Adjustment Purple | 0 |
Saturation Adjustment Red | 0 |
Saturation Adjustment Yellow | 0 |
Scale Factor To 35 mm Equivalent | 1.0 |
Scene Capture Type | Standard |
Scene Type | Directly photographed |
Sensing Method | One-chip color area |
Sensitivity Type | Recommended Exposure Index |
Shadow Tint | 0 |
Shadows 2012 | +33 |
Sharpen Detail | 70 |
Sharpen Edge Masking | 20 |
Sharpen Radius | +1.2 |
Sharpness | Normal |
Shooting Mode | Single-Frame |
Shot Info Version | 0227 |
Shutter Count | 2531 |
Sidecar For Extension | nef |
Split Toning Balance | 0 |
Split Toning Highlight Hue | 0 |
Split Toning Highlight Saturation | 0 |
Split Toning Shadow Hue | 0 |
Split Toning Shadow Saturation | 0 |
State | Centre-Val de Loire |
Subject | Centre-Val de Loire, France, Saint-Benoît-sur-Loire |
Subject Distance | 3.55 m |
Subject Distance Range | Unknown |
TIFF-EP Standard ID | 1 0 0 0 |
Tint | +1 |
Title | Abbaye de Saint-Benoît-sur-Loire |
Tone Curve | 0, 0, 32, 22, 64, 56, 128, 128, 192, 196, 255, 255 |
Tone Curve Blue | 0, 0, 255, 255 |
Tone Curve Green | 0, 0, 255, 255 |
Tone Curve Name | Medium Contrast |
Tone Curve Name 2012 | Linear |
Tone Curve PV2012 | 0, 0, 255, 255 |
Tone Curve PV2012 Blue | 0, 0, 255, 255 |
Tone Curve PV2012 Green | 0, 0, 255, 255 |
Tone Curve PV2012 Red | 0, 0, 255, 255 |
Tone Curve Red | 0, 0, 255, 255 |
Toning Effect | n/a |
Toning Saturation | n/a |
Urgency | 1 (most urgent) |
Usage Terms | Pour étude uniquement, reproduction interdite sans autorisation |
User Flag | 0 |
VR Info Version | 0100 |
Version | 8.7 |
Vibrance | +30 |
Vibration Reduction | Off |
Vignette Amount | 0 |
WB RB Levels | 2.26171875 1.6875 1 1 |
White Balance | Auto1 |
White Balance Fine Tune | 0 0 |
Whites 2012 | 0 |
GPS Information |
GPS Latitude | 47 deg 48' 36.09" N |
GPS Latitude Ref | North |
GPS Longitude | 2 deg 18' 18.11" E |
GPS Longitude Ref | East |
GPS Map Datum | WGS-84 |
GPS Position | 47 deg 48' 36.09" N, 2 deg 18' 18.11" E |
GPS Version ID | 2.3.0.0 |