Shooting information for this photo
Camera: | NIKON CORPORATION NIKON D7100 |
Exposure: | 0.00625 sec. (1/160) |
Aperture: | f/8.0 |
Focal Length: | 8.0 mm (35 mm equivalent: 8.0 mm) |
Flash: | Off, Did not fire |
Exposure mode: | Aperture-priority AE |
Max Aperture: | 4.4 |
Resolution: | 300 x 300 dpi |
Dimension: | 1920 x 1365 pixels |
Original Date: | 2013:06:07 11:16:28.20 |
Created on: | 2013:06:07 11:16:28.20 |
Modified on: | 2013:06:12 07:00:12.20 |
Software: | DxO PhotoLab 4.2 |
Copyright: | (C) Jean-Pierre Roche, tous droits réservés |
AF Aperture | 4.6 |
AF Area Mode | Single Area |
AF Fine Tune | Off |
AF Fine Tune Adj | 0 |
AF Fine Tune Index | n/a |
AF Info 2 Version | 0100 |
AF Points Used | D8 |
Already Applied | True |
Approximate Focus Distance | 4294967295 |
Artist | Jean-Pierre ROCHE |
Authors Position | journaliste _ photographe |
Auto Distortion Control | Off |
Auto Focus | On |
Auto Lateral CA | 1 |
Auto White Version | 134348800 |
Blacks 2012 | 0 |
Blue Balance | 1.5625 |
Blue Hue | 0 |
Blue Saturation | 0 |
Brightness | Normal |
CFA Pattern | [Red,Green][Green,Blue] |
Camera Profile | Adobe Standard |
Circle Of Confusion | 0.030 mm |
City | Sully-sur-Loire |
Clarity 2012 | +40 |
Color Balance Unknown | 0218¯.xbkßoMIe¥/R¡.À±.~% ÷ô.oíjièh.éê.mïtw¥þ1. .@![...] |
Color Noise Reduction | 15 |
Color Noise Reduction Detail | 50 |
Color Noise Reduction Smoothness | 50 |
Color Space | sRGB |
Color Temperature | 5500 |
Contrast | Normal |
Contrast 2012 | 0 |
Contrast Detect AF | Off |
Contrast Detect AF In Focus | No |
Convert To Grayscale | False |
Country | France |
Creator | Jean-Pierre Roche |
Crop Angle | 0 |
Crop Bottom | 0.955779 |
Crop Constrain To Warp | 0 |
Crop Hi Speed | Off (6036x4020 cropped to 6036x4020 at pixel 0,0) |
Crop Left | 0.006702 |
Crop Right | 0.987936 |
Crop Top | 0 |
Custom Rendered | Normal |
Date Created | 2013:06:07 11:16:28.20 |
Defringe Green Amount | 0 |
Defringe Green Hue Hi | 60 |
Defringe Green Hue Lo | 40 |
Defringe Purple Amount | 0 |
Defringe Purple Hue Hi | 70 |
Defringe Purple Hue Lo | 30 |
Dehaze | 0 |
Depth Of Field | inf (0.25 m - inf) |
Digital Zoom Ratio | 1 |
Effective Max Aperture | 4.5 |
Exit Pupil Position | 128.0 mm |
Exposure 2012 | -0.49 |
Exposure Bracket Value | 0 |
Exposure Compensation | 0 |
Exposure Difference | 0 |
Exposure Mode | Auto |
Exposure Tuning | 0 |
Field Of View | 132.0 deg (15.93 m) |
Filter Effect | n/a |
Firmware Version | 1.00 |
Flash Fired | False |
Flash Function | False |
Flash Mode | Did Not Fire |
Flash Red Eye Mode | False |
Flash Return | No return detection |
Focal Length In 35mm Format | 8 mm |
Focus Distance | 3.55 m |
Focus Mode | AF-S |
Focus Position | 0x05 |
Format | image/x-nikon-nef |
Gain Control | None |
Gradient Based Corr Active | true |
Gradient Based Corr Amount | 1.000000 |
Gradient Based Corr Brightness | 0.000000 |
Gradient Based Corr Clarity | 0.000000 |
Gradient Based Corr Clarity 2012 | 0.000000 |
Gradient Based Corr Contrast | 0.000000 |
Gradient Based Corr Contrast 2012 | 0.000000 |
Gradient Based Corr Defringe | 0.000000 |
Gradient Based Corr Exposure | 0.000000 |
Gradient Based Corr Exposure 2012 | -0.333250 |
Gradient Based Corr Highlights 2012 | 0.000000 |
Gradient Based Corr Hue | 180.000000 |
Gradient Based Corr Local Blacks 2012 | 0.000000 |
Gradient Based Corr Local Dehaze | 0.000000 |
Gradient Based Corr Local Whites 2012 | 0.000000 |
Gradient Based Corr Luminance Noise | 0.000000 |
Gradient Based Corr Mask Full X | 0.550237 |
Gradient Based Corr Mask Full Y | 1.002540 |
Gradient Based Corr Mask Value | 1.000000 |
Gradient Based Corr Mask What | Mask/Gradient |
Gradient Based Corr Mask Zero X | 0.548139 |
Gradient Based Corr Mask Zero Y | 0.803674 |
Gradient Based Corr Moire | 0.000000 |
Gradient Based Corr Saturation | 0.000000 |
Gradient Based Corr Shadows 2012 | 0.000000 |
Gradient Based Corr Sharpness | 0.000000 |
Gradient Based Corr Temperature | 0.000000 |
Gradient Based Corr Tint | 0.000000 |
Gradient Based Corr What | Correction |
Grain Amount | 0 |
Green Hue | 0 |
Green Saturation | 0 |
Has Crop | True |
Has Settings | True |
Hierarchical Subject | Centre-Val de Loire, France, Sully-sur-Loire |
High ISO Noise Reduction | Normal |
Highlights 2012 | -33 |
Hue Adjustment | None |
Hue Adjustment Aqua | 0 |
Hue Adjustment Blue | 0 |
Hue Adjustment Green | 0 |
Hue Adjustment Magenta | 0 |
Hue Adjustment Orange | 0 |
Hue Adjustment Purple | 0 |
Hue Adjustment Red | 0 |
Hue Adjustment Yellow | 0 |
Hyperfocal Distance | 0.27 m |
IFD0 Offset | 8 |
ISO | 100 |
ISO2 | 100 |
ISO Expansion | Off |
ISO Expansion 2 | Off |
ISO Setting | 100 |
Image Number | 2492 |
Image Size | 1920x1365 |
Label | Vert |
Lens | 8-16mm f/4.5-5.6 G |
Lens Data Version | 0204 |
Lens F Stops | 4.67 |
Lens ID | Sigma 8-16mm F4.5-5.6 DC HSM |
Lens ID Number | 158 |
Lens Info | 8-16mm f/4.5-5.6 |
Lens Manual Distortion Amount | 0 |
Lens Profile Chromatic Aberration Scale | 100 |
Lens Profile Distortion Scale | 100 |
Lens Profile Enable | 1 |
Lens Profile Filename | NIKON CORPORATION (SIGMA 8-16mm F4.5-5.6 DC HSM) - RAW.lcp |
Lens Profile Name | Adobe (SIGMA 8-16mm F4.5-5.6 DC HSM, NIKON CORPORATION) |
Lens Profile Setup | LensDefaults |
Lens Profile Vignetting Scale | 100 |
Lens Type | G |
Light Source | Unknown |
Light Value | 13.3 |
Luminance Adjustment Aqua | 0 |
Luminance Adjustment Blue | -50 |
Luminance Adjustment Green | 0 |
Luminance Adjustment Magenta | 0 |
Luminance Adjustment Orange | 0 |
Luminance Adjustment Purple | 0 |
Luminance Adjustment Red | 0 |
Luminance Adjustment Yellow | 0 |
Luminance Smoothing | 0 |
MCU Version | 75 |
Maker Note Version | 2.11 |
Max Aperture At Max Focal | 5.7 |
Max Aperture At Min Focal | 4.5 |
Max Focal Length | 16.3 mm |
Metering Mode | Multi-segment |
Min Focal Length | 8.2 mm |
Multi Exposure Auto Gain | Off |
Multi Exposure Mode | Off |
Multi Exposure Shots | 0 |
Multi Exposure Version | 0100 |
Parametric Darks | 0 |
Parametric Highlight Split | 75 |
Parametric Highlights | 0 |
Parametric Lights | 0 |
Parametric Midtone Split | 50 |
Parametric Shadow Split | 25 |
Parametric Shadows | 0 |
Perspective Aspect | +4 |
Perspective Horizontal | 0 |
Perspective Rotate | +0.6 |
Perspective Scale | 100 |
Perspective Upright | 0 |
Perspective Vertical | -22 |
Phase Detect AF | On (51-point) |
Picture Control Adjust | Default Settings |
Picture Control Base | Standard |
Picture Control Name | Standard |
Picture Control Quick Adjust | Normal |
Picture Control Version | 0100 |
Post Crop Vignette Amount | 0 |
Preview IFD Offset | 5944 |
Primary AF Point | D8 |
Process Version | 6.7 |
Program Shift | 0 |
Quality | Fine |
Rating | 3 |
Rating Percent | 50 |
Raw File Name | _7SC2481.NEF |
Red Balance | 2.550781 |
Red Hue | 0 |
Red Saturation | 0 |
Rights | (C) Jean-Pierre Roche, tous droits réservés |
Saturation | Normal |
Saturation Adjustment Aqua | 0 |
Saturation Adjustment Blue | +28 |
Saturation Adjustment Green | 0 |
Saturation Adjustment Magenta | 0 |
Saturation Adjustment Orange | 0 |
Saturation Adjustment Purple | 0 |
Saturation Adjustment Red | 0 |
Saturation Adjustment Yellow | 0 |
Scale Factor To 35 mm Equivalent | 1.0 |
Scene Capture Type | Standard |
Scene Type | Directly photographed |
Sensing Method | One-chip color area |
Sensitivity Type | Recommended Exposure Index |
Shadow Tint | 0 |
Shadows 2012 | +24 |
Sharpen Detail | 60 |
Sharpen Edge Masking | 20 |
Sharpen Radius | +1.5 |
Sharpness | Normal |
Shooting Mode | Single-Frame |
Shot Info Version | 0227 |
Shutter Count | 2492 |
Sidecar For Extension | nef |
Split Toning Balance | 0 |
Split Toning Highlight Hue | 0 |
Split Toning Highlight Saturation | 0 |
Split Toning Shadow Hue | 0 |
Split Toning Shadow Saturation | 0 |
State | Centre-Val de Loire |
Subject | Centre-Val de Loire, France, Sully-sur-Loire |
Subject Distance | 3.55 m |
Subject Distance Range | Unknown |
TIFF-EP Standard ID | 1 0 0 0 |
Tint | +10 |
Title | Château de Sully-sur-Loire |
Tone Curve | 0, 0, 32, 22, 64, 56, 128, 128, 192, 196, 255, 255 |
Tone Curve Blue | 0, 0, 255, 255 |
Tone Curve Green | 0, 0, 255, 255 |
Tone Curve Name | Medium Contrast |
Tone Curve Name 2012 | Linear |
Tone Curve PV2012 | 0, 0, 255, 255 |
Tone Curve PV2012 Blue | 0, 0, 255, 255 |
Tone Curve PV2012 Green | 0, 0, 255, 255 |
Tone Curve PV2012 Red | 0, 0, 255, 255 |
Tone Curve Red | 0, 0, 255, 255 |
Tone Map Strength | 0 |
Toning Effect | n/a |
Toning Saturation | n/a |
Urgency | 1 (most urgent) |
Usage Terms | Pour étude uniquement, reproduction interdite sans autorisation |
User Flag | 0 |
VR Info Version | 0100 |
Version | 9.5 |
Vibrance | +30 |
Vibration Reduction | Off |
Vignette Amount | 0 |
WB RB Levels | 2.55078125 1.5625 1 1 |
White Balance | Auto1 |
White Balance Fine Tune | 0 0 |
Whites 2012 | -29 |
GPS Information |
GPS Latitude | 47 deg 46' 5.24" N |
GPS Latitude Ref | North |
GPS Longitude | 2 deg 22' 28.36" E |
GPS Longitude Ref | East |
GPS Map Datum | WGS-84 |
GPS Position | 47 deg 46' 5.24" N, 2 deg 22' 28.36" E |
GPS Version ID | 2.3.0.0 |