Shooting information for this photo
Camera: | SONY ILCE-7RM2 |
Exposure: | 0.25 sec. (1/4) |
Aperture: | f/18.0 |
Focal Length: | 90.0 mm (35 mm equivalent: 90.0 mm) |
Flash: | Off, Did not fire |
Exposure mode: | Aperture-priority AE |
Max Aperture: | 2.8 |
Resolution: | 300 x 300 dpi |
Dimension: | 2001 x 3000 pixels |
Original Date: | 2020:07:15 10:36:29 |
Created on: | 2020:07:15 10:36:29 |
Modified on: | 2020:07:15 23:59:22 |
Software: | Adobe Photoshop CS6 (Windows) |
Copyright: | Jim Fowler |
Already Applied | True |
Artist | Jim Fowler |
Auto Lateral CA | 0 |
Auto White Version | 134348800 |
Blacks 2012 | 0 |
Blue Hue | 0 |
Blue Saturation | 0 |
Brightness Value | 5.4625 |
Camera Profile | Adobe Standard |
Circle Of Confusion | 0.030 mm |
Clarity 2012 | +37 |
Color Mode | RGB |
Color Noise Reduction | 25 |
Color Noise Reduction Detail | 50 |
Color Noise Reduction Smoothness | 50 |
Color Space | sRGB |
Color Temperature | 3750 |
Contrast | Normal |
Contrast 2012 | 0 |
Convert To Grayscale | False |
Creator | Jim Fowler, Jim Fowler |
Custom Rendered | Normal |
Date Created | 2020:07:15 10:36:29-04:00 |
Defringe Green Amount | 0 |
Defringe Green Hue Hi | 60 |
Defringe Green Hue Lo | 40 |
Defringe Purple Amount | 0 |
Defringe Purple Hue Hi | 70 |
Defringe Purple Hue Lo | 30 |
Dehaze | 0 |
Digital Zoom Ratio | 1 |
Exposure 2012 | +1.05 |
Exposure Compensation | -1 |
Exposure Mode | Auto |
Field Of View | 22.6 deg |
Focal Length In 35mm Format | 90 mm |
Format | image/jpeg |
Grain Amount | 0 |
Green Hue | 0 |
Green Saturation | 0 |
Has Crop | False |
Has Settings | True |
Highlights 2012 | -43 |
Hue Adjustment Aqua | 0 |
Hue Adjustment Blue | 0 |
Hue Adjustment Green | 0 |
Hue Adjustment Magenta | 0 |
Hue Adjustment Orange | 0 |
Hue Adjustment Purple | 0 |
Hue Adjustment Red | 0 |
Hue Adjustment Yellow | 0 |
Hyperfocal Distance | 14.98 m |
ICC Profile Name | sRGB IEC61966-2.1 |
ISO | 50 |
Image Size | 2001x3000 |
Lateral Chromatic Aberration Correction Already Applied | True |
Lens | FE 90mm F2.8 Macro G OSS |
Lens Distort Info | 32836/32768 -6091743/1073741824 -4423424/1073741824 934331/1073741824 |
Lens Info | 90mm f/2.8 |
Lens Manual Distortion Amount | 0 |
Lens Model | FE 90mm F2.8 Macro G OSS |
Lens Profile Enable | 0 |
Lens Profile Setup | LensDefaults |
Light Source | Unknown |
Light Value | 11.3 |
Luminance Adjustment Aqua | 0 |
Luminance Adjustment Blue | 0 |
Luminance Adjustment Green | 0 |
Luminance Adjustment Magenta | 0 |
Luminance Adjustment Orange | 0 |
Luminance Adjustment Purple | 0 |
Luminance Adjustment Red | 0 |
Luminance Adjustment Yellow | 0 |
Luminance Smoothing | 0 |
Metering Mode | Center-weighted average |
Parametric Darks | 0 |
Parametric Highlight Split | 75 |
Parametric Highlights | 0 |
Parametric Lights | 0 |
Parametric Midtone Split | 50 |
Parametric Shadow Split | 25 |
Parametric Shadows | 0 |
Perspective Aspect | 0 |
Perspective Horizontal | 0 |
Perspective Rotate | 0.0 |
Perspective Scale | 100 |
Perspective Upright | 0 |
Perspective Vertical | 0 |
Photometric Interpretation | RGB |
Planar Configuration | Chunky |
Post Crop Vignette Amount | 0 |
Process Version | 6.7 |
Rating | 0 |
Raw File Name | 20200715_2927.dng |
Recommended Exposure Index | 50 |
Red Hue | 0 |
Red Saturation | 0 |
Rights | Jim Fowler |
Samples Per Pixel | 3 |
Saturation | Normal |
Saturation Adjustment Aqua | 0 |
Saturation Adjustment Blue | 0 |
Saturation Adjustment Green | 0 |
Saturation Adjustment Magenta | 0 |
Saturation Adjustment Orange | 0 |
Saturation Adjustment Purple | 0 |
Saturation Adjustment Red | 0 |
Saturation Adjustment Yellow | 0 |
Scale Factor To 35 mm Equivalent | 1.0 |
Scene Capture Type | Standard |
Scene Type | Directly photographed |
Sensitivity Type | Recommended Exposure Index |
Shadow Tint | 0 |
Shadows 2012 | 0 |
Sharpen Detail | 25 |
Sharpen Edge Masking | 0 |
Sharpen Radius | +1.0 |
Sharpness | Normal |
Split Toning Balance | 0 |
Split Toning Highlight Hue | 0 |
Split Toning Highlight Saturation | 0 |
Split Toning Shadow Hue | 0 |
Split Toning Shadow Saturation | 0 |
Tint | +2 |
Tone Curve | 0, 0, 32, 22, 64, 56, 128, 128, 192, 196, 255, 255 |
Tone Curve Blue | 0, 0, 255, 255 |
Tone Curve Green | 0, 0, 255, 255 |
Tone Curve Name | Medium Contrast |
Tone Curve Name 2012 | Linear |
Tone Curve PV2012 | 0, 0, 255, 255 |
Tone Curve PV2012 Blue | 0, 0, 255, 255 |
Tone Curve PV2012 Green | 0, 0, 255, 255 |
Tone Curve PV2012 Red | 0, 0, 255, 255 |
Tone Curve Red | 0, 0, 255, 255 |
Tone Map Strength | 0 |
Version | 9.1.1 |
Vibrance | +50 |
Vignette Amount | 0 |
White Balance | Auto |
Whites 2012 | 0 |