Shooting information for this photo
Camera: | OLYMPUS IMAGING CORP. E-5 |
Exposure: | 0.03333 sec. (1/30) |
Aperture: | f/11.0 |
Focal Length: | 76.0 mm (35 mm equivalent: 152.0 mm) |
Flash: | On, Did not fire |
Exposure mode: | Aperture-priority AE |
Max Aperture: | 2.8 |
Resolution: | 300 x 300 dpi |
Dimension: | 1200 x 1600 pixels |
Original Date: | 2017:05:04 14:27:35 |
Created on: | 2017:05:04 14:27:35 |
Modified on: | 2017:05:04 15:24:09 |
Software: | Adobe Photoshop CS6 (Windows) |
Copyright: | JIM FOWLER |
Already Applied | True |
Approximate Focus Distance | 1.48 |
Artist | JIM FOWLER |
Auto Lateral CA | 0 |
Auto White Version | 134348800 |
Blacks 2012 | 0 |
Blue Hue | 0 |
Blue Saturation | 0 |
CFA Pattern | [Blue,Green][Green,Red] |
Camera Profile | Adobe Standard |
Circle Of Confusion | 0.015 mm |
Clarity 2012 | +63 |
Color Mode | RGB |
Color Noise Reduction | 25 |
Color Noise Reduction Detail | 50 |
Color Noise Reduction Smoothness | 50 |
Color Space | sRGB |
Color Temperature | 6650 |
Contrast | Normal |
Contrast 2012 | 0 |
Convert To Grayscale | False |
Creator | JIM FOWLER |
Custom Rendered | Normal |
Date Created | 2017:05:04 14:27:35 |
Defringe Green Amount | 0 |
Defringe Green Hue Hi | 60 |
Defringe Green Hue Lo | 40 |
Defringe Purple Amount | 0 |
Defringe Purple Hue Hi | 70 |
Defringe Purple Hue Lo | 30 |
Dehaze | 0 |
Description | OLYMPUS DIGITAL CAMERA |
Digital Zoom Ratio | 1 |
Exposure 2012 | -0.65 |
Exposure Compensation | 0 |
Exposure Mode | Auto |
Field Of View | 13.5 deg |
Flash Compensation | 0 |
Focal Length In 35mm Format | 152 mm |
Format | image/jpeg |
Gain Control | None |
Grain Amount | 0 |
Green Hue | 0 |
Green Saturation | 0 |
Has Crop | False |
Has Settings | True |
Highlights 2012 | -18 |
Hue Adjustment Aqua | 0 |
Hue Adjustment Blue | 0 |
Hue Adjustment Green | 0 |
Hue Adjustment Magenta | 0 |
Hue Adjustment Orange | 0 |
Hue Adjustment Purple | 0 |
Hue Adjustment Red | 0 |
Hue Adjustment Yellow | 0 |
Hyperfocal Distance | 34.95 m |
ICC Profile Name | sRGB IEC61966-2.1 |
ISO | 100 |
Image Description | OLYMPUS DIGITAL CAMERA |
Image Size | 1200x1600 |
Lens | OLYMPUS 50-200mm Lens |
Lens Info | 50-200mm f/2.8-3.5 |
Lens Manual Distortion Amount | 0 |
Lens Model | OLYMPUS 50-200mm Lens |
Lens Profile Enable | 0 |
Lens Profile Setup | LensDefaults |
Light Source | Unknown |
Light Value | 11.8 |
Luminance Adjustment Aqua | 0 |
Luminance Adjustment Blue | 0 |
Luminance Adjustment Green | 0 |
Luminance Adjustment Magenta | 0 |
Luminance Adjustment Orange | 0 |
Luminance Adjustment Purple | 0 |
Luminance Adjustment Red | 0 |
Luminance Adjustment Yellow | 0 |
Luminance Smoothing | 0 |
Metering Mode | Center-weighted average |
Parametric Darks | 0 |
Parametric Highlight Split | 75 |
Parametric Highlights | 0 |
Parametric Lights | 0 |
Parametric Midtone Split | 50 |
Parametric Shadow Split | 25 |
Parametric Shadows | 0 |
Perspective Aspect | 0 |
Perspective Horizontal | 0 |
Perspective Rotate | 0.0 |
Perspective Scale | 100 |
Perspective Upright | 0 |
Perspective Vertical | 0 |
Photometric Interpretation | RGB |
Planar Configuration | Chunky |
Post Crop Vignette Amount | 0 |
Process Version | 6.7 |
Rating | 0 |
Raw File Name | P5042026.ORF |
Red Hue | 0 |
Red Saturation | 0 |
Rights | JIM FOWLER |
Samples Per Pixel | 3 |
Saturation | Normal |
Saturation Adjustment Aqua | 0 |
Saturation Adjustment Blue | 0 |
Saturation Adjustment Green | 0 |
Saturation Adjustment Magenta | 0 |
Saturation Adjustment Orange | 0 |
Saturation Adjustment Purple | 0 |
Saturation Adjustment Red | 0 |
Saturation Adjustment Yellow | 0 |
Scale Factor To 35 mm Equivalent | 2.0 |
Scene Capture Type | Standard |
Shadow Tint | 0 |
Shadows 2012 | +38 |
Sharpen Detail | 25 |
Sharpen Edge Masking | 0 |
Sharpen Radius | +1.0 |
Sharpness | Normal |
Split Toning Balance | 0 |
Split Toning Highlight Hue | 0 |
Split Toning Highlight Saturation | 0 |
Split Toning Shadow Hue | 0 |
Split Toning Shadow Saturation | 0 |
Tint | +12 |
Tone Curve | 0, 0, 32, 22, 64, 56, 128, 128, 192, 196, 255, 255 |
Tone Curve Blue | 0, 0, 255, 255 |
Tone Curve Green | 0, 0, 255, 255 |
Tone Curve Name | Medium Contrast |
Tone Curve Name 2012 | Linear |
Tone Curve PV2012 | 0, 0, 255, 255 |
Tone Curve PV2012 Blue | 0, 0, 255, 255 |
Tone Curve PV2012 Green | 0, 0, 255, 255 |
Tone Curve PV2012 Red | 0, 0, 255, 255 |
Tone Curve Red | 0, 0, 255, 255 |
Tone Map Strength | 0 |
Version | 9.1.1 |
Vibrance | +5 |
Vignette Amount | 0 |
White Balance | Auto |
Whites 2012 | 0 |